BEGIN:VCALENDAR
VERSION:2.0
PRODID:-//Nellie&#039;s Sports Bar - ECPv6.15.20//NONSGML v1.0//EN
CALSCALE:GREGORIAN
METHOD:PUBLISH
X-WR-CALNAME:Nellie&#039;s Sports Bar
X-ORIGINAL-URL:https://www.nelliessportsbar.com
X-WR-CALDESC:Events for Nellie&#039;s Sports Bar
REFRESH-INTERVAL;VALUE=DURATION:PT1H
X-Robots-Tag:noindex
X-PUBLISHED-TTL:PT1H
BEGIN:VTIMEZONE
TZID:America/New_York
BEGIN:DAYLIGHT
TZOFFSETFROM:-0500
TZOFFSETTO:-0400
TZNAME:EDT
DTSTART:20220313T070000
END:DAYLIGHT
BEGIN:STANDARD
TZOFFSETFROM:-0400
TZOFFSETTO:-0500
TZNAME:EST
DTSTART:20221106T060000
END:STANDARD
BEGIN:DAYLIGHT
TZOFFSETFROM:-0500
TZOFFSETTO:-0400
TZNAME:EDT
DTSTART:20230312T070000
END:DAYLIGHT
BEGIN:STANDARD
TZOFFSETFROM:-0400
TZOFFSETTO:-0500
TZNAME:EST
DTSTART:20231105T060000
END:STANDARD
BEGIN:DAYLIGHT
TZOFFSETFROM:-0500
TZOFFSETTO:-0400
TZNAME:EDT
DTSTART:20240310T070000
END:DAYLIGHT
BEGIN:STANDARD
TZOFFSETFROM:-0400
TZOFFSETTO:-0500
TZNAME:EST
DTSTART:20241103T060000
END:STANDARD
BEGIN:DAYLIGHT
TZOFFSETFROM:-0500
TZOFFSETTO:-0400
TZNAME:EDT
DTSTART:20250309T070000
END:DAYLIGHT
BEGIN:STANDARD
TZOFFSETFROM:-0400
TZOFFSETTO:-0500
TZNAME:EST
DTSTART:20251102T060000
END:STANDARD
END:VTIMEZONE
BEGIN:VEVENT
DTSTART;VALUE=DATE:20240126
DTEND;VALUE=DATE:20240128
DTSTAMP:20260425T122112
CREATED:20240126T154302Z
LAST-MODIFIED:20240126T154302Z
UID:14436-1706238000-1706324399@www.nelliessportsbar.com
SUMMARY:18th Anniversary Party
DESCRIPTION:Come and join us tonight as we commemorate the 18th anniversary of Nellie’s sports bar! For the first time ever\, we will have two DJs performing on two separate floors. DJ @djzyon will be on the first floor\, while DJ @djhoney215 will be on the rooftop\, and we’ll have five bars open. We highly recommend arriving early as Xavier Ent is hosting this event\, and you can expect guests from all over the East Coast. Secure your complimentary ticket now and we’ll see you at @nelliessportsbar!
URL:https://www.nelliessportsbar.com/event/18th-anniversary-party/
ATTACH;FMTTYPE=image/jpeg:https://cdn.nelliessportsbar.com/2024/01/SSOM-ATL-2024-copy.jpeg
END:VEVENT
BEGIN:VEVENT
DTSTART;VALUE=DATE:20240125
DTEND;VALUE=DATE:20240127
DTSTAMP:20260425T122112
CREATED:20240110T184752Z
LAST-MODIFIED:20240110T184752Z
UID:14399-1706151600-1706237999@www.nelliessportsbar.com
SUMMARY:Irish Coffee Day
DESCRIPTION:🍀☕ Join us for National Irish Coffee Day on January 25 at Nellie’s! Indulge in $8 Irish Coffees all day\, and don’t forget to explore the warmth of our entire hot cocktail menu. It’s a celebration of cozy sips and winter delights! 🌟💚
URL:https://www.nelliessportsbar.com/event/irish-coffee-day/
ATTACH;FMTTYPE=image/jpeg:https://cdn.nelliessportsbar.com/2024/01/Irish-Coffee-Day_16x9.jpg
END:VEVENT
BEGIN:VEVENT
DTSTART;VALUE=DATE:20240113
DTEND;VALUE=DATE:20240116
DTSTAMP:20260425T122112
CREATED:20240110T184133Z
LAST-MODIFIED:20240110T184133Z
UID:14388-1705114800-1705287599@www.nelliessportsbar.com
SUMMARY:MLK Weekend Drag Brunch
DESCRIPTION:🎉🥂 This MLK weekend\, step into a world of glam and glitz at Nellie’s Drag Brunch Shows on January 13 and 14\, 11 am and 1 pm! Feast on an indulgent All-You-Can-Eat Brunch Buffet\, get dazzled by the enchanting Sapphire Blue and our fabulous drag performers\, and enjoy your first Mimosa or Zing Zang Bloody Mary for FREE! Limited spots available\, so secure your tickets now. 🌈🍾  Grab tickets HERE!
URL:https://www.nelliessportsbar.com/event/mlk-weekend-drag-brunch-2/
ATTACH;FMTTYPE=image/jpeg:https://cdn.nelliessportsbar.com/2024/01/Drag-Brunch-Main-MLK-16x9-1.jpg
END:VEVENT
BEGIN:VEVENT
DTSTART;VALUE=DATE:20231231
DTEND;VALUE=DATE:20240102
DTSTAMP:20260425T122112
CREATED:20231129T191316Z
LAST-MODIFIED:20231129T191316Z
UID:14317-1703991600-1704077999@www.nelliessportsbar.com
SUMMARY:New Year's Eve Bash
DESCRIPTION:🥳 Say goodbye to 2023 and hello to 2024 at Nellie’s New Year’s Bash on December 31st! 🌟 Enjoy a complimentary champagne toast at midnight and dance into the new year with DJs starting at 10pm. It’s a night of celebration\, joy\, and the perfect way to welcome a fresh start. Let’s make it a night to remember.🍾🎉
URL:https://www.nelliessportsbar.com/event/new-years-eve-bash-2/
ATTACH;FMTTYPE=image/gif:https://cdn.nelliessportsbar.com/2023/11/New-Years-Eve_16x9.gif
END:VEVENT
BEGIN:VEVENT
DTSTART;VALUE=DATE:20231230
DTEND;VALUE=DATE:20240102
DTSTAMP:20260425T122112
CREATED:20231129T191548Z
LAST-MODIFIED:20231129T191548Z
UID:14320-1703905200-1704077999@www.nelliessportsbar.com
SUMMARY:New Year's Drag Brunch
DESCRIPTION: 🎉✨ Ring in the New Year with glamour at Nellie’s Special NYE Drag Brunches on December 30 and 31\, 11 am and 1 pm! Indulge in an All-You-Can-Eat Brunch Buffet\, while being dazzled by Sapphire Blue and our fabulous drag performers. Reminder\, last change to use code NEL15 for 15% off on Eventbrite and relish your first Mimosa or Zing Zang Bloody Mary for FREE! Limited spots\, so secure your tickets for a dazzling New Year’s celebration. 🍾🌈 Grab your tickets here.
URL:https://www.nelliessportsbar.com/event/new-years-drag-brunch/
ATTACH;FMTTYPE=image/jpeg:https://cdn.nelliessportsbar.com/2023/11/New_Years_DB_Eventbrite.jpg
END:VEVENT
BEGIN:VEVENT
DTSTART;VALUE=DATE:20231224
DTEND;VALUE=DATE:20231227
DTSTAMP:20260425T122112
CREATED:20231129T191207Z
LAST-MODIFIED:20231129T191207Z
UID:14314-1703386800-1703559599@www.nelliessportsbar.com
SUMMARY:Nellie's Holiday Hours
DESCRIPTION:🎄🌈 Happy Holidays\, lovelies! 🎉 Let the festive vibes take over. 🥳 We’re open starting at 10:30am on December 24th to kick things off with a jolly Christmas Eve Drag Brunch. And remember\, we’ll be closed on Christmas Day. May your holidays be merry\, bright\, and filled with Nellie’s magic! 🍾🌟 
URL:https://www.nelliessportsbar.com/event/nellies-holiday-hours/
ATTACH;FMTTYPE=image/gif:https://cdn.nelliessportsbar.com/2023/11/Happy-Holidays_16x9.gif
END:VEVENT
BEGIN:VEVENT
DTSTART;VALUE=DATE:20231223
DTEND;VALUE=DATE:20231226
DTSTAMP:20260425T122112
CREATED:20231129T191726Z
LAST-MODIFIED:20231129T191726Z
UID:14323-1703300400-1703473199@www.nelliessportsbar.com
SUMMARY:Christmas Drag Brunch
DESCRIPTION:🌟🎁 Unwrap the magic of Christmas at Nellie’s Special Christmas Drag Brunch on December 23 and 24 at 11am and 1pm! Enjoy an All-You-Can-Eat Brunch Buffet\, be entertained by Sapphire Blue and our sensational drag performers. Use code NEL15 for 15% off on Eventbrite and kick off the celebration with a complimentary Mimosa or Zing Zang Bloody Mary! Limited availability\, so secure your tickets for a festive weekend. 🎅Grab your tickets here.
URL:https://www.nelliessportsbar.com/event/christmas-drag-brunch-2/
ATTACH;FMTTYPE=image/jpeg:https://cdn.nelliessportsbar.com/2023/11/Christmas_DB_Eventbrite.jpg
END:VEVENT
BEGIN:VEVENT
DTSTART;VALUE=DATE:20231209
DTEND;VALUE=DATE:20231211
DTSTAMP:20260425T122112
CREATED:20231129T190733Z
LAST-MODIFIED:20231129T190733Z
UID:14298-1702090800-1702177199@www.nelliessportsbar.com
SUMMARY:Ugly Sweater Party!
DESCRIPTION:🍹🎄 Ugly has never looked so good! Join us on December 9th for Nellie’s Ugly Sweater Party starting at 9pm. Savor $6 cocktails until 11pm as we turn the night into a festive fashion extravaganza. Your ugliest sweater might just win you the spotlight! 🌟
URL:https://www.nelliessportsbar.com/event/ugly-sweater-party-2/
ATTACH;FMTTYPE=image/jpeg:https://cdn.nelliessportsbar.com/2023/11/Ugly-Sweater-Party_16x9.jpg
END:VEVENT
BEGIN:VEVENT
DTSTART;VALUE=DATE:20231125
DTEND;VALUE=DATE:20231128
DTSTAMP:20260425T122112
CREATED:20231105T181805Z
LAST-MODIFIED:20231105T181805Z
UID:14133-1700881200-1701053999@www.nelliessportsbar.com
SUMMARY:Thanksgiving Weekend Drag Brunch
DESCRIPTION:🦃🌈 Gobble up the fun at our Thanksgiving Drag Brunch on November 25th and 26th! 🍂 Join us for a delectable All-You-Can-Eat Brunch Buffet and a mesmerizing show featuring Sapphire Blue and our incredible drag performers. You can get 15% off your ticket when you use checkout code NEL15 on Eventbrite. Your first Mimosa or Zing Zang Bloody Mary is FREE! It’s a weekend to give thanks and celebrate in style. Limited availability\, so secure your tickets today! Grab your tickets HERE! 
URL:https://www.nelliessportsbar.com/event/thanksgiving-weekend-drag-brunch/
ATTACH;FMTTYPE=image/jpeg:https://cdn.nelliessportsbar.com/2023/11/Thanksgiving_DB_16x9.jpg
END:VEVENT
BEGIN:VEVENT
DTSTART;VALUE=DATE:20231114
DTEND;VALUE=DATE:20231116
DTSTAMP:20260425T122112
CREATED:20231105T181604Z
LAST-MODIFIED:20231105T181604Z
UID:14131-1699930800-1700017199@www.nelliessportsbar.com
SUMMARY:ESA Fundraiser - Drag Bingo
DESCRIPTION:Get ready for a fabulous evening of Drag Bingo on November 14th at 7pm! 🌟🏳️‍🌈 Our dazzling drag performers are all set to entertain you with laughter\, glamour\, and excitement! 🎉🎭 But that’s not all – this month’s Drag Bingo is a special one! We’re hosting an ESA fundraiser\, so be sure to stop by!
URL:https://www.nelliessportsbar.com/event/esa-fundraiser-drag-bingo/
ATTACH;FMTTYPE=image/jpeg:https://cdn.nelliessportsbar.com/2023/11/ESA_Fundraiser_16x9.jpg
END:VEVENT
BEGIN:VEVENT
DTSTART;VALUE=DATE:20231111
DTEND;VALUE=DATE:20231114
DTSTAMP:20260425T122112
CREATED:20231105T181447Z
LAST-MODIFIED:20231105T181447Z
UID:14129-1699671600-1699844399@www.nelliessportsbar.com
SUMMARY:Veteran's Day Weekend Drag Brunch
DESCRIPTION: 🌈🇺🇸 Veterans Day weekend is going to be fabulous! Join us on November 11th and 12th for our special Drag Brunch. 🎶 Savor the delectable All-You-Can-Eat Brunch Buffet and experience the mesmerizing show featuring Sapphire Blue and our incredible drag performers. Did we mention that your first Mimosa or Zing Zang Bloody Mary is FREE!? Don’t forget that you can get 15% off your ticket when you use checkout code NEL15 on Eventbrite. Limited availability\, so secure your tickets today to make it memorable! Grab your tickets HERE!
URL:https://www.nelliessportsbar.com/event/veterans-day-weekend-drag-brunch/
ATTACH;FMTTYPE=image/jpeg:https://cdn.nelliessportsbar.com/2023/11/Veterans_Day_DB_16x9.jpg
END:VEVENT
BEGIN:VEVENT
DTSTART;VALUE=DATE:20231111
DTEND;VALUE=DATE:20231113
DTSTAMP:20260425T122112
CREATED:20231105T181301Z
LAST-MODIFIED:20231105T181301Z
UID:14126-1699671600-1699757999@www.nelliessportsbar.com
SUMMARY:Veteran's Day
DESCRIPTION:On Veterans Day\, we’re honored to serve those who have served. Veterans eat FREE at Nellie’s! 🎉 It’s our way of saying thank you for your service. Join us on November 11th and let us treat you to a delicious meal. Just bring in a current or expired military ID for a complimentary appetizer or entree. #VeteransDay #HonoringHeroes
URL:https://www.nelliessportsbar.com/event/veterans-day/
ATTACH;FMTTYPE=image/jpeg:https://cdn.nelliessportsbar.com/2023/11/Veterans-Day_16x9.jpg
END:VEVENT
BEGIN:VEVENT
DTSTART;VALUE=DATE:20231028
DTEND;VALUE=DATE:20231030
DTSTAMP:20260425T122112
CREATED:20230927T175004Z
LAST-MODIFIED:20230927T175004Z
UID:14031-1698462000-1698548399@www.nelliessportsbar.com
SUMMARY:Disco of Dread - Halloween Party
DESCRIPTION:🎃👻 Unleash your inner disco ghoul at Nellie’s Disco of Dread Halloween Party! 🌟 Join us on Saturday\, October 28th\, for a night of thrills\, chills\, and dance floor spills. Show off your hauntingly creative costume for a chance to win $300 cash or gift card prizes. DJ kicks off the beats at 10pm\, and we’ve got $6 house cocktails until 11pm. Don’t miss this wickedly good time!
URL:https://www.nelliessportsbar.com/event/disco-of-dread-halloween-party/
ATTACH;FMTTYPE=image/jpeg:https://cdn.nelliessportsbar.com/2023/09/Halloween-2023_16x9-Copy.jpg
END:VEVENT
BEGIN:VEVENT
DTSTART;VALUE=DATE:20231028
DTEND;VALUE=DATE:20231031
DTSTAMP:20260425T122112
CREATED:20230927T174855Z
LAST-MODIFIED:20230927T174855Z
UID:14029-1698462000-1698634799@www.nelliessportsbar.com
SUMMARY:Halloween Drag Brunch
DESCRIPTION:🧙‍♀️🍾 Prepare for a bewitching brunch experience at Nellie’s this Halloween! 🌟 Join us on October 28th and 29th for a Drag Brunch extravaganza featuring Sapphire Blue and our spellbinding drag artists. Sip on mimosas and feast on a hauntingly delicious All-You-Can-Eat Brunch Buffet. Don’t wait – secure your tickets for a spooktacular time! Tickets HERE!
URL:https://www.nelliessportsbar.com/event/halloween-drag-brunch-3/
ATTACH;FMTTYPE=image/jpeg:https://cdn.nelliessportsbar.com/2023/09/Halloween-Drag-Brunch_16x9-Copy.jpg
END:VEVENT
BEGIN:VEVENT
DTSTART;VALUE=DATE:20231003
DTEND;VALUE=DATE:20231006
DTSTAMP:20260425T122112
CREATED:20230927T174253Z
LAST-MODIFIED:20230927T174253Z
UID:14017-1696302000-1696474799@www.nelliessportsbar.com
SUMMARY:Kim Petras Week
DESCRIPTION:🎤 It’s “Kim Petras Week” at Nellie’s! 🎟️ Join us for a chance to win tickets to her Anthem concert on 10/12. We’re giving away pairs of tickets at Drag Bingo on 10/3 and Out of Bounds Trivia on 10/4 as well records singed by Kim Petras herself!  Don’t miss your opportunity to see Kim Petras live! 🎶
URL:https://www.nelliessportsbar.com/event/kim-petras-week/
ATTACH;FMTTYPE=image/jpeg:https://cdn.nelliessportsbar.com/2023/09/Kim-Petras-week-copy-Copy.jpg
END:VEVENT
BEGIN:VEVENT
DTSTART;VALUE=DATE:20231003
DTEND;VALUE=DATE:20231005
DTSTAMP:20260425T122112
CREATED:20230726T234246Z
LAST-MODIFIED:20230927T175118Z
UID:13918-1696302000-1696388399@www.nelliessportsbar.com
SUMMARY:District Dogs Bingo Event
DESCRIPTION:🐾🎉 Join us for a fabulous evening of Drag Bingo on October 3rd at 7pm! 🌈🎊 It will also be a chance to learn about the local business\, District Dogs. Get ready for dazzling fun and exciting prizes. 🎉 Come out\, learn about District Dogs\, and let’s raise the woof together! 🐾
URL:https://www.nelliessportsbar.com/event/district-dogs-fundraiser/
ATTACH;FMTTYPE=image/jpeg:https://cdn.nelliessportsbar.com/2023/09/District_Dogs_Oct_16x9-1.jpg
END:VEVENT
BEGIN:VEVENT
DTSTART;VALUE=DATE:20230926
DTEND;VALUE=DATE:20230928
DTSTAMP:20260425T122112
CREATED:20230904T173224Z
LAST-MODIFIED:20230904T173651Z
UID:13975-1695697200-1695783599@www.nelliessportsbar.com
SUMMARY:JETAADC Drag Bingo Fundraiser
DESCRIPTION:🎉🌈 Get ready to shout “BINGO” for an amazing cause at Nellie’s! 🎶 Join us on September 26th at 7pm for a Drag Bingo extravaganza\, featuring the dazzling talents of Sapphire Blue and Deja Diamond. It’s more than just a game – it’s a night of entertainment and fundraising for JETAADC that you won’t want to miss! Let’s gather and make a difference together.
URL:https://www.nelliessportsbar.com/event/jetaadc-drag-bingo-fundraiser/
ATTACH;FMTTYPE=image/jpeg:https://cdn.nelliessportsbar.com/2023/09/delete.jpg
END:VEVENT
BEGIN:VEVENT
DTSTART;VALUE=DATE:20230922
DTEND;VALUE=DATE:20230924
DTSTAMP:20260425T122112
CREATED:20230921T153205Z
LAST-MODIFIED:20230921T153205Z
UID:14002-1695351600-1695437999@www.nelliessportsbar.com
SUMMARY:DCGFFL Happy Hour
DESCRIPTION:Come 0ut and celebrate 25 amazing seasons of DCGFFL!
URL:https://www.nelliessportsbar.com/event/dcgffl-happy-hour/
ATTACH;FMTTYPE=image/jpeg:https://cdn.nelliessportsbar.com/2023/09/DCGFFL-Happy-Hour_16x9.jpg
END:VEVENT
BEGIN:VEVENT
DTSTART;VALUE=DATE:20230920
DTEND;VALUE=DATE:20230922
DTSTAMP:20260425T122112
CREATED:20230917T161627Z
LAST-MODIFIED:20230917T161627Z
UID:13997-1695178800-1695265199@www.nelliessportsbar.com
SUMMARY:Scavenger Quest Trivia
DESCRIPTION:Get ready for an exciting evening at Nellie’s Sports Bar on September 20th\, featuring a Special Edition of Out of Bounds Trivia! Join us for the chance to win exclusive prizes\, including Scavenger Quest 2023 tickets up for auction\, and enjoy a 15% discount on Scavenger Quest 2023 tickets. Quench your thirst with $15 Bud Light or Miller Lite specials as you test your knowledge and have a blast with friends. It’s a night of trivia\, thrilling prizes\, and great deals you won’t want to miss—see you there!
URL:https://www.nelliessportsbar.com/event/scavenger-quest-trivia/
ATTACH;FMTTYPE=image/jpeg:https://cdn.nelliessportsbar.com/2023/09/Trivia-Event_16x9.jpg
END:VEVENT
BEGIN:VEVENT
DTSTART;VALUE=DATE:20230828
DTEND;VALUE=DATE:20230912
DTSTAMP:20260425T122112
CREATED:20230726T234935Z
LAST-MODIFIED:20230726T234935Z
UID:13928-1693191600-1694401199@www.nelliessportsbar.com
SUMMARY:U.S. Open
DESCRIPTION:🍻🎾 Calling all tennis enthusiasts! The US Open is here\, and the place to be is Nellie’s Sports Bar from August 28 to September 10! 📺🎾 Enjoy the thrill of every match on our screens while sipping on drink specials! 🍹🍻 Bring your friends\, bring your game face\, and let’s make it a smashing US Open experience together! 🎉🏆
URL:https://www.nelliessportsbar.com/event/u-s-open/
ATTACH;FMTTYPE=image/jpeg:https://cdn.nelliessportsbar.com/2023/07/US-Open_16x9.jpg
END:VEVENT
BEGIN:VEVENT
DTSTART;VALUE=DATE:20230826
DTEND;VALUE=DATE:20230828
DTSTAMP:20260425T122112
CREATED:20230726T234801Z
LAST-MODIFIED:20230726T234801Z
UID:13926-1693018800-1693105199@www.nelliessportsbar.com
SUMMARY:Beat the Heat Party
DESCRIPTION:🌞🎉 Beat the Heat at Nellie’s Sports Bar! 🎊🏖️ Join us for the ultimate summer bash on Saturday\, Aug. 26th\, starting at 5pm! 🍹🎶 Sip on our refreshing $10 Malibu Bay Breezes – the perfect blend of Malibu\, pineapple\, and cranberry! 🍍🍹 See you there! 🥳
URL:https://www.nelliessportsbar.com/event/beat-the-heat-party-2/
ATTACH;FMTTYPE=image/jpeg:https://cdn.nelliessportsbar.com/2023/07/Beat-the-Heat_16x9.jpg
END:VEVENT
BEGIN:VEVENT
DTSTART;VALUE=DATE:20230816
DTEND;VALUE=DATE:20230818
DTSTAMP:20260425T122112
CREATED:20230726T234710Z
LAST-MODIFIED:20230726T234710Z
UID:13924-1692154800-1692241199@www.nelliessportsbar.com
SUMMARY:National Rum Day
DESCRIPTION:🍹🎉 Cheers to National Rum Day on August 16th! 🥳🍹 Join the celebration with our special $10 Nellie’s Daiquiris all day long. Cheers!
URL:https://www.nelliessportsbar.com/event/national-rum-day/
ATTACH;FMTTYPE=image/jpeg:https://cdn.nelliessportsbar.com/2023/07/National-Rum-Day-_16x9.jpg
END:VEVENT
BEGIN:VEVENT
DTSTART;VALUE=DATE:20230815
DTEND;VALUE=DATE:20230817
DTSTAMP:20260425T122112
CREATED:20230726T234452Z
LAST-MODIFIED:20230726T234606Z
UID:13922-1692068400-1692154799@www.nelliessportsbar.com
SUMMARY:DC Children's Heart Walk Fundraiser
DESCRIPTION:Get ready for a fabulous evening of Drag Bingo on August 15th at 7pm! 🌟🏳️‍🌈 Our dazzling drag performers are all set to entertain you with laughter\, glamour\, and excitement! 🎉🎭 But that’s not all – this month’s Drag Bingo is a special one! We’re hosting a heartfelt fundraiser and sign-up event for DC Children’s Heart Walk\, supporting little warriors and their families in their journey towards healthier hearts! ❤️ You can sign up for the walk here.
URL:https://www.nelliessportsbar.com/event/dc-childrens-heart-walk-fundraiser/
ATTACH;FMTTYPE=image/jpeg:https://cdn.nelliessportsbar.com/2023/07/Childrens-Heart-Walk_16x9-1.jpg
END:VEVENT
BEGIN:VEVENT
DTSTART;VALUE=DATE:20230806
DTEND;VALUE=DATE:20230808
DTSTAMP:20260425T122112
CREATED:20230726T234131Z
LAST-MODIFIED:20230726T234131Z
UID:13910-1691290800-1691377199@www.nelliessportsbar.com
SUMMARY:Ladies First
DESCRIPTION:🌈🎧 Ladies\, get ready to own the dance floor at Ladies First! 🎉🎶 Join DJ Honey on August 6 for the ultimate lesbian night out on Nellie’s rooftop! 🏳️‍🌈🍹 Starting at 4pm\, our sensational lineup of lesbian DJs will bring the beats and energy like never before! 🎵🕺 Let’s celebrate love\, unity\, and good times together! ❤️🏳️‍🌈
URL:https://www.nelliessportsbar.com/event/ladies-first-3/
ATTACH;FMTTYPE=image/jpeg:https://cdn.nelliessportsbar.com/2023/07/Ladies-First-August_16x9.jpg
END:VEVENT
BEGIN:VEVENT
DTSTART;VALUE=DATE:20230729
DTEND;VALUE=DATE:20230731
DTSTAMP:20260425T122112
CREATED:20230628T173222Z
LAST-MODIFIED:20230628T173222Z
UID:13850-1690599600-1690685999@www.nelliessportsbar.com
SUMMARY:Pool-less Pool Party!
DESCRIPTION:Who needs a pool when you’ve got beach balls and slushies? Join us at our Pool-less Pool Party on July 29 for a splashing good time without the hassle of swimming! Dive into fun and even bring your floaties if you want! See you at Nellie’s! 🏊🏻
URL:https://www.nelliessportsbar.com/event/pool-less-pool-party-3/
ATTACH;FMTTYPE=image/jpeg:https://cdn.nelliessportsbar.com/2023/06/Pool-Less-Pool-Party_16x9.jpg
END:VEVENT
BEGIN:VEVENT
DTSTART;VALUE=DATE:20230724
DTEND;VALUE=DATE:20230726
DTSTAMP:20260425T122112
CREATED:20230628T172554Z
LAST-MODIFIED:20230628T172554Z
UID:13846-1690167600-1690253999@www.nelliessportsbar.com
SUMMARY:National Tequila Day
DESCRIPTION:Get ready to raise a glass and celebrate National Tequila Day at Nellie’s on July 24th! Indulge in the spirited festivities as we showcase an impressive selection of tequilas including Patrón\, Espolòn\, Don Julio\, Milagro\, and Altos. Quench your thirst with our refreshing frozen margaritas or take a shot of tequila straight up!
URL:https://www.nelliessportsbar.com/event/national-tequila-day/
ATTACH;FMTTYPE=image/jpeg:https://cdn.nelliessportsbar.com/2023/06/National-Tequila-Day_16x9-1.jpg
END:VEVENT
BEGIN:VEVENT
DTSTART;VALUE=DATE:20230704
DTEND;VALUE=DATE:20230706
DTSTAMP:20260425T122112
CREATED:20230628T171917Z
LAST-MODIFIED:20230628T171917Z
UID:13830-1688439600-1688525999@www.nelliessportsbar.com
SUMMARY:July 4th Bash
DESCRIPTION:Gear up for an explosive 4th of July celebration at Nellie’s! We’re cranking up the heat with scorching tunes\, while our ice-cold slushies and frosty beers keep you cool. Join us for an unforgettable Independence Day bash!
URL:https://www.nelliessportsbar.com/event/july-4th-bash/
ATTACH;FMTTYPE=image/jpeg:https://cdn.nelliessportsbar.com/2023/06/Independence-Day-2023_16x9.jpg
END:VEVENT
BEGIN:VEVENT
DTSTART;VALUE=DATE:20230622
DTEND;VALUE=DATE:20230624
DTSTAMP:20260425T122112
CREATED:20230530T213848Z
LAST-MODIFIED:20230530T213848Z
UID:13786-1687402800-1687489199@www.nelliessportsbar.com
SUMMARY:National Onion Ring Day
DESCRIPTION:🌟 Get ready to ring in National Onion Ring Day at Nellie’s Sports Bar on June 22! Treat yourself to the ultimate onion ring experience with our $8 baskets of crispy\, golden perfection. Whether you prefer to dip\, dunk\, or savor them as is\, our onion rings are sure to satisfy your cravings. Gather your friends and join us for a mouthwatering celebration of this delicious occasion.
URL:https://www.nelliessportsbar.com/event/national-onion-ring-day/
ATTACH;FMTTYPE=image/jpeg:https://cdn.nelliessportsbar.com/2023/05/Onion-Ring_16x9.jpg
END:VEVENT
BEGIN:VEVENT
DTSTART;VALUE=DATE:20230619
DTEND;VALUE=DATE:20230621
DTSTAMP:20260425T122112
CREATED:20230530T213746Z
LAST-MODIFIED:20230530T213746Z
UID:13783-1687143600-1687229999@www.nelliessportsbar.com
SUMMARY:Juneteenth
DESCRIPTION:🌟 On June 19\, we reflect on the past and celebrate the progress made towards a more inclusive society. Join us at Nellie’s as we honor Juneteenth\, a day that holds historical significance and symbolizes hope for a brighter future. 
URL:https://www.nelliessportsbar.com/event/juneteenth/
ATTACH;FMTTYPE=image/jpeg:https://cdn.nelliessportsbar.com/2023/05/Juneteenth-2023_16x9.jpg
END:VEVENT
BEGIN:VEVENT
DTSTART;VALUE=DATE:20230617
DTEND;VALUE=DATE:20230620
DTSTAMP:20260425T122112
CREATED:20230530T213659Z
LAST-MODIFIED:20230530T213659Z
UID:13780-1686970800-1687143599@www.nelliessportsbar.com
SUMMARY:Father's Day Drag Brunch
DESCRIPTION:🌈 Treat your daddy to an extraordinary Father’s Day Brunch at Nellie’s on June 17 and 18. Indulge in our All-You-Can-Eat Brunch Buffet while being entertained by the #1 rated show in DC led by Sapphire Blue and our fabulous drag performers. Your first Mimosa or Zing Zang Bloody Mary is on us! Don’t miss this unforgettable experience! Get your tickets HERE!
URL:https://www.nelliessportsbar.com/event/fathers-day-drag-brunch/
ATTACH;FMTTYPE=image/jpeg:https://cdn.nelliessportsbar.com/2023/05/Fathers-Day_16x9.jpg
END:VEVENT
END:VCALENDAR