BEGIN:VCALENDAR
VERSION:2.0
PRODID:-//Nellie&#039;s Sports Bar - ECPv6.15.20//NONSGML v1.0//EN
CALSCALE:GREGORIAN
METHOD:PUBLISH
X-WR-CALNAME:Nellie&#039;s Sports Bar
X-ORIGINAL-URL:https://www.nelliessportsbar.com
X-WR-CALDESC:Events for Nellie&#039;s Sports Bar
REFRESH-INTERVAL;VALUE=DURATION:PT1H
X-Robots-Tag:noindex
X-PUBLISHED-TTL:PT1H
BEGIN:VTIMEZONE
TZID:America/New_York
BEGIN:DAYLIGHT
TZOFFSETFROM:-0500
TZOFFSETTO:-0400
TZNAME:EDT
DTSTART:20160313T070000
END:DAYLIGHT
BEGIN:STANDARD
TZOFFSETFROM:-0400
TZOFFSETTO:-0500
TZNAME:EST
DTSTART:20161106T060000
END:STANDARD
BEGIN:DAYLIGHT
TZOFFSETFROM:-0500
TZOFFSETTO:-0400
TZNAME:EDT
DTSTART:20170312T070000
END:DAYLIGHT
BEGIN:STANDARD
TZOFFSETFROM:-0400
TZOFFSETTO:-0500
TZNAME:EST
DTSTART:20171105T060000
END:STANDARD
BEGIN:DAYLIGHT
TZOFFSETFROM:-0500
TZOFFSETTO:-0400
TZNAME:EDT
DTSTART:20180311T070000
END:DAYLIGHT
BEGIN:STANDARD
TZOFFSETFROM:-0400
TZOFFSETTO:-0500
TZNAME:EST
DTSTART:20181104T060000
END:STANDARD
END:VTIMEZONE
BEGIN:VEVENT
DTSTART;VALUE=DATE:20171031
DTEND;VALUE=DATE:20171101
DTSTAMP:20260422T153250
CREATED:20171003T041720Z
LAST-MODIFIED:20171003T041720Z
UID:7807-1509418800-1509418800@www.nelliessportsbar.com
SUMMARY:Halloween Costume Contest
DESCRIPTION:Bring your best and take home the top prize!
URL:https://www.nelliessportsbar.com/event/halloween-costume-contest-2/
ATTACH;FMTTYPE=image/jpeg:https://cdn.nelliessportsbar.com/2021/11/costumecontest2.jpg
END:VEVENT
BEGIN:VEVENT
DTSTART;VALUE=DATE:20171030
DTEND;VALUE=DATE:20171031
DTSTAMP:20260422T153250
CREATED:20171003T041848Z
LAST-MODIFIED:20171003T041848Z
UID:7810-1509332400-1509332400@www.nelliessportsbar.com
SUMMARY:Stephen King's It Viewing Party
DESCRIPTION:Travel back to the 80’s when clowns were cool!
URL:https://www.nelliessportsbar.com/event/stephen-kings-viewing-party/
ATTACH;FMTTYPE=image/jpeg:https://cdn.nelliessportsbar.com/2021/11/it.jpg
END:VEVENT
BEGIN:VEVENT
DTSTART;VALUE=DATE:20171023
DTEND;VALUE=DATE:20171024
DTSTAMP:20260422T153250
CREATED:20171017T045049Z
LAST-MODIFIED:20171017T045049Z
UID:7827-1508727600-1508727600@www.nelliessportsbar.com
SUMMARY:Redskins vs Eagles
DESCRIPTION:Game showing on both floors!
URL:https://www.nelliessportsbar.com/event/redskins-vs-eagles/
ATTACH;FMTTYPE=image/jpeg:https://cdn.nelliessportsbar.com/2021/11/rsgame.jpg
END:VEVENT
BEGIN:VEVENT
DTSTART;VALUE=DATE:20171017
DTEND;VALUE=DATE:20171018
DTSTAMP:20260422T153250
CREATED:20171003T042420Z
LAST-MODIFIED:20171003T042420Z
UID:7818-1508209200-1508209200@www.nelliessportsbar.com
SUMMARY:Win Tickets to Markoff's Haunted Forest
DESCRIPTION:Nellies Sports Bar and Markoff’s Haunted Forest team up to get you in the Halloween mood!
URL:https://www.nelliessportsbar.com/event/win-tickets-markoffs-haunted-forest/
ATTACH;FMTTYPE=image/jpeg:https://cdn.nelliessportsbar.com/2021/11/markoff.jpg
END:VEVENT
BEGIN:VEVENT
DTSTART;VALUE=DATE:20171017
DTEND;VALUE=DATE:20171018
DTSTAMP:20260422T153250
CREATED:20171003T042140Z
LAST-MODIFIED:20171003T042140Z
UID:7816-1508209200-1508209200@www.nelliessportsbar.com
SUMMARY:Drag Bingo - Horror Movie Night
DESCRIPTION:Slasher Flicks & Scream Queens!
URL:https://www.nelliessportsbar.com/event/drag-bingo-horror-movie-night/
ATTACH;FMTTYPE=image/jpeg:https://cdn.nelliessportsbar.com/2021/11/bingo_oct.jpg
END:VEVENT
BEGIN:VEVENT
DTSTART;VALUE=DATE:20171010
DTEND;VALUE=DATE:20171011
DTSTAMP:20260422T153250
CREATED:20171003T042031Z
LAST-MODIFIED:20171003T042031Z
UID:7813-1507604400-1507604400@www.nelliessportsbar.com
SUMMARY:Drag Bingo -- Hocus Pocus Night
DESCRIPTION:Celebrate the October Classic
URL:https://www.nelliessportsbar.com/event/drag-bingo-hocus-pocus-night/
ATTACH;FMTTYPE=image/jpeg:https://cdn.nelliessportsbar.com/2021/11/bingo_oct.jpg
END:VEVENT
BEGIN:VEVENT
DTSTART;VALUE=DATE:20171003
DTEND;VALUE=DATE:20171004
DTSTAMP:20260422T153250
CREATED:20170911T174748Z
LAST-MODIFIED:20170911T174748Z
UID:7804-1506999600-1506999600@www.nelliessportsbar.com
SUMMARY:Mean Girls Extravaganza
DESCRIPTION:Before Broadway\, see it first in DC!
URL:https://www.nelliessportsbar.com/event/mean-girls-extravaganza/
ATTACH;FMTTYPE=image/jpeg:https://cdn.nelliessportsbar.com/2021/11/meangirls.jpg
END:VEVENT
BEGIN:VEVENT
DTSTART;VALUE=DATE:20170928
DTEND;VALUE=DATE:20170929
DTSTAMP:20260422T153250
CREATED:20170905T224539Z
LAST-MODIFIED:20170905T224539Z
UID:7792-1506567600-1506567600@www.nelliessportsbar.com
SUMMARY:Will & Grace Watch Party
DESCRIPTION:The Classic Returns!
URL:https://www.nelliessportsbar.com/event/will-grace-watch-party/
ATTACH;FMTTYPE=image/jpeg:https://cdn.nelliessportsbar.com/2021/11/willgrace.jpg
END:VEVENT
BEGIN:VEVENT
DTSTART;VALUE=DATE:20170926
DTEND;VALUE=DATE:20170927
DTSTAMP:20260422T153250
CREATED:20170906T004013Z
LAST-MODIFIED:20170906T004013Z
UID:7803-1506394800-1506394800@www.nelliessportsbar.com
SUMMARY:Drag Bingo -- Theme Night!
DESCRIPTION:Themed Prizes and Performances All Month!
URL:https://www.nelliessportsbar.com/event/drag-bingo-theme-night-3-2017-09-26/
ATTACH;FMTTYPE=image/jpeg:https://cdn.nelliessportsbar.com/2021/11/tuesdays3.jpg
END:VEVENT
BEGIN:VEVENT
DTSTART;VALUE=DATE:20170919
DTEND;VALUE=DATE:20170920
DTSTAMP:20260422T153250
CREATED:20170906T004013Z
LAST-MODIFIED:20170906T004013Z
UID:7802-1505790000-1505790000@www.nelliessportsbar.com
SUMMARY:Drag Bingo -- Theme Night!
DESCRIPTION:Themed Prizes and Performances All Month!
URL:https://www.nelliessportsbar.com/event/drag-bingo-theme-night-3-2017-09-19/
ATTACH;FMTTYPE=image/jpeg:https://cdn.nelliessportsbar.com/2021/11/tuesdays3.jpg
END:VEVENT
BEGIN:VEVENT
DTSTART;VALUE=DATE:20170912
DTEND;VALUE=DATE:20170913
DTSTAMP:20260422T153250
CREATED:20170906T004013Z
LAST-MODIFIED:20170906T004013Z
UID:7795-1505185200-1505185200@www.nelliessportsbar.com
SUMMARY:Drag Bingo -- Theme Night!
DESCRIPTION:Themed Prizes and Performances All Month!
URL:https://www.nelliessportsbar.com/event/drag-bingo-theme-night-3/
ATTACH;FMTTYPE=image/jpeg:https://cdn.nelliessportsbar.com/2021/11/septemberbingo.jpg
END:VEVENT
BEGIN:VEVENT
DTSTART;VALUE=DATE:20170905
DTEND;VALUE=DATE:20170906
DTSTAMP:20260422T153250
CREATED:20170816T195439Z
LAST-MODIFIED:20170816T195439Z
UID:7791-1504580400-1504580400@www.nelliessportsbar.com
SUMMARY:Drag Bingo Theme Night!
DESCRIPTION:
URL:https://www.nelliessportsbar.com/event/drag-bingo-theme-night-2-2017-09-05/
ATTACH;FMTTYPE=image/jpeg:https://cdn.nelliessportsbar.com/2021/11/laugustbingo.jpg
END:VEVENT
BEGIN:VEVENT
DTSTART;VALUE=DATE:20170829
DTEND;VALUE=DATE:20170830
DTSTAMP:20260422T153250
CREATED:20170816T195439Z
LAST-MODIFIED:20170816T195439Z
UID:7790-1503975600-1503975600@www.nelliessportsbar.com
SUMMARY:Drag Bingo Theme Night!
DESCRIPTION:
URL:https://www.nelliessportsbar.com/event/drag-bingo-theme-night-2-2017-08-29/
ATTACH;FMTTYPE=image/jpeg:https://cdn.nelliessportsbar.com/2021/11/laugustbingo.jpg
END:VEVENT
BEGIN:VEVENT
DTSTART;VALUE=DATE:20170824
DTEND;VALUE=DATE:20170825
DTSTAMP:20260422T153250
CREATED:20170801T055559Z
LAST-MODIFIED:20170801T055559Z
UID:7776-1503543600-1503543600@www.nelliessportsbar.com
SUMMARY:2007 #TBTBlowout
DESCRIPTION:Celebrate Nellie’s Birthday like it’s 2007!
URL:https://www.nelliessportsbar.com/event/2007-tbtblowout/
ATTACH;FMTTYPE=image/jpeg:https://cdn.nelliessportsbar.com/2021/11/hashtagthursday.jpg
END:VEVENT
BEGIN:VEVENT
DTSTART;VALUE=DATE:20170822
DTEND;VALUE=DATE:20170823
DTSTAMP:20260422T153250
CREATED:20170816T195439Z
LAST-MODIFIED:20170816T195439Z
UID:7787-1503370800-1503370800@www.nelliessportsbar.com
SUMMARY:Drag Bingo Theme Night!
DESCRIPTION:
URL:https://www.nelliessportsbar.com/event/drag-bingo-theme-night-2/
ATTACH;FMTTYPE=image/jpeg:https://cdn.nelliessportsbar.com/2021/11/laugustbingo.jpg
END:VEVENT
BEGIN:VEVENT
DTSTART;VALUE=DATE:20170821
DTEND;VALUE=DATE:20170822
DTSTAMP:20260422T153250
CREATED:20170801T235306Z
LAST-MODIFIED:20170801T235306Z
UID:7782-1503284400-1503284400@www.nelliessportsbar.com
SUMMARY:Nellie's 10th Anniversary Celebration
DESCRIPTION:
URL:https://www.nelliessportsbar.com/event/nellies-10th-anniversary-celebration/
ATTACH;FMTTYPE=image/jpeg:https://cdn.nelliessportsbar.com/2021/11/anniversayweek2.jpg
END:VEVENT
BEGIN:VEVENT
DTSTART;VALUE=DATE:20170821
DTEND;VALUE=DATE:20170822
DTSTAMP:20260422T153250
CREATED:20170801T233145Z
LAST-MODIFIED:20170801T233145Z
UID:7779-1503284400-1503284400@www.nelliessportsbar.com
SUMMARY:Anniversary Industry Night
DESCRIPTION:$5 Jameson & 1/2 price burgers all night!
URL:https://www.nelliessportsbar.com/event/anniversary-industry-night/
ATTACH;FMTTYPE=image/gif:https://cdn.nelliessportsbar.com/2021/11/giphy.gif
END:VEVENT
BEGIN:VEVENT
DTSTART;VALUE=DATE:20170819
DTEND;VALUE=DATE:20170820
DTSTAMP:20260422T153250
CREATED:20170812T120339Z
LAST-MODIFIED:20170812T120339Z
UID:7784-1503111600-1503111600@www.nelliessportsbar.com
SUMMARY:Total Request Live - American Cancer Society Benefit
DESCRIPTION:Get your song played while donating money to a great cause!  What a Saturday night!
URL:https://www.nelliessportsbar.com/event/total-request-live-american-cancer-society-benefit/
ATTACH;FMTTYPE=image/jpeg:https://cdn.nelliessportsbar.com/2021/11/an-american-cancer-society-benefit-3.jpg
END:VEVENT
BEGIN:VEVENT
DTSTART;VALUE=DATE:20170815
DTEND;VALUE=DATE:20170816
DTSTAMP:20260422T153250
CREATED:20170801T055115Z
LAST-MODIFIED:20170801T055115Z
UID:7775-1502766000-1502766000@www.nelliessportsbar.com
SUMMARY:Drag Bingo -- Theme Night
DESCRIPTION:Come out and win some prizes with the amazing Ba’Naka and Sasha
URL:https://www.nelliessportsbar.com/event/drag-bingo-theme-night-2017-08-15/
ATTACH;FMTTYPE=image/jpeg:https://cdn.nelliessportsbar.com/2021/11/august-bingo.jpg
END:VEVENT
BEGIN:VEVENT
DTSTART;VALUE=DATE:20170808
DTEND;VALUE=DATE:20170809
DTSTAMP:20260422T153250
CREATED:20170801T055115Z
LAST-MODIFIED:20170801T055115Z
UID:7774-1502161200-1502161200@www.nelliessportsbar.com
SUMMARY:Drag Bingo -- Theme Night
DESCRIPTION:Come out and win some prizes with the amazing Ba’Naka and Sasha
URL:https://www.nelliessportsbar.com/event/drag-bingo-theme-night-2017-08-08/
ATTACH;FMTTYPE=image/jpeg:https://cdn.nelliessportsbar.com/2021/11/august-bingo.jpg
END:VEVENT
BEGIN:VEVENT
DTSTART;VALUE=DATE:20170805
DTEND;VALUE=DATE:20170806
DTSTAMP:20260422T153250
CREATED:20170717T153456Z
LAST-MODIFIED:20170717T153456Z
UID:7761-1501902000-1501902000@www.nelliessportsbar.com
SUMMARY:MidCity Dog Days
DESCRIPTION:Celebrate DC’s local businesses with Nellie’s and Miss Pixie’s!
URL:https://www.nelliessportsbar.com/event/midcity-dog-days/
ATTACH;FMTTYPE=image/jpeg:https://cdn.nelliessportsbar.com/2021/11/dogdays.jpg
END:VEVENT
BEGIN:VEVENT
DTSTART;VALUE=DATE:20170803
DTEND;VALUE=DATE:20170804
DTSTAMP:20260422T153250
CREATED:20170717T153749Z
LAST-MODIFIED:20170717T153749Z
UID:7770-1501729200-1501729200@www.nelliessportsbar.com
SUMMARY:Board Game Night
DESCRIPTION:Gather with friends and play your favorite games!
URL:https://www.nelliessportsbar.com/event/board-game-night-2-2017-08-03/
ATTACH;FMTTYPE=image/jpeg:https://cdn.nelliessportsbar.com/2021/11/boardgame_condensed.jpg
END:VEVENT
BEGIN:VEVENT
DTSTART;VALUE=DATE:20170801
DTEND;VALUE=DATE:20170802
DTSTAMP:20260422T153250
CREATED:20170801T055115Z
LAST-MODIFIED:20170801T055115Z
UID:7771-1501556400-1501556400@www.nelliessportsbar.com
SUMMARY:Drag Bingo -- Theme Night
DESCRIPTION:Come out and win some prizes with the amazing Ba’Naka and Sasha
URL:https://www.nelliessportsbar.com/event/drag-bingo-theme-night/
ATTACH;FMTTYPE=image/jpeg:https://cdn.nelliessportsbar.com/2021/11/august-bingo.jpg
END:VEVENT
BEGIN:VEVENT
DTSTART;VALUE=DATE:20170728
DTEND;VALUE=DATE:20170729
DTSTAMP:20260422T153250
CREATED:20170705T043215Z
LAST-MODIFIED:20170705T043215Z
UID:7752-1501210800-1501210800@www.nelliessportsbar.com
SUMMARY:Nellie's Weekend DJs
DESCRIPTION:
URL:https://www.nelliessportsbar.com/event/nellies-weekend-djs-5/
ATTACH;FMTTYPE=image/jpeg:https://cdn.nelliessportsbar.com/2021/11/dj5.jpg
END:VEVENT
BEGIN:VEVENT
DTSTART;VALUE=DATE:20170727
DTEND;VALUE=DATE:20170728
DTSTAMP:20260422T153250
CREATED:20170717T153749Z
LAST-MODIFIED:20170717T153749Z
UID:7769-1501124400-1501124400@www.nelliessportsbar.com
SUMMARY:Board Game Night
DESCRIPTION:Gather with friends and play your favorite games!
URL:https://www.nelliessportsbar.com/event/board-game-night-2-2017-07-27/
ATTACH;FMTTYPE=image/jpeg:https://cdn.nelliessportsbar.com/2021/11/boardgame_condensed.jpg
END:VEVENT
BEGIN:VEVENT
DTSTART;VALUE=DATE:20170726
DTEND;VALUE=DATE:20170727
DTSTAMP:20260422T153250
CREATED:20170705T035940Z
LAST-MODIFIED:20170705T035940Z
UID:7742-1501038000-1501038000@www.nelliessportsbar.com
SUMMARY:SmartAss Trivia
DESCRIPTION:$15 buckets of Bud Products & Concert Ticket Giveaways! \nGames start at 8pm & 9pm
URL:https://www.nelliessportsbar.com/event/smartass-trivia-2017-07-26/
ATTACH;FMTTYPE=image/jpeg:https://cdn.nelliessportsbar.com/2021/11/trivia.jpg
END:VEVENT
BEGIN:VEVENT
DTSTART;VALUE=DATE:20170725
DTEND;VALUE=DATE:20170726
DTSTAMP:20260422T153250
CREATED:20170717T153308Z
LAST-MODIFIED:20170717T153308Z
UID:7760-1500951600-1500951600@www.nelliessportsbar.com
SUMMARY:Board Game Drag Bingo
DESCRIPTION:Win some of your favorite board games!
URL:https://www.nelliessportsbar.com/event/board-game-drag-bingo/
ATTACH;FMTTYPE=image/jpeg:https://cdn.nelliessportsbar.com/2021/11/the25th.jpg
END:VEVENT
BEGIN:VEVENT
DTSTART;VALUE=DATE:20170721
DTEND;VALUE=DATE:20170722
DTSTAMP:20260422T153250
CREATED:20170705T042752Z
LAST-MODIFIED:20170705T042752Z
UID:7749-1500606000-1500606000@www.nelliessportsbar.com
SUMMARY:Nellie's Weekend DJs
DESCRIPTION:
URL:https://www.nelliessportsbar.com/event/nellies-weekend-djs-4/
ATTACH;FMTTYPE=image/jpeg:https://cdn.nelliessportsbar.com/2021/11/dj3.jpg
END:VEVENT
BEGIN:VEVENT
DTSTART;VALUE=DATE:20170720
DTEND;VALUE=DATE:20170721
DTSTAMP:20260422T153250
CREATED:20170717T153749Z
LAST-MODIFIED:20170717T153749Z
UID:7766-1500519600-1500519600@www.nelliessportsbar.com
SUMMARY:Board Game Night
DESCRIPTION:Gather with friends and play your favorite games!
URL:https://www.nelliessportsbar.com/event/board-game-night-2/
ATTACH;FMTTYPE=image/jpeg:https://cdn.nelliessportsbar.com/2021/11/boardgame_condensed.jpg
END:VEVENT
BEGIN:VEVENT
DTSTART;VALUE=DATE:20170719
DTEND;VALUE=DATE:20170720
DTSTAMP:20260422T153250
CREATED:20170705T035940Z
LAST-MODIFIED:20170705T035940Z
UID:7741-1500433200-1500433200@www.nelliessportsbar.com
SUMMARY:SmartAss Trivia
DESCRIPTION:$15 buckets of Bud Products & Concert Ticket Giveaways! \nGames start at 8pm & 9pm
URL:https://www.nelliessportsbar.com/event/smartass-trivia-2017-07-19/
ATTACH;FMTTYPE=image/jpeg:https://cdn.nelliessportsbar.com/2021/11/trivia.jpg
END:VEVENT
END:VCALENDAR