BEGIN:VCALENDAR
VERSION:2.0
PRODID:-//Nellie&#039;s Sports Bar - ECPv6.15.20//NONSGML v1.0//EN
CALSCALE:GREGORIAN
METHOD:PUBLISH
X-WR-CALNAME:Nellie&#039;s Sports Bar
X-ORIGINAL-URL:https://www.nelliessportsbar.com
X-WR-CALDESC:Events for Nellie&#039;s Sports Bar
REFRESH-INTERVAL;VALUE=DURATION:PT1H
X-Robots-Tag:noindex
X-PUBLISHED-TTL:PT1H
BEGIN:VTIMEZONE
TZID:America/New_York
BEGIN:DAYLIGHT
TZOFFSETFROM:-0500
TZOFFSETTO:-0400
TZNAME:EDT
DTSTART:20160313T070000
END:DAYLIGHT
BEGIN:STANDARD
TZOFFSETFROM:-0400
TZOFFSETTO:-0500
TZNAME:EST
DTSTART:20161106T060000
END:STANDARD
BEGIN:DAYLIGHT
TZOFFSETFROM:-0500
TZOFFSETTO:-0400
TZNAME:EDT
DTSTART:20170312T070000
END:DAYLIGHT
BEGIN:STANDARD
TZOFFSETFROM:-0400
TZOFFSETTO:-0500
TZNAME:EST
DTSTART:20171105T060000
END:STANDARD
BEGIN:DAYLIGHT
TZOFFSETFROM:-0500
TZOFFSETTO:-0400
TZNAME:EDT
DTSTART:20180311T070000
END:DAYLIGHT
BEGIN:STANDARD
TZOFFSETFROM:-0400
TZOFFSETTO:-0500
TZNAME:EST
DTSTART:20181104T060000
END:STANDARD
BEGIN:DAYLIGHT
TZOFFSETFROM:-0500
TZOFFSETTO:-0400
TZNAME:EDT
DTSTART:20190310T070000
END:DAYLIGHT
BEGIN:STANDARD
TZOFFSETFROM:-0400
TZOFFSETTO:-0500
TZNAME:EST
DTSTART:20191103T060000
END:STANDARD
END:VTIMEZONE
BEGIN:VEVENT
DTSTART;VALUE=DATE:20180115
DTEND;VALUE=DATE:20180116
DTSTAMP:20260422T074138
CREATED:20180112T104214Z
LAST-MODIFIED:20180112T104214Z
UID:7935-1515985200-1515985200@www.nelliessportsbar.com
SUMMARY:MLK Monday Drag Brunch
DESCRIPTION:Grab your tickets here.
URL:https://www.nelliessportsbar.com/event/mlk-monday-drag-brunch/
ATTACH;FMTTYPE=image/jpeg:https://cdn.nelliessportsbar.com/2021/11/mlk2five.jpg
END:VEVENT
BEGIN:VEVENT
DTSTART;VALUE=DATE:20180115
DTEND;VALUE=DATE:20180116
DTSTAMP:20260422T074138
CREATED:20171220T013707Z
LAST-MODIFIED:20171220T013707Z
UID:7909-1515985200-1515985200@www.nelliessportsbar.com
SUMMARY:Movie Monday - To Wong Foo Thanks for Everything\, Julie Newmar
DESCRIPTION:Part of LGBT Movie Month!
URL:https://www.nelliessportsbar.com/event/movie-monday-wong-foo-thanks-everything-julie-newmar/
ATTACH;FMTTYPE=image/jpeg:https://cdn.nelliessportsbar.com/2021/11/moviesweeklyjan.jpg
END:VEVENT
BEGIN:VEVENT
DTSTART;VALUE=DATE:20180109
DTEND;VALUE=DATE:20180110
DTSTAMP:20260422T074138
CREATED:20171220T013922Z
LAST-MODIFIED:20171220T013922Z
UID:7913-1515466800-1515466800@www.nelliessportsbar.com
SUMMARY:Drag Bingo - Theme Night
DESCRIPTION:Get Ready for MAL!
URL:https://www.nelliessportsbar.com/event/drag-bingo-theme-night-5/
ATTACH;FMTTYPE=image/jpeg:https://cdn.nelliessportsbar.com/2021/11/bingo_january2.jpg
END:VEVENT
BEGIN:VEVENT
DTSTART;VALUE=DATE:20180108
DTEND;VALUE=DATE:20180109
DTSTAMP:20260422T074138
CREATED:20171220T013615Z
LAST-MODIFIED:20171220T013615Z
UID:7907-1515380400-1515380400@www.nelliessportsbar.com
SUMMARY:Movie Monday - The Birdcage
DESCRIPTION:Part of LGBT Movie Month!
URL:https://www.nelliessportsbar.com/event/movie-monday-birdcage/
ATTACH;FMTTYPE=image/jpeg:https://cdn.nelliessportsbar.com/2021/11/moviesweeklyjan.jpg
END:VEVENT
BEGIN:VEVENT
DTSTART;VALUE=DATE:20180102
DTEND;VALUE=DATE:20180103
DTSTAMP:20260422T074138
CREATED:20171220T013843Z
LAST-MODIFIED:20171220T013843Z
UID:7911-1514862000-1514862000@www.nelliessportsbar.com
SUMMARY:Drag Bingo - Theme Night
DESCRIPTION:New Year\, New You!
URL:https://www.nelliessportsbar.com/event/drag-bingo-theme-night-4/
ATTACH;FMTTYPE=image/jpeg:https://cdn.nelliessportsbar.com/2021/11/bingojan1.jpg
END:VEVENT
BEGIN:VEVENT
DTSTART;VALUE=DATE:20180101
DTEND;VALUE=DATE:20180102
DTSTAMP:20260422T074138
CREATED:20171219T015535Z
LAST-MODIFIED:20171219T015535Z
UID:7906-1514775600-1514775600@www.nelliessportsbar.com
SUMMARY:New Year's Day - Drag Brunch
DESCRIPTION:1pm Show.  Grab your tickets here.
URL:https://www.nelliessportsbar.com/event/new-years-day-drag-brunch/
ATTACH;FMTTYPE=image/jpeg:https://cdn.nelliessportsbar.com/2021/11/newyearsdb_email.jpg
END:VEVENT
BEGIN:VEVENT
DTSTART;VALUE=DATE:20171231
DTEND;VALUE=DATE:20180101
DTSTAMP:20260422T074138
CREATED:20171204T002619Z
LAST-MODIFIED:20171204T002619Z
UID:7892-1514689200-1514689200@www.nelliessportsbar.com
SUMMARY:New Year's Eve @ Nellie's
DESCRIPTION:Ring in 2018 with Nellie’s… Duh!
URL:https://www.nelliessportsbar.com/event/new-years-eve-nellies/
ATTACH;FMTTYPE=image/jpeg:https://cdn.nelliessportsbar.com/2021/11/nye2017.jpg
END:VEVENT
BEGIN:VEVENT
DTSTART;VALUE=DATE:20171224
DTEND;VALUE=DATE:20171225
DTSTAMP:20260422T074138
CREATED:20171213T230437Z
LAST-MODIFIED:20171213T230437Z
UID:7898-1514084400-1514084400@www.nelliessportsbar.com
SUMMARY:Christmas Eve Drag Brunch
DESCRIPTION:Purchase tickets here.
URL:https://www.nelliessportsbar.com/event/christmas-eve-drag-brunch/
ATTACH;FMTTYPE=image/jpeg:https://cdn.nelliessportsbar.com/2021/11/christmasbrunch2.jpg
END:VEVENT
BEGIN:VEVENT
DTSTART;VALUE=DATE:20171219
DTEND;VALUE=DATE:20171220
DTSTAMP:20260422T074138
CREATED:20171204T002929Z
LAST-MODIFIED:20171204T002929Z
UID:7894-1513652400-1513652400@www.nelliessportsbar.com
SUMMARY:Drag Bingo - Gingerbread & Sugar Cookies
DESCRIPTION:add a little sweetness to your holiday!
URL:https://www.nelliessportsbar.com/event/drag-bingo-gingerbread-sugar-cookies/
ATTACH;FMTTYPE=image/jpeg:https://cdn.nelliessportsbar.com/2021/11/bingo_december.jpg
END:VEVENT
BEGIN:VEVENT
DTSTART;VALUE=DATE:20171218
DTEND;VALUE=DATE:20171219
DTSTAMP:20260422T074138
CREATED:20171204T002825Z
LAST-MODIFIED:20171204T002825Z
UID:7893-1513566000-1513566000@www.nelliessportsbar.com
SUMMARY:Movie Mondays - How the Grinch Stole Christmas
DESCRIPTION:Don’t be a Grinch!
URL:https://www.nelliessportsbar.com/event/movie-mondays-grinch-stole-christmas/
ATTACH;FMTTYPE=image/jpeg:https://cdn.nelliessportsbar.com/2021/11/moviesdec.jpg
END:VEVENT
BEGIN:VEVENT
DTSTART;VALUE=DATE:20171217
DTEND;VALUE=DATE:20171218
DTSTAMP:20260422T074138
CREATED:20171204T002408Z
LAST-MODIFIED:20171204T002408Z
UID:7878-1513479600-1513479600@www.nelliessportsbar.com
SUMMARY:A Christmas Story
DESCRIPTION:The holiday television event of the year!
URL:https://www.nelliessportsbar.com/event/a-christmas-story/
ATTACH;FMTTYPE=image/jpeg:https://cdn.nelliessportsbar.com/2021/11/nye2017.jpg
END:VEVENT
BEGIN:VEVENT
DTSTART;VALUE=DATE:20171216
DTEND;VALUE=DATE:20171217
DTSTAMP:20260422T074138
CREATED:20171211T220458Z
LAST-MODIFIED:20171211T220458Z
UID:7895-1513393200-1513393200@www.nelliessportsbar.com
SUMMARY:Christmas Tag Team
DESCRIPTION:Ho Ho Ho!
URL:https://www.nelliessportsbar.com/event/christmas-tag-team/
ATTACH;FMTTYPE=image/jpeg:https://cdn.nelliessportsbar.com/2021/11/christmasravecat.jpg
END:VEVENT
BEGIN:VEVENT
DTSTART;VALUE=DATE:20171212
DTEND;VALUE=DATE:20171213
DTSTAMP:20260422T074138
CREATED:20171120T223500Z
LAST-MODIFIED:20171120T223500Z
UID:7871-1513047600-1513047600@www.nelliessportsbar.com
SUMMARY:Drag Bingo - Trim the Tree!
DESCRIPTION:
URL:https://www.nelliessportsbar.com/event/drag-bingo-trim-tree/
ATTACH;FMTTYPE=image/jpeg:https://cdn.nelliessportsbar.com/2021/11/trivia_dec.jpg
END:VEVENT
BEGIN:VEVENT
DTSTART;VALUE=DATE:20171211
DTEND;VALUE=DATE:20171212
DTSTAMP:20260422T074138
CREATED:20171120T223733Z
LAST-MODIFIED:20171120T223733Z
UID:7873-1512961200-1512961200@www.nelliessportsbar.com
SUMMARY:Movie Mondays - Elf
DESCRIPTION:
URL:https://www.nelliessportsbar.com/event/movie-mondays-elf/
ATTACH;FMTTYPE=image/jpeg:https://cdn.nelliessportsbar.com/2021/11/moivenight.jpg
END:VEVENT
BEGIN:VEVENT
DTSTART;VALUE=DATE:20171210
DTEND;VALUE=DATE:20171211
DTSTAMP:20260422T074138
CREATED:20171204T002510Z
LAST-MODIFIED:20171204T002510Z
UID:7891-1512874800-1512874800@www.nelliessportsbar.com
SUMMARY:Redskins vs Chargers
DESCRIPTION:Game Day @ Nellie’s
URL:https://www.nelliessportsbar.com/event/redskins-vs-chargers/
ATTACH;FMTTYPE=image/jpeg:https://cdn.nelliessportsbar.com/2021/11/redskinschargers.jpg
END:VEVENT
BEGIN:VEVENT
DTSTART;VALUE=DATE:20171205
DTEND;VALUE=DATE:20171206
DTSTAMP:20260422T074138
CREATED:20171120T223412Z
LAST-MODIFIED:20171120T223412Z
UID:7870-1512442800-1512442800@www.nelliessportsbar.com
SUMMARY:Drag Bingo - Classic Christmas Movies!
DESCRIPTION:
URL:https://www.nelliessportsbar.com/event/drag-bingo-classic-christmas-movies/
ATTACH;FMTTYPE=image/jpeg:https://cdn.nelliessportsbar.com/2021/11/trivia_dec.jpg
END:VEVENT
BEGIN:VEVENT
DTSTART;VALUE=DATE:20171204
DTEND;VALUE=DATE:20171205
DTSTAMP:20260422T074138
CREATED:20171120T223624Z
LAST-MODIFIED:20171120T223624Z
UID:7872-1512356400-1512388800@www.nelliessportsbar.com
SUMMARY:Movie Mondays - A Claymation Christmas
DESCRIPTION:
URL:https://www.nelliessportsbar.com/event/movie-mondays-claymation-christmas/
ATTACH;FMTTYPE=image/jpeg:https://cdn.nelliessportsbar.com/2021/11/moivenight.jpg
END:VEVENT
BEGIN:VEVENT
DTSTART;VALUE=DATE:20171202
DTEND;VALUE=DATE:20171203
DTSTAMP:20260422T074138
CREATED:20171120T224507Z
LAST-MODIFIED:20171120T224507Z
UID:7874-1512183600-1512183600@www.nelliessportsbar.com
SUMMARY:Pub Crawlin' for Tots
DESCRIPTION:Kicking off at Nellie’s @ 4pm sharp! \nCome help out a great cause!
URL:https://www.nelliessportsbar.com/event/pub-crawlin-tots/
ATTACH;FMTTYPE=image/png:https://cdn.nelliessportsbar.com/2021/11/facebook-event-image-blue.png
END:VEVENT
BEGIN:VEVENT
DTSTART;VALUE=DATE:20171128
DTEND;VALUE=DATE:20171129
DTSTAMP:20260422T074138
CREATED:20171120T223322Z
LAST-MODIFIED:20171120T223322Z
UID:7869-1511838000-1511838000@www.nelliessportsbar.com
SUMMARY:Drag Bingo - Tupperware Party!
DESCRIPTION:
URL:https://www.nelliessportsbar.com/event/drag-bingo-tupperware-party/
ATTACH;FMTTYPE=image/jpeg:https://cdn.nelliessportsbar.com/2021/11/trivia_dec.jpg
END:VEVENT
BEGIN:VEVENT
DTSTART;VALUE=DATE:20171127
DTEND;VALUE=DATE:20171128
DTSTAMP:20260422T074138
CREATED:20171121T003746Z
LAST-MODIFIED:20171121T003746Z
UID:7877-1511751600-1511751600@www.nelliessportsbar.com
SUMMARY:Movie Monday - 9 to 5
DESCRIPTION:
URL:https://www.nelliessportsbar.com/event/movie-monday-9-5/
ATTACH;FMTTYPE=image/jpeg:https://cdn.nelliessportsbar.com/2021/11/moivenight.jpg
END:VEVENT
BEGIN:VEVENT
DTSTART;VALUE=DATE:20171124
DTEND;VALUE=DATE:20171125
DTSTAMP:20260422T074138
CREATED:20171017T045539Z
LAST-MODIFIED:20171017T045539Z
UID:7832-1511492400-1511492400@www.nelliessportsbar.com
SUMMARY:Black Friday Drag Brunch
DESCRIPTION:Special Friday Performance \nClick HERE for tickets!
URL:https://www.nelliessportsbar.com/event/black-friday-drag-brunch-2/
ATTACH;FMTTYPE=image/jpeg:https://cdn.nelliessportsbar.com/2021/11/bf_drag_print.jpg
END:VEVENT
BEGIN:VEVENT
DTSTART;VALUE=DATE:20171123
DTEND;VALUE=DATE:20171124
DTSTAMP:20260422T074138
CREATED:20171120T223223Z
LAST-MODIFIED:20171120T223223Z
UID:7858-1511406000-1511406000@www.nelliessportsbar.com
SUMMARY:Thanksgiving - Open at 4pm
DESCRIPTION:Open @ 4pm \nHang out with your Nellie’s Fam at Thanksgiving
URL:https://www.nelliessportsbar.com/event/thanksgiving-open-5pm/
ATTACH;FMTTYPE=image/jpeg:https://cdn.nelliessportsbar.com/2021/11/letter_email.jpg
END:VEVENT
BEGIN:VEVENT
DTSTART;VALUE=DATE:20171122
DTEND;VALUE=DATE:20171123
DTSTAMP:20260422T074138
CREATED:20171106T105956Z
LAST-MODIFIED:20171106T105956Z
UID:7854-1511319600-1511319600@www.nelliessportsbar.com
SUMMARY:TAG - Wednesday DJ Extravaganza
DESCRIPTION:
URL:https://www.nelliessportsbar.com/event/tag-wednesday-dj-extravaganza/
ATTACH;FMTTYPE=image/jpeg:https://cdn.nelliessportsbar.com/2021/11/tag.jpg
END:VEVENT
BEGIN:VEVENT
DTSTART;VALUE=DATE:20171121
DTEND;VALUE=DATE:20171123
DTSTAMP:20260422T074138
CREATED:20171106T105612Z
LAST-MODIFIED:20171106T105612Z
UID:7852-1511233200-1511319599@www.nelliessportsbar.com
SUMMARY:Drag Bingo
DESCRIPTION:Get ready for Thanksgiving with November’s themed Drag Bingo prizes!
URL:https://www.nelliessportsbar.com/event/drag-bingo-2017-11-21/
ATTACH;FMTTYPE=image/jpeg:https://cdn.nelliessportsbar.com/2021/11/bingo_nov.jpg
END:VEVENT
BEGIN:VEVENT
DTSTART;VALUE=DATE:20171120
DTEND;VALUE=DATE:20171121
DTSTAMP:20260422T074138
CREATED:20171106T105327Z
LAST-MODIFIED:20171106T105327Z
UID:7848-1511146800-1511146800@www.nelliessportsbar.com
SUMMARY:Movie Mondays - Adams Family Values
DESCRIPTION:Featuring Adams Family Values
URL:https://www.nelliessportsbar.com/event/movie-mondays-adams-family-values/
ATTACH;FMTTYPE=image/jpeg:https://cdn.nelliessportsbar.com/2021/11/moivenight.jpg
END:VEVENT
BEGIN:VEVENT
DTSTART;VALUE=DATE:20171114
DTEND;VALUE=DATE:20171116
DTSTAMP:20260422T074138
CREATED:20171106T105612Z
LAST-MODIFIED:20171106T105612Z
UID:7851-1510628400-1510714799@www.nelliessportsbar.com
SUMMARY:Drag Bingo
DESCRIPTION:Get ready for Thanksgiving with November’s themed Drag Bingo prizes!
URL:https://www.nelliessportsbar.com/event/drag-bingo-2017-11-14/
ATTACH;FMTTYPE=image/jpeg:https://cdn.nelliessportsbar.com/2021/11/bingo_nov.jpg
END:VEVENT
BEGIN:VEVENT
DTSTART;VALUE=DATE:20171113
DTEND;VALUE=DATE:20171114
DTSTAMP:20260422T074138
CREATED:20171106T105223Z
LAST-MODIFIED:20171106T105223Z
UID:7847-1510542000-1510542000@www.nelliessportsbar.com
SUMMARY:Movie Mondays - Priscilla Queen of the Desert
DESCRIPTION:featuring Priscilla Queen of the Desert
URL:https://www.nelliessportsbar.com/event/movie-mondays-priscilla-queen-desert/
ATTACH;FMTTYPE=image/jpeg:https://cdn.nelliessportsbar.com/2021/11/moivenight.jpg
END:VEVENT
BEGIN:VEVENT
DTSTART;VALUE=DATE:20171112
DTEND;VALUE=DATE:20171113
DTSTAMP:20260422T074138
CREATED:20171106T105700Z
LAST-MODIFIED:20171106T105700Z
UID:7853-1510455600-1510455600@www.nelliessportsbar.com
SUMMARY:Redskins vs. Vikings
DESCRIPTION:Come cheer on the Redskins at Nellie’s!
URL:https://www.nelliessportsbar.com/event/redskins-vs-vikings/
ATTACH;FMTTYPE=image/jpeg:https://cdn.nelliessportsbar.com/2021/11/rsgame2.jpg
END:VEVENT
BEGIN:VEVENT
DTSTART;VALUE=DATE:20171111
DTEND;VALUE=DATE:20171112
DTSTAMP:20260422T074138
CREATED:20171106T105427Z
LAST-MODIFIED:20171106T105427Z
UID:7849-1510369200-1510369200@www.nelliessportsbar.com
SUMMARY:Veteran's Day @ Nellie's
DESCRIPTION:Nellie’s celebrates and thanks our Veterans!
URL:https://www.nelliessportsbar.com/event/veterans-day-nellies/
ATTACH;FMTTYPE=image/jpeg:https://cdn.nelliessportsbar.com/2021/11/veteransday.jpg
END:VEVENT
BEGIN:VEVENT
DTSTART;VALUE=DATE:20171107
DTEND;VALUE=DATE:20171108
DTSTAMP:20260422T074138
CREATED:20171106T105612Z
LAST-MODIFIED:20171106T105612Z
UID:7850-1510023600-1510023600@www.nelliessportsbar.com
SUMMARY:Drag Bingo
DESCRIPTION:Get ready for Thanksgiving with November’s themed Drag Bingo prizes!
URL:https://www.nelliessportsbar.com/event/drag-bingo/
ATTACH;FMTTYPE=image/jpeg:https://cdn.nelliessportsbar.com/2021/11/bingo_nov.jpg
END:VEVENT
END:VCALENDAR