BEGIN:VCALENDAR
VERSION:2.0
PRODID:-//Nellie&#039;s Sports Bar - ECPv6.15.20//NONSGML v1.0//EN
CALSCALE:GREGORIAN
METHOD:PUBLISH
X-WR-CALNAME:Nellie&#039;s Sports Bar
X-ORIGINAL-URL:https://www.nelliessportsbar.com
X-WR-CALDESC:Events for Nellie&#039;s Sports Bar
REFRESH-INTERVAL;VALUE=DURATION:PT1H
X-Robots-Tag:noindex
X-PUBLISHED-TTL:PT1H
BEGIN:VTIMEZONE
TZID:America/New_York
BEGIN:DAYLIGHT
TZOFFSETFROM:-0500
TZOFFSETTO:-0400
TZNAME:EDT
DTSTART:20150308T070000
END:DAYLIGHT
BEGIN:STANDARD
TZOFFSETFROM:-0400
TZOFFSETTO:-0500
TZNAME:EST
DTSTART:20151101T060000
END:STANDARD
BEGIN:DAYLIGHT
TZOFFSETFROM:-0500
TZOFFSETTO:-0400
TZNAME:EDT
DTSTART:20160313T070000
END:DAYLIGHT
BEGIN:STANDARD
TZOFFSETFROM:-0400
TZOFFSETTO:-0500
TZNAME:EST
DTSTART:20161106T060000
END:STANDARD
BEGIN:DAYLIGHT
TZOFFSETFROM:-0500
TZOFFSETTO:-0400
TZNAME:EDT
DTSTART:20170312T070000
END:DAYLIGHT
BEGIN:STANDARD
TZOFFSETFROM:-0400
TZOFFSETTO:-0500
TZNAME:EST
DTSTART:20171105T060000
END:STANDARD
BEGIN:DAYLIGHT
TZOFFSETFROM:-0500
TZOFFSETTO:-0400
TZNAME:EDT
DTSTART:20180311T070000
END:DAYLIGHT
BEGIN:STANDARD
TZOFFSETFROM:-0400
TZOFFSETTO:-0500
TZNAME:EST
DTSTART:20181104T060000
END:STANDARD
END:VTIMEZONE
BEGIN:VEVENT
DTSTART;VALUE=DATE:20170428
DTEND;VALUE=DATE:20170429
DTSTAMP:20260422T170238
CREATED:20170326T013547Z
LAST-MODIFIED:20170326T013547Z
UID:7677-1493348400-1493348400@www.nelliessportsbar.com
SUMMARY:RuPaul's Drag Race Watch Party
DESCRIPTION:Watch with your Nellie friends!
URL:https://www.nelliessportsbar.com/event/rupauls-drag-race-watch-party-2017-04-28/
ATTACH;FMTTYPE=image/jpeg:https://cdn.nelliessportsbar.com/2021/11/rupaul_season9.jpg
END:VEVENT
BEGIN:VEVENT
DTSTART;VALUE=DATE:20170424
DTEND;VALUE=DATE:20170425
DTSTAMP:20260422T170238
CREATED:20170413T060936Z
LAST-MODIFIED:20170413T060936Z
UID:7691-1493002800-1493002800@www.nelliessportsbar.com
SUMMARY:Stoli Key West Cocktail Classic
DESCRIPTION:Come cheer on your favorites in an all-star bartending competition.
URL:https://www.nelliessportsbar.com/event/stoli-key-west-cocktail-classic/
ATTACH;FMTTYPE=image/jpeg:https://cdn.nelliessportsbar.com/2021/11/stoli_competition.jpg
END:VEVENT
BEGIN:VEVENT
DTSTART;VALUE=DATE:20170421
DTEND;VALUE=DATE:20170422
DTSTAMP:20260422T170238
CREATED:20170326T013547Z
LAST-MODIFIED:20170326T013547Z
UID:7676-1492743600-1492743600@www.nelliessportsbar.com
SUMMARY:RuPaul's Drag Race Watch Party
DESCRIPTION:Watch with your Nellie friends!
URL:https://www.nelliessportsbar.com/event/rupauls-drag-race-watch-party-2017-04-21/
ATTACH;FMTTYPE=image/jpeg:https://cdn.nelliessportsbar.com/2021/11/rupaul_season9.jpg
END:VEVENT
BEGIN:VEVENT
DTSTART;VALUE=DATE:20170419
DTEND;VALUE=DATE:20170420
DTSTAMP:20260422T170238
CREATED:20170404T185800Z
LAST-MODIFIED:20170404T185800Z
UID:7685-1492570800-1492570800@www.nelliessportsbar.com
SUMMARY:Stonewall & TeamDC Sports Mixer
DESCRIPTION:A coming together of all our favorite sports leagues!
URL:https://www.nelliessportsbar.com/event/stonewall-teamdc-sports-mixer/
ATTACH;FMTTYPE=image/jpeg:https://cdn.nelliessportsbar.com/2021/11/image001.jpg
END:VEVENT
BEGIN:VEVENT
DTSTART;VALUE=DATE:20170414
DTEND;VALUE=DATE:20170415
DTSTAMP:20260422T170238
CREATED:20170326T013547Z
LAST-MODIFIED:20170326T013547Z
UID:7675-1492138800-1492138800@www.nelliessportsbar.com
SUMMARY:RuPaul's Drag Race Watch Party
DESCRIPTION:Watch with your Nellie friends!
URL:https://www.nelliessportsbar.com/event/rupauls-drag-race-watch-party-2017-04-14/
ATTACH;FMTTYPE=image/jpeg:https://cdn.nelliessportsbar.com/2021/11/rupaul_season9.jpg
END:VEVENT
BEGIN:VEVENT
DTSTART;VALUE=DATE:20170407
DTEND;VALUE=DATE:20170408
DTSTAMP:20260422T170238
CREATED:20170326T013547Z
LAST-MODIFIED:20170326T013547Z
UID:7674-1491534000-1491534000@www.nelliessportsbar.com
SUMMARY:RuPaul's Drag Race Watch Party
DESCRIPTION:Watch with your Nellie friends!
URL:https://www.nelliessportsbar.com/event/rupauls-drag-race-watch-party-2017-04-07/
ATTACH;FMTTYPE=image/jpeg:https://cdn.nelliessportsbar.com/2021/11/rupaul_season9.jpg
END:VEVENT
BEGIN:VEVENT
DTSTART;VALUE=DATE:20170406
DTEND;VALUE=DATE:20170407
DTSTAMP:20260422T170238
CREATED:20170326T013230Z
LAST-MODIFIED:20170326T013230Z
UID:7666-1491447600-1491447600@www.nelliessportsbar.com
SUMMARY:80s / 90s Dance Party
DESCRIPTION:brought to you by Stonewall Kickball!
URL:https://www.nelliessportsbar.com/event/80s-90s-dance-party/
ATTACH;FMTTYPE=image/jpeg:https://cdn.nelliessportsbar.com/2021/11/img_0174-copy.jpg
END:VEVENT
BEGIN:VEVENT
DTSTART;VALUE=DATE:20170331
DTEND;VALUE=DATE:20170401
DTSTAMP:20260422T170238
CREATED:20170326T013547Z
LAST-MODIFIED:20170326T013547Z
UID:7669-1490929200-1490929200@www.nelliessportsbar.com
SUMMARY:RuPaul's Drag Race Watch Party
DESCRIPTION:Watch with your Nellie friends!
URL:https://www.nelliessportsbar.com/event/rupauls-drag-race-watch-party/
ATTACH;FMTTYPE=image/jpeg:https://cdn.nelliessportsbar.com/2021/11/rupaul_season9.jpg
END:VEVENT
BEGIN:VEVENT
DTSTART;VALUE=DATE:20170321
DTEND;VALUE=DATE:20170322
DTSTAMP:20260422T170238
CREATED:20170321T004007Z
LAST-MODIFIED:20170321T004007Z
UID:7663-1490065200-1490065200@www.nelliessportsbar.com
SUMMARY:Drag Bingo Benefit
DESCRIPTION:Help Sabrina White win the National All American Goddess Pageant!
URL:https://www.nelliessportsbar.com/event/drag-bingo-benefit/
ATTACH;FMTTYPE=image/jpeg:https://cdn.nelliessportsbar.com/2021/11/bingobenefit.jpg
END:VEVENT
BEGIN:VEVENT
DTSTART;VALUE=DATE:20170317
DTEND;VALUE=DATE:20170319
DTSTAMP:20260422T170238
CREATED:20170222T052829Z
LAST-MODIFIED:20170222T052829Z
UID:7655-1489719600-1489805999@www.nelliessportsbar.com
SUMMARY:St. Patrick's Day @ Nellie's!
DESCRIPTION:Happy Hour until 8 o’clock!
URL:https://www.nelliessportsbar.com/event/st-patricks-day-nellies/
ATTACH;FMTTYPE=image/jpeg:https://cdn.nelliessportsbar.com/2021/11/stpattys.jpg
END:VEVENT
BEGIN:VEVENT
DTSTART;VALUE=DATE:20170220
DTEND;VALUE=DATE:20170222
DTSTAMP:20260422T170238
CREATED:20170131T032121Z
LAST-MODIFIED:20170131T032121Z
UID:7643-1487559600-1487645999@www.nelliessportsbar.com
SUMMARY:President's Day Drag Brunch
DESCRIPTION:Special Monday Performance! \nGrab your tickets here!
URL:https://www.nelliessportsbar.com/event/presidents-day-drag-brunch/
ATTACH;FMTTYPE=image/jpeg:https://cdn.nelliessportsbar.com/2021/11/presidentsday.jpg
END:VEVENT
BEGIN:VEVENT
DTSTART;VALUE=DATE:20170213
DTEND;VALUE=DATE:20170215
DTSTAMP:20260422T170238
CREATED:20170106T010843Z
LAST-MODIFIED:20170106T010843Z
UID:7625-1486954800-1487041199@www.nelliessportsbar.com
SUMMARY:Ba'Naka's V-Day Rom-Com Movie Night
DESCRIPTION:featuring The First Wive’s Club
URL:https://www.nelliessportsbar.com/event/banakas-v-day-rom-com-movie-night/
ATTACH;FMTTYPE=image/jpeg:https://cdn.nelliessportsbar.com/2021/11/vday_banaka2.jpg
END:VEVENT
BEGIN:VEVENT
DTSTART;TZID=America/New_York:20170212T080000
DTEND;TZID=America/New_York:20170212T170000
DTSTAMP:20260422T170238
CREATED:20170107T143905Z
LAST-MODIFIED:20170107T143905Z
UID:7637-1486886400-1486918800@www.nelliessportsbar.com
SUMMARY:Duckie Party :: Valentine's Edition
DESCRIPTION:It’s a V-Day Duckie Party!!!!
URL:https://www.nelliessportsbar.com/event/duckie-party-valentines-edition/
ATTACH;FMTTYPE=image/jpeg:https://cdn.nelliessportsbar.com/2021/11/ducky_vday.jpg
END:VEVENT
BEGIN:VEVENT
DTSTART;VALUE=DATE:20170129
DTEND;VALUE=DATE:20170131
DTSTAMP:20260422T170238
CREATED:20161218T023921Z
LAST-MODIFIED:20161218T023921Z
UID:7615-1485658800-1485745199@www.nelliessportsbar.com
SUMMARY:Onesie Party!
DESCRIPTION:January 29th\, 4:30pm \nShow off in your best onesie!
URL:https://www.nelliessportsbar.com/event/onesie-party/
ATTACH;FMTTYPE=image/jpeg:https://cdn.nelliessportsbar.com/2021/11/billiards.jpg
END:VEVENT
BEGIN:VEVENT
DTSTART;VALUE=DATE:20170120
DTEND;VALUE=DATE:20170122
DTSTAMP:20260422T170238
CREATED:20170106T011102Z
LAST-MODIFIED:20170106T011102Z
UID:7634-1484881200-1484967599@www.nelliessportsbar.com
SUMMARY:Inauguration Drag Brunch
DESCRIPTION:Special Friday Performance \nGrab Tickets here!
URL:https://www.nelliessportsbar.com/event/inauguration-drag-brunch/
ATTACH;FMTTYPE=image/jpeg:https://cdn.nelliessportsbar.com/2021/11/inauguration_brunch2.jpg
END:VEVENT
BEGIN:VEVENT
DTSTART;VALUE=DATE:20170116
DTEND;VALUE=DATE:20170118
DTSTAMP:20260422T170238
CREATED:20170106T011257Z
LAST-MODIFIED:20170106T011257Z
UID:7635-1484535600-1484621999@www.nelliessportsbar.com
SUMMARY:MLK Drag Brunch
DESCRIPTION:Special Monday Performance! \nBuy tickets here!
URL:https://www.nelliessportsbar.com/event/mlk-drag-brunch/
ATTACH;FMTTYPE=image/jpeg:https://cdn.nelliessportsbar.com/2021/11/mlk.jpg
END:VEVENT
BEGIN:VEVENT
DTSTART;VALUE=DATE:20170107
DTEND;VALUE=DATE:20170109
DTSTAMP:20260422T170238
CREATED:20161218T024046Z
LAST-MODIFIED:20161218T024046Z
UID:7623-1483758000-1483844399@www.nelliessportsbar.com
SUMMARY:Stonewall Billiards - Pre-Season Meet & Greet
DESCRIPTION:Come out and Meet the Teams!
URL:https://www.nelliessportsbar.com/event/stonewall-billiards-pre-season-meet-greet/
ATTACH;FMTTYPE=image/jpeg:https://cdn.nelliessportsbar.com/2021/11/billiards.jpg
END:VEVENT
BEGIN:VEVENT
DTSTART;VALUE=DATE:20161231
DTEND;VALUE=DATE:20170102
DTSTAMP:20260422T170238
CREATED:20161205T084604Z
LAST-MODIFIED:20161205T084604Z
UID:7608-1483153200-1483239599@www.nelliessportsbar.com
SUMMARY:New Year's @ Nellie's
DESCRIPTION:Our Pop Music is as Bubbly as our Champagne!  Welcome to 2017!
URL:https://www.nelliessportsbar.com/event/new-years-nellies/
ATTACH;FMTTYPE=image/jpeg:https://cdn.nelliessportsbar.com/2021/11/newyears.jpg
END:VEVENT
BEGIN:VEVENT
DTSTART;VALUE=DATE:20161224
DTEND;VALUE=DATE:20161227
DTSTAMP:20260422T170238
CREATED:20161206T054407Z
LAST-MODIFIED:20161206T054407Z
UID:7611-1482548400-1482721199@www.nelliessportsbar.com
SUMMARY:Christmas @ Nellie's
DESCRIPTION:Spend the Holidays with Friends.
URL:https://www.nelliessportsbar.com/event/christmas-nellies/
ATTACH;FMTTYPE=image/jpeg:https://cdn.nelliessportsbar.com/2021/11/christmashours.jpg
END:VEVENT
BEGIN:VEVENT
DTSTART;VALUE=DATE:20161223
DTEND;VALUE=DATE:20161225
DTSTAMP:20260422T170238
CREATED:20161129T054108Z
LAST-MODIFIED:20161129T054108Z
UID:7602-1482462000-1482548399@www.nelliessportsbar.com
SUMMARY:Holiday Drag Brunch
DESCRIPTION:Special Friday Performance! \nGrab tickets here
URL:https://www.nelliessportsbar.com/event/holiday-drag-brunch/
ATTACH;FMTTYPE=image/jpeg:https://cdn.nelliessportsbar.com/2021/11/christmasbrunch.jpg
END:VEVENT
BEGIN:VEVENT
DTSTART;VALUE=DATE:20161219
DTEND;VALUE=DATE:20161221
DTSTAMP:20260422T170238
CREATED:20161129T053914Z
LAST-MODIFIED:20161129T053914Z
UID:7599-1482116400-1482202799@www.nelliessportsbar.com
SUMMARY:Home Alone with Ba'Naka
DESCRIPTION:The Classic Christmas Movie as you’ve never seen it before!
URL:https://www.nelliessportsbar.com/event/home-alone-banaka/
ATTACH;FMTTYPE=image/jpeg:https://cdn.nelliessportsbar.com/2021/11/homealone.jpg
END:VEVENT
BEGIN:VEVENT
DTSTART;VALUE=DATE:20161208
DTEND;VALUE=DATE:20161210
DTSTAMP:20260422T170238
CREATED:20161130T233524Z
LAST-MODIFIED:20161130T233524Z
UID:7605-1481166000-1481252399@www.nelliessportsbar.com
SUMMARY:Stonewall Kickball Video Game Night!
DESCRIPTION:Do you play?
URL:https://www.nelliessportsbar.com/event/stonewall-kickball-video-game-night/
ATTACH;FMTTYPE=image/jpeg:https://cdn.nelliessportsbar.com/2021/11/mario-kickball-poster_02.jpg
END:VEVENT
BEGIN:VEVENT
DTSTART;VALUE=DATE:20161125
DTEND;VALUE=DATE:20161127
DTSTAMP:20260422T170238
CREATED:20161101T001026Z
LAST-MODIFIED:20161101T001026Z
UID:7584-1480042800-1480129199@www.nelliessportsbar.com
SUMMARY:Black Friday Drag Brunch
DESCRIPTION:Buy tickets here. \nCatch a special Friday Performance and skip all the shopping madness this year.
URL:https://www.nelliessportsbar.com/event/black-friday-drag-brunch/
ATTACH;FMTTYPE=image/jpeg:https://cdn.nelliessportsbar.com/2021/11/blackfriday_forprint2.jpg
END:VEVENT
BEGIN:VEVENT
DTSTART;VALUE=DATE:20161122
DTEND;VALUE=DATE:20161124
DTSTAMP:20260422T170238
CREATED:20161115T040558Z
LAST-MODIFIED:20161115T040558Z
UID:7593-1479783600-1479869999@www.nelliessportsbar.com
SUMMARY:Drag Bingo benefitting Shaw Dog Park
DESCRIPTION:Come support those DC Doggies with the fabulous Ba’Naka and Sasha!
URL:https://www.nelliessportsbar.com/event/drag-bingo-benefitting-shaw-dog-park/
ATTACH;FMTTYPE=image/jpeg:https://cdn.nelliessportsbar.com/2021/11/shawdogpark-scaled.jpg
END:VEVENT
BEGIN:VEVENT
DTSTART;VALUE=DATE:20161118
DTEND;VALUE=DATE:20161120
DTSTAMP:20260422T170238
CREATED:20161108T111944Z
LAST-MODIFIED:20161108T111944Z
UID:7587-1479438000-1479524399@www.nelliessportsbar.com
SUMMARY:Thanksgiving Food Drive
DESCRIPTION:Get in the Holiday Spirit and Give to those in need.
URL:https://www.nelliessportsbar.com/event/holiday-food-drive/
ATTACH;FMTTYPE=image/jpeg:https://cdn.nelliessportsbar.com/2021/11/img_0318.jpg
END:VEVENT
BEGIN:VEVENT
DTSTART;VALUE=DATE:20161115
DTEND;VALUE=DATE:20161117
DTSTAMP:20260422T170238
CREATED:20161115T040133Z
LAST-MODIFIED:20161115T040133Z
UID:7590-1479178800-1479265199@www.nelliessportsbar.com
SUMMARY:Drag Bingo Benefit for DC Central Kitchen
DESCRIPTION:Join the DC Titan’s in making a difference this Holiday Season
URL:https://www.nelliessportsbar.com/event/drag-bingo-benefit-dc-central-kitchen/
ATTACH;FMTTYPE=image/jpeg:https://cdn.nelliessportsbar.com/2021/11/nov-bingo3.jpg
END:VEVENT
BEGIN:VEVENT
DTSTART;VALUE=DATE:20161108
DTEND;VALUE=DATE:20161110
DTSTAMP:20260422T170238
CREATED:20161101T000610Z
LAST-MODIFIED:20161101T000610Z
UID:7581-1478574000-1478660399@www.nelliessportsbar.com
SUMMARY:Election Results Watch Party
DESCRIPTION:Watch the Election Results roll in with your Nellie’s Family…
URL:https://www.nelliessportsbar.com/event/election-results-watch-party/
ATTACH;FMTTYPE=image/jpeg:https://cdn.nelliessportsbar.com/2021/11/electionnight.jpg
END:VEVENT
BEGIN:VEVENT
DTSTART;VALUE=DATE:20161031
DTEND;VALUE=DATE:20161102
DTSTAMP:20260422T170238
CREATED:20161011T191050Z
LAST-MODIFIED:20161011T191050Z
UID:7568-1477882800-1477969199@www.nelliessportsbar.com
SUMMARY:A Hocus Pocus Halloween
DESCRIPTION:Bring your best costume and take home the Grand Prize!
URL:https://www.nelliessportsbar.com/event/3639/
ATTACH;FMTTYPE=image/jpeg:https://cdn.nelliessportsbar.com/2021/11/halloween.jpg
END:VEVENT
BEGIN:VEVENT
DTSTART;VALUE=DATE:20161022
DTEND;VALUE=DATE:20161024
DTSTAMP:20260422T170238
CREATED:20161011T191804Z
LAST-MODIFIED:20161011T191804Z
UID:7576-1477105200-1477191599@www.nelliessportsbar.com
SUMMARY:Miss Adam's Morgan Make-Up with Ba'Naka!
DESCRIPTION:Grab Tickets here!
URL:https://www.nelliessportsbar.com/event/miss-adams-morgan-make-withe-banaka/
ATTACH;FMTTYPE=image/jpeg:https://cdn.nelliessportsbar.com/2021/11/https-cdn.evbuc_.com-images-24745308-129752510899-1-original.jpg
END:VEVENT
BEGIN:VEVENT
DTSTART;VALUE=DATE:20161019
DTEND;VALUE=DATE:20161021
DTSTAMP:20260422T170238
CREATED:20161011T191254Z
LAST-MODIFIED:20161011T191254Z
UID:7573-1476846000-1476932399@www.nelliessportsbar.com
SUMMARY:3rd Presidential Debate
DESCRIPTION:Watch the Final Presidential Debate @ Nellie’s – Duh!
URL:https://www.nelliessportsbar.com/event/3rd-presidential-debate/
ATTACH;FMTTYPE=image/jpeg:https://cdn.nelliessportsbar.com/2021/11/debate3.jpg
END:VEVENT
END:VCALENDAR