BEGIN:VCALENDAR
VERSION:2.0
PRODID:-//Nellie&#039;s Sports Bar - ECPv6.15.20//NONSGML v1.0//EN
CALSCALE:GREGORIAN
METHOD:PUBLISH
X-WR-CALNAME:Nellie&#039;s Sports Bar
X-ORIGINAL-URL:https://www.nelliessportsbar.com
X-WR-CALDESC:Events for Nellie&#039;s Sports Bar
REFRESH-INTERVAL;VALUE=DURATION:PT1H
X-Robots-Tag:noindex
X-PUBLISHED-TTL:PT1H
BEGIN:VTIMEZONE
TZID:America/New_York
BEGIN:DAYLIGHT
TZOFFSETFROM:-0500
TZOFFSETTO:-0400
TZNAME:EDT
DTSTART:20230312T070000
END:DAYLIGHT
BEGIN:STANDARD
TZOFFSETFROM:-0400
TZOFFSETTO:-0500
TZNAME:EST
DTSTART:20231105T060000
END:STANDARD
BEGIN:DAYLIGHT
TZOFFSETFROM:-0500
TZOFFSETTO:-0400
TZNAME:EDT
DTSTART:20240310T070000
END:DAYLIGHT
BEGIN:STANDARD
TZOFFSETFROM:-0400
TZOFFSETTO:-0500
TZNAME:EST
DTSTART:20241103T060000
END:STANDARD
BEGIN:DAYLIGHT
TZOFFSETFROM:-0500
TZOFFSETTO:-0400
TZNAME:EDT
DTSTART:20250309T070000
END:DAYLIGHT
BEGIN:STANDARD
TZOFFSETFROM:-0400
TZOFFSETTO:-0500
TZNAME:EST
DTSTART:20251102T060000
END:STANDARD
END:VTIMEZONE
BEGIN:VEVENT
DTSTART;VALUE=DATE:20241127
DTEND;VALUE=DATE:20241130
DTSTAMP:20260421T204030
CREATED:20241124T224115Z
LAST-MODIFIED:20241124T224115Z
UID:14998-1732676400-1732849199@www.nelliessportsbar.com
SUMMARY:Thanksgiving @ Nellie's -- Before & After the Feast!
DESCRIPTION:🦃🍂 Get ready to gobble and groove! Nellie’s Sports Bar presents the Thanksgiving Turkey Turn Up 🎉 with $2 Vienna Lager bottles 🍺 and $7 Ciroc Lemon Drops 🍋 ALL NIGHT! 🕺💃 Join us on Thanksgiving Eve (Wed 11/27) starting at 5 PM with a DJ at 10 PM 🎶 and keep the party going on Turkey Day (Thurs 11/28) from 9 PM\, sponsored by Xavier Entertainment. Beats\, drinks\, and holiday vibes await! Don’t miss it! 🦃🍁 #ThanksgivingTurnUp #NelliesDC
URL:https://www.nelliessportsbar.com/event/thanksgiving-nellies-before-after-the-feast/
ATTACH;FMTTYPE=image/jpeg:https://cdn.nelliessportsbar.com/2024/11/Thanksgiving-Party_16x9.jpg
END:VEVENT
BEGIN:VEVENT
DTSTART;VALUE=DATE:20241031
DTEND;VALUE=DATE:20241102
DTSTAMP:20260421T204030
CREATED:20240925T204752Z
LAST-MODIFIED:20241029T150357Z
UID:14871-1730343600-1730429999@www.nelliessportsbar.com
SUMMARY:Heaven or Hell Halloween - Dj & Costume Contest!
DESCRIPTION:🕷️👑 Halloween at Nellie’s means big scares and even bigger prizes! Xavier entertainment presents Heaven or Hell\, a night of dancing\, hauntingly good drinks\, and wild costumes! Strut in your costume and you could win $300 cash\, with big prizes going to the runner-ups as well. Let’s make this Halloween unforgettable. RSVP here! 👻
URL:https://www.nelliessportsbar.com/event/halloween-dj-costume-contest/
ATTACH;FMTTYPE=image/jpeg:https://cdn.nelliessportsbar.com/2024/10/combined-halloween.jpg
END:VEVENT
BEGIN:VEVENT
DTSTART;VALUE=DATE:20241023
DTEND;VALUE=DATE:20241025
DTSTAMP:20260421T204030
CREATED:20240925T204035Z
LAST-MODIFIED:20240925T204035Z
UID:14866-1729652400-1729738799@www.nelliessportsbar.com
SUMMARY:Special Trivia Event
DESCRIPTION:🎤 Think you know it all? Prove it at our Out of Bounds Trivia! This week featuring the one and only Deja Diamond bringing extra sparkle and sass to our quiz night. Join us for laughs\, learning\, and other surprises! 💃
URL:https://www.nelliessportsbar.com/event/special-trivia-event/
ATTACH;FMTTYPE=image/jpeg:https://cdn.nelliessportsbar.com/2024/09/Out-of-Bounds-Trivia-w-Deja_16x9.jpg
END:VEVENT
BEGIN:VEVENT
DTSTART;VALUE=DATE:20241022
DTEND;VALUE=DATE:20241024
DTSTAMP:20260421T204030
CREATED:20241017T135128Z
LAST-MODIFIED:20241017T135128Z
UID:14890-1729566000-1729652399@www.nelliessportsbar.com
SUMMARY:Tinashe Concert Giveaway - Drag Bingo!
DESCRIPTION:Get ready for a fierce Tuesday night at Nellie’s with Drag Bingo and a chance to win tickets to see Tinashe live at The Anthem on Friday\, November 1st! 🎤💃 Mark your calendars for Bingo on October 22nd at 7 pm and bring your lucky vibes. 🍀 Let’s turn up the energy with your favorite hits and a night full of fun surprises! 🎉
URL:https://www.nelliessportsbar.com/event/tinashe-concert-giveaway-drag-bingo/
ATTACH;FMTTYPE=image/jpeg:https://cdn.nelliessportsbar.com/2024/10/Nellies_Template_Horizontal-copyail.jpg
END:VEVENT
BEGIN:VEVENT
DTSTART;VALUE=DATE:20241019
DTEND;VALUE=DATE:20241022
DTSTAMP:20260421T204030
CREATED:20241017T134748Z
LAST-MODIFIED:20241017T134748Z
UID:14886-1729306800-1729479599@www.nelliessportsbar.com
SUMMARY:Howard Homecoming Drag Brunch
DESCRIPTION:🎉 Get ready\, Bison! 🦬 Join us for a special Howard Homecoming edition of Nellie’s Drag Brunch on October 19th & 20th.💃🏽 Celebrate with Howard pride\, enjoy your first Bloody Mary or mimosa on us\, and experience the magic of drag! 🥂 Grab your tickets here!
URL:https://www.nelliessportsbar.com/event/howard-homecoming-drag-brunch/
ATTACH;FMTTYPE=image/jpeg:https://cdn.nelliessportsbar.com/2024/10/Howard-Homecoming_16x9.jpg
END:VEVENT
BEGIN:VEVENT
DTSTART;VALUE=DATE:20241008
DTEND;VALUE=DATE:20241010
DTSTAMP:20260421T204030
CREATED:20240925T203807Z
LAST-MODIFIED:20240925T203807Z
UID:14863-1728356400-1728442799@www.nelliessportsbar.com
SUMMARY:DC Children's Heart Walk DRAG BINGO Fundraiser
DESCRIPTION:💖 Heart beats and bingo beats! Join us at Nellie’s for a Drag Bingo Fundraiser supporting DC Children’s Heart Walk. Let’s bingo for a cause this Tuesday\, 10/8 at 7 PM. Fabulous prizes and unforgettable fun await!
URL:https://www.nelliessportsbar.com/event/dc-childrens-heart-walk-drag-bingo-fundraiser/
ATTACH;FMTTYPE=image/jpeg:https://cdn.nelliessportsbar.com/2024/09/DC-Heart-Walk-Fundraiser_16x9.jpg
END:VEVENT
BEGIN:VEVENT
DTSTART;VALUE=DATE:20241001
DTEND;VALUE=DATE:20241003
DTSTAMP:20260421T204030
CREATED:20240925T203547Z
LAST-MODIFIED:20240925T203547Z
UID:14856-1727751600-1727837999@www.nelliessportsbar.com
SUMMARY:VP Debate Watch Party!
DESCRIPTION:Debates\, Drinks\, and Bingo! Join us at Nellie’s this Tuesday for a debate watch like no other. Dive into the political season with our special Debate Bingo and make every mention a reason to cheer and drink! 🇺🇸
URL:https://www.nelliessportsbar.com/event/vp-debate-watch-party/
ATTACH;FMTTYPE=image/jpeg:https://cdn.nelliessportsbar.com/2024/09/VP-Debates_16x9.jpg
END:VEVENT
BEGIN:VEVENT
DTSTART;VALUE=DATE:20240904
DTEND;VALUE=DATE:20240906
DTSTAMP:20260421T204030
CREATED:20240803T104457Z
LAST-MODIFIED:20240803T104457Z
UID:14793-1725418800-1725505199@www.nelliessportsbar.com
SUMMARY:Nikki Minaj Ticket Giveaway Party!
DESCRIPTION:Come join us at Nellie’s Sports Bar for a night dedicated to the Queen of Rap herself\, Nicki Minaj! Get ready to dance to all of her hits\, from “Super Bass” to “Anaconda” and everything in between. Dress to impress in your best Nicki-inspired outfit and get ready to slay the dance floor! \nWhether you’re a die-hard Barb or just love a good night out\, this event is perfect for all Nicki Minaj fans. So grab your friends\, grab a drink\, and let’s party like it’s NICKI MINAJ NIGHT! \nRSVP HERE!
URL:https://www.nelliessportsbar.com/event/nikki-minaj-ticket-giveaway-party/
ATTACH;FMTTYPE=image/jpeg:https://cdn.nelliessportsbar.com/2024/08/Nicki-Minaj_16x9.jpg
END:VEVENT
BEGIN:VEVENT
DTSTART;VALUE=DATE:20240831
DTEND;VALUE=DATE:20240903
DTSTAMP:20260421T204030
CREATED:20230825T183913Z
LAST-MODIFIED:20240816T183943Z
UID:13943-1725073200-1725245999@www.nelliessportsbar.com
SUMMARY:Labor Day Weekend Drag Brunch
DESCRIPTION:The Ladies of Nellie’s bid adieu to summer with one last unforgettable bash! Enjoy your first mimosa or bloody mary on the house as we celebrate in style. Don’t miss out—secure your spot and grab tickets HERE to join the fun!
URL:https://www.nelliessportsbar.com/event/labor-day-weekend-brunch/
ATTACH;FMTTYPE=image/jpeg:https://cdn.nelliessportsbar.com/2024/08/Drag-Brunch-Main-Labor-Day.jpg
END:VEVENT
BEGIN:VEVENT
DTSTART;VALUE=DATE:20240825
DTEND;VALUE=DATE:20240910
DTSTAMP:20260421T204030
CREATED:20240731T181953Z
LAST-MODIFIED:20240731T181953Z
UID:14784-1724554800-1725850799@www.nelliessportsbar.com
SUMMARY:US Open
DESCRIPTION:🌟 Join us for two weeks of tennis excitement starting on August 25th at Nellie’s. Come serve up some fun and cheer for your favorites as we watch the games on our many
URL:https://www.nelliessportsbar.com/event/us-open-2/
ATTACH;FMTTYPE=image/jpeg:https://cdn.nelliessportsbar.com/2024/07/US-Open_16x9.jpg
END:VEVENT
BEGIN:VEVENT
DTSTART;VALUE=DATE:20240821
DTEND;VALUE=DATE:20240823
DTSTAMP:20260421T204030
CREATED:20240731T181831Z
LAST-MODIFIED:20240803T104928Z
UID:14781-1724209200-1724295599@www.nelliessportsbar.com
SUMMARY:Taylor's Night -- Montly Taylor Swift Party!
DESCRIPTION:🚨Attention all Swifties! This is your night at Nellie’s! 🌟 Every third Wednesday\, starting August 21st\, it’s Taylor’s Night. We promise nothing but Taylor Swift hits all night long\, so dress up\, sing along\, and enjoy our Swift Sip Cocktails for just $8. We’re partnering with Xavier Entertainment for this one\, so you know it’s going to be 🔥.  See you there!  \nRSVP here!
URL:https://www.nelliessportsbar.com/event/taylors-night-montly-taylor-swift-party/
ATTACH;FMTTYPE=image/jpeg:https://cdn.nelliessportsbar.com/2024/07/Taylors-Night-B_16x9.jpg
END:VEVENT
BEGIN:VEVENT
DTSTART;VALUE=DATE:20240820
DTEND;VALUE=DATE:20240822
DTSTAMP:20260421T204030
CREATED:20240731T181736Z
LAST-MODIFIED:20240731T181736Z
UID:14778-1724122800-1724209199@www.nelliessportsbar.com
SUMMARY:Santigold Ticket Giveaway -- Drag Bingo!
DESCRIPTION:🚨GIVEAWAY🚨 \nGet ready to groove with Santigold! 🌟 Join us at Nellie’s for Drag Bingo this Tuesday\, August 20th at 7 PM and enter to win tickets to see Santigold live at The Fillmore Silver Spring on August 24th. Don’t miss your chance to win\, bring your bingo A-game and let’s have a blast! 🥳
URL:https://www.nelliessportsbar.com/event/santigold-ticket-giveaway-drag-bingo/
ATTACH;FMTTYPE=image/jpeg:https://cdn.nelliessportsbar.com/2024/07/Santigold_16x9.jpg
END:VEVENT
BEGIN:VEVENT
DTSTART;VALUE=DATE:20240813
DTEND;VALUE=DATE:20240815
DTSTAMP:20260421T204030
CREATED:20240731T181610Z
LAST-MODIFIED:20240731T181610Z
UID:14776-1723518000-1723604399@www.nelliessportsbar.com
SUMMARY:Idina Menzel Ticket Giveaway -- Drag Bingo!
DESCRIPTION:🚨GIVEAWAY🚨 \nCalling all Idina Menzel fans! 🌟🎵 Join us at Nellie’s for Drag Bingo on August 13th and you could win tickets to see Idina’s live concert at Warner Theatre on August 17th. Bring your friends\, play bingo\, and win a chance to experience her amazing music live! 🎉
URL:https://www.nelliessportsbar.com/event/idina-menzel-ticket-giveaway-drag-bingo/
ATTACH;FMTTYPE=image/jpeg:https://cdn.nelliessportsbar.com/2024/07/Idina-Menzel_16x9.jpg
END:VEVENT
BEGIN:VEVENT
DTSTART;VALUE=DATE:20240806
DTEND;VALUE=DATE:20240808
DTSTAMP:20260421T204030
CREATED:20240731T181448Z
LAST-MODIFIED:20240731T181448Z
UID:14769-1722913200-1722999599@www.nelliessportsbar.com
SUMMARY:New Kids On the Block Ticket Giveaway -- Drag Bingo!
DESCRIPTION:Bingo\, Boys\, and Beats! 🎤✨ Get ready for an epic Tuesday night at Nellie’s with Drag Bingo and a chance to win tickets to see New Kids on the Block live at Merriweather Post Pavilion on August 16th! Mark your calendars for Bingo on August 6th for your chance to win. Bring your lucky charms\, and let’s turn the night up with your favorite hits.
URL:https://www.nelliessportsbar.com/event/new-kids-on-the-block-ticket-giveaway-drag-bingo/
ATTACH;FMTTYPE=image/jpeg:https://cdn.nelliessportsbar.com/2024/07/New-Kids-on-the-Block_16x9.jpg
END:VEVENT
BEGIN:VEVENT
DTSTART;VALUE=DATE:20240724
DTEND;VALUE=DATE:20240726
DTSTAMP:20260421T204030
CREATED:20240708T164746Z
LAST-MODIFIED:20240708T164746Z
UID:14739-1721790000-1721876399@www.nelliessportsbar.com
SUMMARY:National Tequila Day
DESCRIPTION:🌵 Got Tequila? We do! Join us at Nellie’s on National Tequila Day on July 24th for a taste of the best: Patrón\, Don Julio\, Milagro\, Espolòn\, and Altos. 🍹 Come for the tequila\, stay for the fun!
URL:https://www.nelliessportsbar.com/event/national-tequila-day-2/
ATTACH;FMTTYPE=image/jpeg:https://cdn.nelliessportsbar.com/2024/07/National-Tequila-Day_16x9.jpg
END:VEVENT
BEGIN:VEVENT
DTSTART;VALUE=DATE:20240712
DTEND;VALUE=DATE:20240714
DTSTAMP:20260421T204030
CREATED:20240524T204212Z
LAST-MODIFIED:20240526T173238Z
UID:14638-1720753200-1720839599@www.nelliessportsbar.com
SUMMARY:TEAM DC Summer Sports Mixer
DESCRIPTION:Join Team DC for the Summer Sports Mixer at Nellie’s Sports Bar on Friday\, July 12th at 6 PM! Enjoy a fun evening with fabulous giveaways\, including tickets to hot summer concerts\, and a free house cocktail or Nellie beer with your donation of new school supplies. Support the DC Public Schools LGBTQ+ Office while mingling and celebrating the summer with great company. Don’t miss this exciting event full of community spirit and great prizes!
URL:https://www.nelliessportsbar.com/event/team-dc-summer-sports-mixer/
ATTACH;FMTTYPE=image/jpeg:https://cdn.nelliessportsbar.com/2024/05/Team-DC-Summer-Sports-Mixer_v3_16x9.jpg
END:VEVENT
BEGIN:VEVENT
DTSTART;VALUE=DATE:20240621
DTEND;VALUE=DATE:20240623
DTSTAMP:20260421T204030
CREATED:20240524T203208Z
LAST-MODIFIED:20240524T203208Z
UID:14628-1718938800-1719025199@www.nelliessportsbar.com
SUMMARY:Taylor's Night
DESCRIPTION:🌟🎤 Swifties\, Assemble at Nellie’s! Join us on Friday\, June 21st for Taylor’s Night at Nellie’s\, presented by Xavier Entertainment. Get ready to shake it off to all of Taylor Swift’s biggest hits from 10 PM to 3 AM. Just bring your love for Taylor and let’s party! \nLet us know you’re coming here!
URL:https://www.nelliessportsbar.com/event/taylors-night/
ATTACH;FMTTYPE=image/jpeg:https://cdn.nelliessportsbar.com/2024/05/Taylors-Night_16x9.jpg
END:VEVENT
BEGIN:VEVENT
DTSTART;VALUE=DATE:20240619
DTEND;VALUE=DATE:20240621
DTSTAMP:20260421T204030
CREATED:20240524T203343Z
LAST-MODIFIED:20240524T203343Z
UID:14630-1718766000-1718852399@www.nelliessportsbar.com
SUMMARY:Juneteenth Rooftop Celebration
DESCRIPTION:🌟🎉 Celebrate Juneteenth at Nellie’s! Join us on the roof deck this June 19th to honor freedom and equality. Enjoy a day filled with reflection\, unity\, and community spirit. Don’t miss out on this special celebration—let’s uplift and rejoice together! 🍹🌈
URL:https://www.nelliessportsbar.com/event/juneteenth-rooftop-celebration/
ATTACH;FMTTYPE=image/jpeg:https://cdn.nelliessportsbar.com/2024/05/Juneteenth_16x9.jpg
END:VEVENT
BEGIN:VEVENT
DTSTART;VALUE=DATE:20240604
DTEND;VALUE=DATE:20240606
DTSTAMP:20260421T204030
CREATED:20240524T202226Z
LAST-MODIFIED:20240524T202226Z
UID:14606-1717470000-1717556399@www.nelliessportsbar.com
SUMMARY:Orville Peck Ticket Giveaway @ Pride Drag Bingo!
DESCRIPTION:🎟️🌈 Win Tickets to See Orville Peck at Pride Drag Bingo! Gear up for an unforgettable night at Nellie’s on June 4th at 8pm.  Play bingo\, win big\, and you might just find yourself at Orville Peck’s concert at he Anthem on June 30th. Bring your Pride spirit and let’s make it a night to remember! 🤩👠
URL:https://www.nelliessportsbar.com/event/orville-peck-ticket-giveaway-pride-drag-bingo/
ATTACH;FMTTYPE=image/jpeg:https://cdn.nelliessportsbar.com/2024/05/Orville-Peck-Nellies-Onsite_16x9.jpg
END:VEVENT
BEGIN:VEVENT
DTSTART;VALUE=DATE:20240603
DTEND;VALUE=DATE:20240611
DTSTAMP:20260421T204030
CREATED:20240524T202425Z
LAST-MODIFIED:20240524T202425Z
UID:14618-1717383600-1717988399@www.nelliessportsbar.com
SUMMARY:🌈DC Capital Pride
DESCRIPTION:🌈✨ Pride is HERE and Nellie’s is Ready to Celebrate! Join us for DC Capital Pride from June 3-9. We’re turning up the fun with amazing DJs\, drink specials\, and the most fabulous drag brunches in town. Hennessey will also be coming to Nellie’s to do some giveaways on Saturday June 8th from 3pm-5pm. Don’t miss a minute of the action! 🎉🍹 \n#CapitalPride #DCPride
URL:https://www.nelliessportsbar.com/event/%f0%9f%8c%88dc-capital-pride/
ATTACH;FMTTYPE=image/jpeg:https://cdn.nelliessportsbar.com/2024/05/DC-Pride-2024_16x9.jpg
END:VEVENT
BEGIN:VEVENT
DTSTART;VALUE=DATE:20240601
DTEND;VALUE=DATE:20240702
DTSTAMP:20260421T204030
CREATED:20240524T203440Z
LAST-MODIFIED:20240524T203440Z
UID:14633-1717210800-1719802799@www.nelliessportsbar.com
SUMMARY:Happy Pride Month!
DESCRIPTION:🎶🏳️‍🌈 Pride Never Pauses at Nellie’s! We’re keeping the Pride spirit alive and vibrant! There’s still plenty of time to celebrate with us this June with our special events\, fun nights\, and great drink specials. Let’s make every moment count as we celebrate love and equality! 🍹🌟
URL:https://www.nelliessportsbar.com/event/happy-pride-month/
ATTACH;FMTTYPE=image/jpeg:https://cdn.nelliessportsbar.com/2024/05/Pride-Month-2024_16x9.jpg
END:VEVENT
BEGIN:VEVENT
DTSTART;VALUE=DATE:20240524
DTEND;VALUE=DATE:20240529
DTSTAMP:20260421T204030
CREATED:20240424T174035Z
LAST-MODIFIED:20240524T202700Z
UID:14583-1716519600-1716865199@www.nelliessportsbar.com
SUMMARY:Memorial Day Weekend
DESCRIPTION:🌞🍹 Hello\, Summer! Start the season off right this Memorial Day Weekend on our rooftop. Come for the cool drinks\, delicious food\, and good views\, all while getting some fresh air.  We’ll see you on the rooftop! #UStreet #ShawNeighborhood #DCBar #MemorialDayWeekend \nDrop by Saturday 5/25 from 2pm to 4pm for some fun Hennessey giveaways! Don’t miss out! 🎉🍹 \n 
URL:https://www.nelliessportsbar.com/event/memorial-day-weekend/
ATTACH;FMTTYPE=image/jpeg:https://cdn.nelliessportsbar.com/2024/04/Memorial-Day-Weekend_16x9.jpg
END:VEVENT
BEGIN:VEVENT
DTSTART;VALUE=DATE:20240512
DTEND;VALUE=DATE:20240514
DTSTAMP:20260421T204030
CREATED:20240424T173908Z
LAST-MODIFIED:20240424T173908Z
UID:14581-1715482800-1715569199@www.nelliessportsbar.com
SUMMARY:Mother's Day Drag Brunch
DESCRIPTION:🌈🥳 Celebrate Mom in Style! This Mother’s Day\, why not do something extra special? Bring your mom to Nellie’s for a drag brunch that dazzles! She’ll see why we’re rated #1. Enjoy our All-You-Can-Eat Brunch Buffet and experience the magic of Sapphire Blue and our amazing drag performers. Your first Mimosa or Zing Zang Bloody Mary is also for FREE! Limited spots\, so snag your tickets now. 🍹🌟 Grab your tickets HERE! \n#DCDragBrunch #DragBrunch #DCDrag #NelliesDragBrunch
URL:https://www.nelliessportsbar.com/event/mothers-day-drag-brunch-2/
ATTACH;FMTTYPE=image/jpeg:https://cdn.nelliessportsbar.com/2024/04/Mothers-Day-Drag-Brunch_16x9.jpg
END:VEVENT
BEGIN:VEVENT
DTSTART;VALUE=DATE:20240505
DTEND;VALUE=DATE:20240507
DTSTAMP:20260421T204030
CREATED:20240424T173710Z
LAST-MODIFIED:20240424T173710Z
UID:14575-1714878000-1714964399@www.nelliessportsbar.com
SUMMARY:Cinco de Mayo
DESCRIPTION:🌵🎶 Turn Up the Heat This Cinco de Mayo at Nellie’s! Dive into our Hennessy Margaritas and Margarita Slushies and get your dance on with the DJ starting at 5pm. It’s a day of sun\, fun\, and tequila—don’t miss it! 🎉🍹 Get your fiesta on! \n#UStreet #ShawNeighborhood #CincodeMayo
URL:https://www.nelliessportsbar.com/event/cinco-de-mayo-3/
ATTACH;FMTTYPE=image/jpeg:https://cdn.nelliessportsbar.com/2024/04/Cinco-De-Mayo_16x9.jpg
END:VEVENT
BEGIN:VEVENT
DTSTART;VALUE=DATE:20240420
DTEND;VALUE=DATE:20240422
DTSTAMP:20260421T204030
CREATED:20240403T152829Z
LAST-MODIFIED:20240403T152829Z
UID:14556-1713582000-1713668399@www.nelliessportsbar.com
SUMMARY:420 Day
DESCRIPTION:🌿🎉 Let’s spark up the celebration on 420 Day with our mouthwatering Liquid MJ Cocktails! Sip on this irresistible blend of Malibu\, Blue Curaçao\, and pineapple for only $12\, while enjoying all your favorite tasty snacks. 
URL:https://www.nelliessportsbar.com/event/420-day-2/
ATTACH;FMTTYPE=image/jpeg:https://cdn.nelliessportsbar.com/2024/04/420-Day_16x9.jpg
END:VEVENT
BEGIN:VEVENT
DTSTART;VALUE=DATE:20240407
DTEND;VALUE=DATE:20240409
DTSTAMP:20260421T204030
CREATED:20240403T152556Z
LAST-MODIFIED:20240403T152556Z
UID:14546-1712458800-1712545199@www.nelliessportsbar.com
SUMMARY:National Beer Day
DESCRIPTION:🍻🎉 Raise a glass with us on April 7th as we celebrate National Beer Day! Enjoy our wide selection of ice-cold drafts\, the perfect way to toast to this hoppy holiday. #NationalBeerDay
URL:https://www.nelliessportsbar.com/event/national-beer-day/
ATTACH;FMTTYPE=image/jpeg:https://cdn.nelliessportsbar.com/2024/04/National-Beer-Day_16x9.jpg
END:VEVENT
BEGIN:VEVENT
DTSTART;VALUE=DATE:20240330
DTEND;VALUE=DATE:20240402
DTSTAMP:20260421T204030
CREATED:20240222T182058Z
LAST-MODIFIED:20240222T182238Z
UID:14519-1711767600-1711940399@www.nelliessportsbar.com
SUMMARY:Easter Weekend Drag Brunch
DESCRIPTION:Hop into Easter Weekend with style at Nellie’s Drag Brunch on March 30th and 31st at 2pm! Indulge in an extravagant All-You-Can-Eat Brunch Buffet while enjoying the fabulous performances by Sapphire Blue and our dazzling drag stars. Your first Mimosa or Zing Zang Bloody Mary is also for FREE! Don’t miss out on this egg-citing celebration! Limited spots\, so snag your tickets here!
URL:https://www.nelliessportsbar.com/event/easter-weekend-drag-brunch-2/
ATTACH;FMTTYPE=image/jpeg:https://cdn.nelliessportsbar.com/2024/02/Easter-Drag-Brunch_16x9.jpg
END:VEVENT
BEGIN:VEVENT
DTSTART;VALUE=DATE:20240317
DTEND;VALUE=DATE:20240319
DTSTAMP:20260421T204030
CREATED:20240222T181804Z
LAST-MODIFIED:20240222T181804Z
UID:14514-1710644400-1710730799@www.nelliessportsbar.com
SUMMARY:St. Patrick's Day
DESCRIPTION:🌈🍻 It’s time to sham-rock and roll at Nellie’s this St. Patrick’s Day\, March 17th! Enjoy unbeatable drink specials\, including $3 Jell-O Shots\, $5 Green Beer\, $7 Guinness\, and $8 Jack Daniel’s Tennessee Apple. Let’s paint the town green! 🍀🎶
URL:https://www.nelliessportsbar.com/event/st-patricks-day-2/
ATTACH;FMTTYPE=image/jpeg:https://cdn.nelliessportsbar.com/2024/02/Saint-Patricks_16x9.jpg
END:VEVENT
BEGIN:VEVENT
DTSTART;VALUE=DATE:20240308
DTEND;VALUE=DATE:20240310
DTSTAMP:20260421T204030
CREATED:20240222T181711Z
LAST-MODIFIED:20240222T181711Z
UID:14507-1709866800-1709953199@www.nelliessportsbar.com
SUMMARY:Nellie's Celebrates International Women's Day!
DESCRIPTION:💪🌍 Happy International Women’s Day from Nellie’s! Today\, we celebrate the remarkable achievements and contributions of women everywhere. We raise a glass to you!💖✨ #IWD2024 #WomensDayCelebration
URL:https://www.nelliessportsbar.com/event/nellies-celebrates-international-womens-day/
ATTACH;FMTTYPE=image/jpeg:https://cdn.nelliessportsbar.com/2024/02/International-Womens-Day_16x9.jpg
END:VEVENT
BEGIN:VEVENT
DTSTART;VALUE=DATE:20240305
DTEND;VALUE=DATE:20240307
DTSTAMP:20260421T204030
CREATED:20240222T213702Z
LAST-MODIFIED:20240222T213702Z
UID:14524-1709607600-1709693999@www.nelliessportsbar.com
SUMMARY:RuPaul Book Tour Giveaway at Nellie's Drag Brunch!
DESCRIPTION:⭐⭐Calling all RuPaul fans! Want to win 2 tickets to see the queen herself on her new book tour for “The House of Hidden Meetings” at Warner Theatre? Join us at Drag Bingo on Tuesday\, March 5th for your chance to snag these fabulous prizes! It’s time to bingo like you mean it\, and strut away a winner!💃
URL:https://www.nelliessportsbar.com/event/rupaul-book-tour-giveaway-at-nellies-drag-brunch/
ATTACH;FMTTYPE=image/jpeg:https://cdn.nelliessportsbar.com/2024/02/RuPaul-Drag-Brunch_16x9.jpg
END:VEVENT
END:VCALENDAR