BEGIN:VCALENDAR
VERSION:2.0
PRODID:-//Nellie&#039;s Sports Bar - ECPv6.15.20//NONSGML v1.0//EN
CALSCALE:GREGORIAN
METHOD:PUBLISH
X-WR-CALNAME:Nellie&#039;s Sports Bar
X-ORIGINAL-URL:https://www.nelliessportsbar.com
X-WR-CALDESC:Events for Nellie&#039;s Sports Bar
REFRESH-INTERVAL;VALUE=DURATION:PT1H
X-Robots-Tag:noindex
X-PUBLISHED-TTL:PT1H
BEGIN:VTIMEZONE
TZID:America/New_York
BEGIN:DAYLIGHT
TZOFFSETFROM:-0500
TZOFFSETTO:-0400
TZNAME:EDT
DTSTART:20170312T070000
END:DAYLIGHT
BEGIN:STANDARD
TZOFFSETFROM:-0400
TZOFFSETTO:-0500
TZNAME:EST
DTSTART:20171105T060000
END:STANDARD
BEGIN:DAYLIGHT
TZOFFSETFROM:-0500
TZOFFSETTO:-0400
TZNAME:EDT
DTSTART:20180311T070000
END:DAYLIGHT
BEGIN:STANDARD
TZOFFSETFROM:-0400
TZOFFSETTO:-0500
TZNAME:EST
DTSTART:20181104T060000
END:STANDARD
BEGIN:DAYLIGHT
TZOFFSETFROM:-0500
TZOFFSETTO:-0400
TZNAME:EDT
DTSTART:20190310T070000
END:DAYLIGHT
BEGIN:STANDARD
TZOFFSETFROM:-0400
TZOFFSETTO:-0500
TZNAME:EST
DTSTART:20191103T060000
END:STANDARD
END:VTIMEZONE
BEGIN:VEVENT
DTSTART;VALUE=DATE:20181113
DTEND;VALUE=DATE:20181114
DTSTAMP:20260422T074116
CREATED:20181105T231019Z
LAST-MODIFIED:20181105T231019Z
UID:8272-1542078000-1542078000@www.nelliessportsbar.com
SUMMARY:Drag Bingo -- Golden Girls Night
DESCRIPTION:
URL:https://www.nelliessportsbar.com/event/drag-bingo-golden-girls-night/
ATTACH;FMTTYPE=image/jpeg:https://cdn.nelliessportsbar.com/2021/11/newbingo2.jpg
END:VEVENT
BEGIN:VEVENT
DTSTART;VALUE=DATE:20181106
DTEND;VALUE=DATE:20181107
DTSTAMP:20260422T074116
CREATED:20181105T230929Z
LAST-MODIFIED:20181105T230929Z
UID:8271-1541473200-1541473200@www.nelliessportsbar.com
SUMMARY:Drag Bingo -- Stuff Your Turkey Night
DESCRIPTION:
URL:https://www.nelliessportsbar.com/event/drag-bingo-stuff-your-turkey-night/
ATTACH;FMTTYPE=image/jpeg:https://cdn.nelliessportsbar.com/2021/11/newbingo2.jpg
END:VEVENT
BEGIN:VEVENT
DTSTART;VALUE=DATE:20181106
DTEND;VALUE=DATE:20181107
DTSTAMP:20260422T074116
CREATED:20181001T131501Z
LAST-MODIFIED:20181001T131501Z
UID:8261-1541473200-1541473200@www.nelliessportsbar.com
SUMMARY:Election Night @ Nellies
DESCRIPTION:
URL:https://www.nelliessportsbar.com/event/election-night-nellies/
ATTACH;FMTTYPE=image/jpeg:https://cdn.nelliessportsbar.com/2021/11/election2018b.jpg
END:VEVENT
BEGIN:VEVENT
DTSTART;VALUE=DATE:20181031
DTEND;VALUE=DATE:20181101
DTSTAMP:20260422T074116
CREATED:20181001T130800Z
LAST-MODIFIED:20181001T130800Z
UID:8242-1540954800-1540954800@www.nelliessportsbar.com
SUMMARY:A Rocky Horror Halloween
DESCRIPTION:
URL:https://www.nelliessportsbar.com/event/a-rocky-horror-halloween/
ATTACH;FMTTYPE=image/jpeg:https://cdn.nelliessportsbar.com/2021/11/cornhole.jpg
END:VEVENT
BEGIN:VEVENT
DTSTART;VALUE=DATE:20181030
DTEND;VALUE=DATE:20181031
DTSTAMP:20260422T074116
CREATED:20181001T132845Z
LAST-MODIFIED:20181001T132845Z
UID:8267-1540868400-1540868400@www.nelliessportsbar.com
SUMMARY:Drag Bingo - Trick or Treat
DESCRIPTION:
URL:https://www.nelliessportsbar.com/event/drag-bingo-trick-or-treat/
ATTACH;FMTTYPE=image/jpeg:https://cdn.nelliessportsbar.com/2021/11/newbingo.jpg
END:VEVENT
BEGIN:VEVENT
DTSTART;VALUE=DATE:20181023
DTEND;VALUE=DATE:20181024
DTSTAMP:20260422T074116
CREATED:20181001T132755Z
LAST-MODIFIED:20181001T132755Z
UID:8266-1540263600-1540296000@www.nelliessportsbar.com
SUMMARY:Drag Bingo - Pumpkin Carving
DESCRIPTION:
URL:https://www.nelliessportsbar.com/event/drag-bingo-pumpkin-carving/
ATTACH;FMTTYPE=image/jpeg:https://cdn.nelliessportsbar.com/2021/11/newbingo2.jpg
END:VEVENT
BEGIN:VEVENT
DTSTART;VALUE=DATE:20181018
DTEND;VALUE=DATE:20181019
DTSTAMP:20260422T074116
CREATED:20181001T130904Z
LAST-MODIFIED:20181001T130904Z
UID:8259-1539831600-1539831600@www.nelliessportsbar.com
SUMMARY:Hocus Pocus Viewing
DESCRIPTION:
URL:https://www.nelliessportsbar.com/event/hocus-pocus-viewing/
ATTACH;FMTTYPE=image/jpeg:https://cdn.nelliessportsbar.com/2021/11/hocus_pocus.jpg
END:VEVENT
BEGIN:VEVENT
DTSTART;VALUE=DATE:20181016
DTEND;VALUE=DATE:20181017
DTSTAMP:20260422T074116
CREATED:20181001T132602Z
LAST-MODIFIED:20181001T132602Z
UID:8265-1539658800-1539658800@www.nelliessportsbar.com
SUMMARY:Drag Bingo - Trick or Treat
DESCRIPTION:
URL:https://www.nelliessportsbar.com/event/drag-brunch-trick-or-treat/
ATTACH;FMTTYPE=image/jpeg:https://cdn.nelliessportsbar.com/2021/11/bingo_oct1.jpg
END:VEVENT
BEGIN:VEVENT
DTSTART;VALUE=DATE:20181009
DTEND;VALUE=DATE:20181010
DTSTAMP:20260422T074116
CREATED:20181001T132509Z
LAST-MODIFIED:20181001T132509Z
UID:8264-1539054000-1539086400@www.nelliessportsbar.com
SUMMARY:Drag Bingo - Horror Movies
DESCRIPTION:
URL:https://www.nelliessportsbar.com/event/drag-brunch-horror-movies/
ATTACH;FMTTYPE=image/jpeg:https://cdn.nelliessportsbar.com/2021/11/bingo_oct1.jpg
END:VEVENT
BEGIN:VEVENT
DTSTART;VALUE=DATE:20181008
DTEND;VALUE=DATE:20181009
DTSTAMP:20260422T074116
CREATED:20180918T055504Z
LAST-MODIFIED:20180918T055504Z
UID:8227-1538967600-1538967600@www.nelliessportsbar.com
SUMMARY:Columbus Day Drag Brunch
DESCRIPTION:Grab your tickets here!
URL:https://www.nelliessportsbar.com/event/columbus-day-drag-lunch/
ATTACH;FMTTYPE=image/jpeg:https://cdn.nelliessportsbar.com/2021/11/fallleaves.jpg
END:VEVENT
BEGIN:VEVENT
DTSTART;VALUE=DATE:20181006
DTEND;VALUE=DATE:20181007
DTSTAMP:20260422T074116
CREATED:20180918T055131Z
LAST-MODIFIED:20180918T055131Z
UID:8225-1538794800-1538794800@www.nelliessportsbar.com
SUMMARY:DJ Chord presents Octoberfest!
DESCRIPTION:
URL:https://www.nelliessportsbar.com/event/dj-chord-presents-octoberfest/
ATTACH;FMTTYPE=image/jpeg:https://cdn.nelliessportsbar.com/2021/11/lederhosen3.jpg
END:VEVENT
BEGIN:VEVENT
DTSTART;TZID=America/New_York:20181002T080000
DTEND;TZID=America/New_York:20181002T170000
DTSTAMP:20260422T074116
CREATED:20181001T131035Z
LAST-MODIFIED:20181001T131035Z
UID:8260-1538467200-1538499600@www.nelliessportsbar.com
SUMMARY:Drag Bingo - Hocus Pocus
DESCRIPTION:
URL:https://www.nelliessportsbar.com/event/drag-bingo-hocus-pocus/
ATTACH;FMTTYPE=image/jpeg:https://cdn.nelliessportsbar.com/2021/11/bingo_oct1.jpg
END:VEVENT
BEGIN:VEVENT
DTSTART;VALUE=DATE:20180924
DTEND;VALUE=DATE:20180925
DTSTAMP:20260422T074116
CREATED:20180918T060231Z
LAST-MODIFIED:20180918T060231Z
UID:8232-1537758000-1537758000@www.nelliessportsbar.com
SUMMARY:Paint Night
DESCRIPTION:Reserve your spot here!
URL:https://www.nelliessportsbar.com/event/paint-night-2/
ATTACH;FMTTYPE=image/jpeg:https://cdn.nelliessportsbar.com/2021/11/paintnite-2.jpg
END:VEVENT
BEGIN:VEVENT
DTSTART;VALUE=DATE:20180922
DTEND;VALUE=DATE:20180923
DTSTAMP:20260422T074116
CREATED:20180918T061614Z
LAST-MODIFIED:20180918T061614Z
UID:8239-1537585200-1537585200@www.nelliessportsbar.com
SUMMARY:DC Roller Girls @ the Washington Nationals
DESCRIPTION:Grab the deets here!
URL:https://www.nelliessportsbar.com/event/dc-roller-girls-the-washington-nationals/
ATTACH;FMTTYPE=image/jpeg:https://cdn.nelliessportsbar.com/2021/11/dcrg-natsgame_nelliesad.jpg
END:VEVENT
BEGIN:VEVENT
DTSTART;VALUE=DATE:20180921
DTEND;VALUE=DATE:20180922
DTSTAMP:20260422T074116
CREATED:20180918T061325Z
LAST-MODIFIED:20180918T061325Z
UID:8236-1537498800-1537498800@www.nelliessportsbar.com
SUMMARY:DJ Vodkatrina!
DESCRIPTION:
URL:https://www.nelliessportsbar.com/event/dj-vodkatrina-2/
ATTACH;FMTTYPE=image/jpeg:https://cdn.nelliessportsbar.com/2021/11/vodkatrina.jpg
END:VEVENT
BEGIN:VEVENT
DTSTART;VALUE=DATE:20180918
DTEND;VALUE=DATE:20180919
DTSTAMP:20260422T074116
CREATED:20180918T060815Z
LAST-MODIFIED:20180918T060815Z
UID:8235-1537239600-1537239600@www.nelliessportsbar.com
SUMMARY:Drag Bingo - Lost in Space!
DESCRIPTION:
URL:https://www.nelliessportsbar.com/event/drag-bingo-lost-in-space/
ATTACH;FMTTYPE=image/jpeg:https://cdn.nelliessportsbar.com/2021/11/newbingo2.jpg
END:VEVENT
BEGIN:VEVENT
DTSTART;VALUE=DATE:20180828
DTEND;VALUE=DATE:20180829
DTSTAMP:20260422T074116
CREATED:20180802T144419Z
LAST-MODIFIED:20180802T144419Z
UID:8223-1535425200-1535425200@www.nelliessportsbar.com
SUMMARY:Drag Bingo - Wild Wild West
DESCRIPTION:
URL:https://www.nelliessportsbar.com/event/drag-bingo-wild-wild-west/
ATTACH;FMTTYPE=image/jpeg:https://cdn.nelliessportsbar.com/2021/11/newbingo.jpg
END:VEVENT
BEGIN:VEVENT
DTSTART;VALUE=DATE:20180821
DTEND;VALUE=DATE:20180822
DTSTAMP:20260422T074116
CREATED:20180802T144323Z
LAST-MODIFIED:20180802T144323Z
UID:8222-1534820400-1534820400@www.nelliessportsbar.com
SUMMARY:Drag Bingo - A Land Before Time
DESCRIPTION:
URL:https://www.nelliessportsbar.com/event/drag-bingo-a-land-before-time/
ATTACH;FMTTYPE=image/jpeg:https://cdn.nelliessportsbar.com/2021/11/tuesdays_aug.jpg
END:VEVENT
BEGIN:VEVENT
DTSTART;VALUE=DATE:20180814
DTEND;VALUE=DATE:20180815
DTSTAMP:20260422T074116
CREATED:20180802T144237Z
LAST-MODIFIED:20180802T144237Z
UID:8221-1534215600-1534215600@www.nelliessportsbar.com
SUMMARY:Drag Bingo - Sasha's Toy Chest
DESCRIPTION:
URL:https://www.nelliessportsbar.com/event/drag-bingo-sashas-toy-chest/
ATTACH;FMTTYPE=image/jpeg:https://cdn.nelliessportsbar.com/2021/11/tuesdays_aug.jpg
END:VEVENT
BEGIN:VEVENT
DTSTART;VALUE=DATE:20180807
DTEND;VALUE=DATE:20180808
DTSTAMP:20260422T074116
CREATED:20180802T144203Z
LAST-MODIFIED:20180802T144203Z
UID:8218-1533610800-1533610800@www.nelliessportsbar.com
SUMMARY:Drag Bingo - Glowing Summer Nights
DESCRIPTION:
URL:https://www.nelliessportsbar.com/event/drag-bingo-glowing-summer-nights/
ATTACH;FMTTYPE=image/jpeg:https://cdn.nelliessportsbar.com/2021/11/tuesdays_aug.jpg
END:VEVENT
BEGIN:VEVENT
DTSTART;VALUE=DATE:20180807
DTEND;VALUE=DATE:20180808
DTSTAMP:20260422T074116
CREATED:20180717T062809Z
LAST-MODIFIED:20180717T062809Z
UID:8209-1533610800-1533610800@www.nelliessportsbar.com
SUMMARY:Rainbow Theatre Project @ Drag Bingo
DESCRIPTION:
URL:https://www.nelliessportsbar.com/event/rainbow-theatre-project-drag-bingo/
ATTACH;FMTTYPE=image/jpeg:https://cdn.nelliessportsbar.com/2021/11/img_9119.jpg
END:VEVENT
BEGIN:VEVENT
DTSTART;VALUE=DATE:20180805
DTEND;VALUE=DATE:20180807
DTSTAMP:20260422T074116
CREATED:20180320T024113Z
LAST-MODIFIED:20180320T024113Z
UID:8087-1533438000-1533524399@www.nelliessportsbar.com
SUMMARY:Nellie's Drag Brunch
DESCRIPTION:Hottest show in DC! \nGrab your tickets here!
URL:https://www.nelliessportsbar.com/event/nellies-drag-brunch-2018-08-05/
ATTACH;FMTTYPE=image/jpeg:https://cdn.nelliessportsbar.com/2021/11/presidentsday5.jpg
END:VEVENT
BEGIN:VEVENT
DTSTART;VALUE=DATE:20180804
DTEND;VALUE=DATE:20180806
DTSTAMP:20260422T074116
CREATED:20180320T024113Z
LAST-MODIFIED:20180320T024113Z
UID:8086-1533351600-1533437999@www.nelliessportsbar.com
SUMMARY:Nellie's Drag Brunch
DESCRIPTION:Hottest show in DC! \nGrab your tickets here!
URL:https://www.nelliessportsbar.com/event/nellies-drag-brunch-2018-08-04/
ATTACH;FMTTYPE=image/jpeg:https://cdn.nelliessportsbar.com/2021/11/presidentsday5.jpg
END:VEVENT
BEGIN:VEVENT
DTSTART;VALUE=DATE:20180804
DTEND;VALUE=DATE:20180805
DTSTAMP:20260422T074116
CREATED:20180717T071414Z
LAST-MODIFIED:20180717T071414Z
UID:8212-1533351600-1533351600@www.nelliessportsbar.com
SUMMARY:Dog Days of Summer Sidewalk Sale
DESCRIPTION:
URL:https://www.nelliessportsbar.com/event/dog-days-of-summer-sidewalk-sale/
ATTACH;FMTTYPE=image/jpeg:https://cdn.nelliessportsbar.com/2021/11/dogdays2018.jpg
END:VEVENT
BEGIN:VEVENT
DTSTART;VALUE=DATE:20180731
DTEND;VALUE=DATE:20180802
DTSTAMP:20260422T074116
CREATED:20180320T023021Z
LAST-MODIFIED:20180320T023021Z
UID:8026-1533006000-1533092399@www.nelliessportsbar.com
SUMMARY:Nellie's Karaoke
DESCRIPTION:A star is born…
URL:https://www.nelliessportsbar.com/event/nellies-karaoke-2018-07-31/
ATTACH;FMTTYPE=image/jpeg:https://cdn.nelliessportsbar.com/2021/11/karaoke.jpg
END:VEVENT
BEGIN:VEVENT
DTSTART;VALUE=DATE:20180731
DTEND;VALUE=DATE:20180801
DTSTAMP:20260422T074116
CREATED:20180717T072713Z
LAST-MODIFIED:20180717T072713Z
UID:8215-1533006000-1533006000@www.nelliessportsbar.com
SUMMARY:Drag Bingo - Clean Out The Closet
DESCRIPTION:
URL:https://www.nelliessportsbar.com/event/drag-bingo-clean-out-the-closet/
ATTACH;FMTTYPE=image/jpeg:https://cdn.nelliessportsbar.com/2021/11/bingojuly15.jpg
END:VEVENT
BEGIN:VEVENT
DTSTART;VALUE=DATE:20180730
DTEND;VALUE=DATE:20180801
DTSTAMP:20260422T074116
CREATED:20180320T023538Z
LAST-MODIFIED:20180320T023538Z
UID:8047-1532919600-1533005999@www.nelliessportsbar.com
SUMMARY:Paint Night
DESCRIPTION:Unleash your inner Van Gogh! \nGrab tickets here!
URL:https://www.nelliessportsbar.com/event/paint-night-2018-07-30/
ATTACH;FMTTYPE=image/jpeg:https://cdn.nelliessportsbar.com/2021/11/paintnite.jpg
END:VEVENT
BEGIN:VEVENT
DTSTART;VALUE=DATE:20180729
DTEND;VALUE=DATE:20180731
DTSTAMP:20260422T074116
CREATED:20180320T024113Z
LAST-MODIFIED:20211113T135943Z
UID:8085-1532833200-1532919599@www.nelliessportsbar.com
SUMMARY:Nellie's Drag Brunch
DESCRIPTION:Looking for current Drag Shows? Click Here!\n\n\n\n\n \nHottest show in DC! \nGrab your tickets here!
URL:https://www.nelliessportsbar.com/event/nellies-drag-brunch-2018-07-29/
ATTACH;FMTTYPE=image/jpeg:https://cdn.nelliessportsbar.com/2021/11/presidentsday5.jpg
END:VEVENT
BEGIN:VEVENT
DTSTART;VALUE=DATE:20180728
DTEND;VALUE=DATE:20180730
DTSTAMP:20260422T074116
CREATED:20180320T024113Z
LAST-MODIFIED:20180320T024113Z
UID:8084-1532746800-1532833199@www.nelliessportsbar.com
SUMMARY:Nellie's Drag Brunch
DESCRIPTION:Hottest show in DC! \nGrab your tickets here!
URL:https://www.nelliessportsbar.com/event/nellies-drag-brunch-2018-07-28/
ATTACH;FMTTYPE=image/jpeg:https://cdn.nelliessportsbar.com/2021/11/presidentsday5.jpg
END:VEVENT
BEGIN:VEVENT
DTSTART;VALUE=DATE:20180725
DTEND;VALUE=DATE:20180727
DTSTAMP:20260422T074116
CREATED:20180320T022835Z
LAST-MODIFIED:20180320T022835Z
UID:8004-1532487600-1532573999@www.nelliessportsbar.com
SUMMARY:SmartAss Trivia
DESCRIPTION:Test your trivia skills and win fabulous prizes!
URL:https://www.nelliessportsbar.com/event/smartass-trivia-2-2018-07-25/
ATTACH;FMTTYPE=image/jpeg:https://cdn.nelliessportsbar.com/2021/11/trivia_drummers.jpg
END:VEVENT
END:VCALENDAR