BEGIN:VCALENDAR
VERSION:2.0
PRODID:-//Nellie&#039;s Sports Bar - ECPv6.15.20//NONSGML v1.0//EN
CALSCALE:GREGORIAN
METHOD:PUBLISH
X-WR-CALNAME:Nellie&#039;s Sports Bar
X-ORIGINAL-URL:https://www.nelliessportsbar.com
X-WR-CALDESC:Events for Nellie&#039;s Sports Bar
REFRESH-INTERVAL;VALUE=DURATION:PT1H
X-Robots-Tag:noindex
X-PUBLISHED-TTL:PT1H
BEGIN:VTIMEZONE
TZID:America/New_York
BEGIN:DAYLIGHT
TZOFFSETFROM:-0500
TZOFFSETTO:-0400
TZNAME:EDT
DTSTART:20230312T070000
END:DAYLIGHT
BEGIN:STANDARD
TZOFFSETFROM:-0400
TZOFFSETTO:-0500
TZNAME:EST
DTSTART:20231105T060000
END:STANDARD
BEGIN:DAYLIGHT
TZOFFSETFROM:-0500
TZOFFSETTO:-0400
TZNAME:EDT
DTSTART:20240310T070000
END:DAYLIGHT
BEGIN:STANDARD
TZOFFSETFROM:-0400
TZOFFSETTO:-0500
TZNAME:EST
DTSTART:20241103T060000
END:STANDARD
BEGIN:DAYLIGHT
TZOFFSETFROM:-0500
TZOFFSETTO:-0400
TZNAME:EDT
DTSTART:20250309T070000
END:DAYLIGHT
BEGIN:STANDARD
TZOFFSETFROM:-0400
TZOFFSETTO:-0500
TZNAME:EST
DTSTART:20251102T060000
END:STANDARD
END:VTIMEZONE
BEGIN:VEVENT
DTSTART;VALUE=DATE:20240113
DTEND;VALUE=DATE:20240116
DTSTAMP:20260425T104431
CREATED:20240110T184133Z
LAST-MODIFIED:20240110T184133Z
UID:14388-1705114800-1705287599@www.nelliessportsbar.com
SUMMARY:MLK Weekend Drag Brunch
DESCRIPTION:🎉🥂 This MLK weekend\, step into a world of glam and glitz at Nellie’s Drag Brunch Shows on January 13 and 14\, 11 am and 1 pm! Feast on an indulgent All-You-Can-Eat Brunch Buffet\, get dazzled by the enchanting Sapphire Blue and our fabulous drag performers\, and enjoy your first Mimosa or Zing Zang Bloody Mary for FREE! Limited spots available\, so secure your tickets now. 🌈🍾  Grab tickets HERE!
URL:https://www.nelliessportsbar.com/event/mlk-weekend-drag-brunch-2/
ATTACH;FMTTYPE=image/jpeg:https://cdn.nelliessportsbar.com/2024/01/Drag-Brunch-Main-MLK-16x9-1.jpg
END:VEVENT
BEGIN:VEVENT
DTSTART;VALUE=DATE:20240125
DTEND;VALUE=DATE:20240127
DTSTAMP:20260425T104431
CREATED:20240110T184752Z
LAST-MODIFIED:20240110T184752Z
UID:14399-1706151600-1706237999@www.nelliessportsbar.com
SUMMARY:Irish Coffee Day
DESCRIPTION:🍀☕ Join us for National Irish Coffee Day on January 25 at Nellie’s! Indulge in $8 Irish Coffees all day\, and don’t forget to explore the warmth of our entire hot cocktail menu. It’s a celebration of cozy sips and winter delights! 🌟💚
URL:https://www.nelliessportsbar.com/event/irish-coffee-day/
ATTACH;FMTTYPE=image/jpeg:https://cdn.nelliessportsbar.com/2024/01/Irish-Coffee-Day_16x9.jpg
END:VEVENT
BEGIN:VEVENT
DTSTART;VALUE=DATE:20240126
DTEND;VALUE=DATE:20240128
DTSTAMP:20260425T104431
CREATED:20240126T154302Z
LAST-MODIFIED:20240126T154302Z
UID:14436-1706238000-1706324399@www.nelliessportsbar.com
SUMMARY:18th Anniversary Party
DESCRIPTION:Come and join us tonight as we commemorate the 18th anniversary of Nellie’s sports bar! For the first time ever\, we will have two DJs performing on two separate floors. DJ @djzyon will be on the first floor\, while DJ @djhoney215 will be on the rooftop\, and we’ll have five bars open. We highly recommend arriving early as Xavier Ent is hosting this event\, and you can expect guests from all over the East Coast. Secure your complimentary ticket now and we’ll see you at @nelliessportsbar!
URL:https://www.nelliessportsbar.com/event/18th-anniversary-party/
ATTACH;FMTTYPE=image/jpeg:https://cdn.nelliessportsbar.com/2024/01/SSOM-ATL-2024-copy.jpeg
END:VEVENT
END:VCALENDAR