BEGIN:VCALENDAR
VERSION:2.0
PRODID:-//Nellie&#039;s Sports Bar - ECPv6.15.20//NONSGML v1.0//EN
CALSCALE:GREGORIAN
METHOD:PUBLISH
X-ORIGINAL-URL:https://www.nelliessportsbar.com
X-WR-CALDESC:Events for Nellie&#039;s Sports Bar
REFRESH-INTERVAL;VALUE=DURATION:PT1H
X-Robots-Tag:noindex
X-PUBLISHED-TTL:PT1H
BEGIN:VTIMEZONE
TZID:America/New_York
BEGIN:DAYLIGHT
TZOFFSETFROM:-0500
TZOFFSETTO:-0400
TZNAME:EDT
DTSTART:20240310T070000
END:DAYLIGHT
BEGIN:STANDARD
TZOFFSETFROM:-0400
TZOFFSETTO:-0500
TZNAME:EST
DTSTART:20241103T060000
END:STANDARD
BEGIN:DAYLIGHT
TZOFFSETFROM:-0500
TZOFFSETTO:-0400
TZNAME:EDT
DTSTART:20250309T070000
END:DAYLIGHT
BEGIN:STANDARD
TZOFFSETFROM:-0400
TZOFFSETTO:-0500
TZNAME:EST
DTSTART:20251102T060000
END:STANDARD
BEGIN:DAYLIGHT
TZOFFSETFROM:-0500
TZOFFSETTO:-0400
TZNAME:EDT
DTSTART:20260308T070000
END:DAYLIGHT
BEGIN:STANDARD
TZOFFSETFROM:-0400
TZOFFSETTO:-0500
TZNAME:EST
DTSTART:20261101T060000
END:STANDARD
END:VTIMEZONE
BEGIN:VEVENT
DTSTART;VALUE=DATE:20250228
DTEND;VALUE=DATE:20250304
DTSTAMP:20260424T113842
CREATED:20250205T214412Z
LAST-MODIFIED:20250205T214412Z
UID:15160-1740711600-1740970799@www.nelliessportsbar.com
SUMMARY:Mardi Gras Weekend
DESCRIPTION:🎭🍹 Get ready to bead up and party down at Nellie’s Mardi Gras Weekend! From Feb 28th to Mar 2nd\, let the good times roll with $10 Hurricane cocktails. Dive into a carnival of flavors with our special mix of light rum\, dark rum\, and tropical juices!
URL:https://www.nelliessportsbar.com/event/mardi-gras-weekend/
ATTACH;FMTTYPE=image/jpeg:https://cdn.nelliessportsbar.com/2025/02/Mardi-Gras_16x9.jpg
END:VEVENT
BEGIN:VEVENT
DTSTART;VALUE=DATE:20250302
DTEND;VALUE=DATE:20250304
DTSTAMP:20260424T113842
CREATED:20250228T031839Z
LAST-MODIFIED:20250228T032754Z
UID:15184-1740884400-1740970799@www.nelliessportsbar.com
SUMMARY:Oscars Watch Party
DESCRIPTION:Join us for the Oscars Watch Party on Sunday\, March 2\, at 7 PM! 🏆🍿 Watch Hollywood’s biggest night on our big screen projector while sipping on BOGO cocktails from 7–10 PM! 🍸🍸 \nGlitz\, glam\, and good drinks—what more could you ask for? 💃🎥 See you there!
URL:https://www.nelliessportsbar.com/event/oscars-watch-party/
ATTACH;FMTTYPE=image/jpeg:https://cdn.nelliessportsbar.com/2025/02/The-Oscars_16x9.jpg
END:VEVENT
BEGIN:VEVENT
DTSTART;VALUE=DATE:20250303
DTEND;VALUE=DATE:20250305
DTSTAMP:20260424T113842
CREATED:20250228T032036Z
LAST-MODIFIED:20250228T032720Z
UID:15191-1740970800-1741057199@www.nelliessportsbar.com
SUMMARY:Tuesday Night Flights - REGISTRATION OPEN
DESCRIPTION:🎯 Ready\, aim\, register! Tuesday Night Flights darts league registration OPENS TODAY (March 3rd)! 🚀🎯Great competition\, great community\, plus Tito’s\, beer\, and food specials! 🍻🍔 \nThe Spring Season starts April 1—no fooling! 😉 Grab your spot here!
URL:https://www.nelliessportsbar.com/event/tuesday-night-flights-registration-open/
ATTACH;FMTTYPE=image/jpeg:https://cdn.nelliessportsbar.com/2025/02/TNF-Spring-Registration_16x9.jpg
END:VEVENT
BEGIN:VEVENT
DTSTART;VALUE=DATE:20250314
DTEND;VALUE=DATE:20250319
DTSTAMP:20260424T113842
CREATED:20250228T032439Z
LAST-MODIFIED:20250308T163057Z
UID:15200-1741921200-1742266799@www.nelliessportsbar.com
SUMMARY:Saint Patrick's Celebration
DESCRIPTION:🍀🎉 Get ready to shamrock and roll—Nellie’s is celebrating St. Paddy’s Weekend from March 14th-17th! 🌈💚 \nWe’re serving up gold-worthy specials:🍏 $3 Green Jell-O Shots🍻 $7 Guinness🥃 $12 Irish Mudslides (made with Roe & Co. Irish Whiskey)🍹 $15 Shamrockaritas (made with Casamigos) \nPlus\, we’re OPEN on Monday\, March 17th\, for St. Patrick’s Day! 🎊🍀 \nThrow on your green\, grab your crew\, and let’s make this celebration legendary! 🔥🌈
URL:https://www.nelliessportsbar.com/event/saint-patricks-celebration/
ATTACH;FMTTYPE=image/jpeg:https://cdn.nelliessportsbar.com/2025/03/Saint-Patricks_16x9-2.jpg
END:VEVENT
BEGIN:VEVENT
DTSTART;VALUE=DATE:20250315
DTEND;VALUE=DATE:20250317
DTSTAMP:20260424T113842
CREATED:20241228T025509Z
LAST-MODIFIED:20250306T183913Z
UID:15023-1742007600-1742093999@www.nelliessportsbar.com
SUMMARY:RuPaul's Drag Race Watch Party!
DESCRIPTION:💫 Fridays just got more fabulous at Nellie’s! Join us for RuPaul’s Drag Race Season 17. Enjoy the drama on the big screen and dance the night away with our post-show DJ. Special $6 house cocktails from 9 PM to midnight!
URL:https://www.nelliessportsbar.com/event/rupauls-drag-race-watch-party-2/
ATTACH;FMTTYPE=image/jpeg:https://cdn.nelliessportsbar.com/2025/03/Rupaul2024-copy.jpg
END:VEVENT
BEGIN:VEVENT
DTSTART;VALUE=DATE:20250315
DTEND;VALUE=DATE:20250318
DTSTAMP:20260424T113842
CREATED:20250228T032332Z
LAST-MODIFIED:20250228T032332Z
UID:15193-1742007600-1742180399@www.nelliessportsbar.com
SUMMARY:Saint Patrick's Drag Brunch
DESCRIPTION:🍀✨ Get lucky at our St. Patrick’s Day Drag Brunch on March 15th & 16th at Nellie’s! 🌈💚 Join us for a show packed with glam\, glitter\, and the fiercest queens in town! Whether you’re celebrating the luck of the Irish or just looking for a fabulous time\, this brunch is gold! 💰👑 \n  \nJoin us for Nellie’s Drag Brunch every Saturday & Sunday and see why we’re rated #1! Enjoy our All-You-Can-Eat Brunch Buffet and dazzling performances led by Sapphire Blue\, Deja Diamond and all our show-stopping queens. Plus\, your first Mimosa or Bloody Mary is FREE! 🍹🌟 \n  \nLimited spots—don’t press your luck! Grab your tickets HERE!
URL:https://www.nelliessportsbar.com/event/saint-patricks-drag-brunch/
ATTACH;FMTTYPE=image/jpeg:https://cdn.nelliessportsbar.com/2025/02/St-Patricks-Brunch_16x9.jpg
END:VEVENT
BEGIN:VEVENT
DTSTART;VALUE=DATE:20250322
DTEND;VALUE=DATE:20250325
DTSTAMP:20260424T113842
CREATED:20250228T032607Z
LAST-MODIFIED:20250228T032607Z
UID:15203-1742612400-1742785199@www.nelliessportsbar.com
SUMMARY:Cherry Blossom Slushie Launches!
DESCRIPTION:The blossoms aren’t the only thing turning DC pink—cool off with our Cherry Blossom Slushie! This sweet\, icy blend of cherry goodness is the perfect way to celebrate the season. 🍒❄️ \nAvailable for a limited time—come grab one while the blossoms last! 🌸✨ \n#CherryBlossomSeason 🌸
URL:https://www.nelliessportsbar.com/event/cherry-blossom-slushie-launches/
ATTACH;FMTTYPE=image/jpeg:https://cdn.nelliessportsbar.com/2025/02/Cherry-Blossom-Slushie_16x9.jpg
END:VEVENT
END:VCALENDAR