BEGIN:VCALENDAR
VERSION:2.0
PRODID:-//Nellie&#039;s Sports Bar - ECPv6.15.20//NONSGML v1.0//EN
CALSCALE:GREGORIAN
METHOD:PUBLISH
X-WR-CALNAME:Nellie&#039;s Sports Bar
X-ORIGINAL-URL:https://www.nelliessportsbar.com
X-WR-CALDESC:Events for Nellie&#039;s Sports Bar
REFRESH-INTERVAL;VALUE=DURATION:PT1H
X-Robots-Tag:noindex
X-PUBLISHED-TTL:PT1H
BEGIN:VTIMEZONE
TZID:America/New_York
BEGIN:DAYLIGHT
TZOFFSETFROM:-0500
TZOFFSETTO:-0400
TZNAME:EDT
DTSTART:20240310T070000
END:DAYLIGHT
BEGIN:STANDARD
TZOFFSETFROM:-0400
TZOFFSETTO:-0500
TZNAME:EST
DTSTART:20241103T060000
END:STANDARD
BEGIN:DAYLIGHT
TZOFFSETFROM:-0500
TZOFFSETTO:-0400
TZNAME:EDT
DTSTART:20250309T070000
END:DAYLIGHT
BEGIN:STANDARD
TZOFFSETFROM:-0400
TZOFFSETTO:-0500
TZNAME:EST
DTSTART:20251102T060000
END:STANDARD
BEGIN:DAYLIGHT
TZOFFSETFROM:-0500
TZOFFSETTO:-0400
TZNAME:EDT
DTSTART:20260308T070000
END:DAYLIGHT
BEGIN:STANDARD
TZOFFSETFROM:-0400
TZOFFSETTO:-0500
TZNAME:EST
DTSTART:20261101T060000
END:STANDARD
END:VTIMEZONE
BEGIN:VEVENT
DTSTART;VALUE=DATE:20250418
DTEND;VALUE=DATE:20250420
DTSTAMP:20260424T095703
CREATED:20250416T234020Z
LAST-MODIFIED:20250416T234301Z
UID:15286-1744945200-1745031599@www.nelliessportsbar.com
SUMMARY:RuPaul's Drag Race Finale Watch Party
DESCRIPTION:💄 RuPaul’s Drag Race Finale Watch Party – Friday\, April 19! 💄The queens have slayed all season\, and now it’s time to crown the next superstar! Join us at Nellie’s Sports Bar for the ultimate Finale Watch Party on Friday\, April 19 at 8PM — playing on the big projector screen with full sound so you don’t miss a single dramatic moment or iconic lip sync. \n🎧 After the finale\, keep the energy high with our Post-Show DJ at 10PM spinning Hip-Hop & R&B bangers.🍹 Enjoy $6 House Cocktails from 9–11PM — because watching royalty deserves royal drinks. \n✨ It’s the grand finale\, and Nellie’s is THE place to watch it all go down. Grab your crew\, grab a drink\, and let’s close out the season in style! ✨
URL:https://www.nelliessportsbar.com/event/rupauls-drag-race-finale-watch-party/
ATTACH;FMTTYPE=image/jpeg:https://cdn.nelliessportsbar.com/2025/04/Rupaul-Finale-1.jpg
END:VEVENT
BEGIN:VEVENT
DTSTART;VALUE=DATE:20250419
DTEND;VALUE=DATE:20250421
DTSTAMP:20260424T095703
CREATED:20250416T212323Z
LAST-MODIFIED:20250416T212323Z
UID:15276-1745031600-1745117999@www.nelliessportsbar.com
SUMMARY:Easter Drag Brunch
DESCRIPTION:🐰🌸 Get ready to hop into an Easter weekend full of glitter and glam at Nellie’s! 🌸🐰 \nThis April 19-20\, we’re celebrating Easter with special performances of Nellie’s Drag Brunch you won’t forget!  Get ready for the perfect mix of festive fun\, delicious drinks\, and show-stopping performances that will have you shaking your tail feathers all day long. 🐣💃✨ \nIndulge in our All-You-Can-Eat Brunch Buffet\, and enjoy the show as Sapphire Blue and our incredible queens bring the energy\, laughs\, and unforgettable entertainment. Plus\, your first Mimosa or Bloody Mary is always FREE! 🍾🥂 \nDon’t miss out—seats fill fast! Grab your tickets now 👉 https://tinyurl.com/5ayx5ndt
URL:https://www.nelliessportsbar.com/event/easter-drag-brunch-2/
ATTACH;FMTTYPE=image/jpeg:https://cdn.nelliessportsbar.com/2025/04/Drag-Brunch-Easter_16x9.jpg
END:VEVENT
BEGIN:VEVENT
DTSTART;VALUE=DATE:20250422
DTEND;VALUE=DATE:20250424
DTSTAMP:20260424T095703
CREATED:20250416T212444Z
LAST-MODIFIED:20250416T212444Z
UID:15279-1745290800-1745377199@www.nelliessportsbar.com
SUMMARY:Earth Day Karaoke & Drag Brunch
DESCRIPTION:🌍💚 Celebrate Earth Day with green drinks and good vibes at Nellie’s! 💚🌍 \nThis April 22\, we’re raising a glass to Mother Earth with $10 Tokyo Teas and $10 Incredible Hulks! 🍹💚 And don’t forget\, our Tito’s Tuesday Special is still rocking at $8 Tito’s all night long. 🥃 \nThe fun doesn’t stop there! Get ready for an epic night of entertainment with Drag Bingo at 7 PM\, followed by Karaoke by D&K Sounds at 9 PM. It’s going to be an Earth Day celebration like no other—bingo\, music\, and green drinks all in one place! 🎤✨ \nSee you there\, party with a purpose! 🌿🌈
URL:https://www.nelliessportsbar.com/event/earth-day-karaoke-drag-brunch/
ATTACH;FMTTYPE=image/jpeg:https://cdn.nelliessportsbar.com/2025/04/Earth-Day_16x9.jpg
END:VEVENT
END:VCALENDAR