BEGIN:VCALENDAR
VERSION:2.0
PRODID:-//Nellie&#039;s Sports Bar - ECPv6.15.20//NONSGML v1.0//EN
CALSCALE:GREGORIAN
METHOD:PUBLISH
X-WR-CALNAME:Nellie&#039;s Sports Bar
X-ORIGINAL-URL:https://www.nelliessportsbar.com
X-WR-CALDESC:Events for Nellie&#039;s Sports Bar
REFRESH-INTERVAL;VALUE=DURATION:PT1H
X-Robots-Tag:noindex
X-PUBLISHED-TTL:PT1H
BEGIN:VTIMEZONE
TZID:America/New_York
BEGIN:DAYLIGHT
TZOFFSETFROM:-0500
TZOFFSETTO:-0400
TZNAME:EDT
DTSTART:20240310T070000
END:DAYLIGHT
BEGIN:STANDARD
TZOFFSETFROM:-0400
TZOFFSETTO:-0500
TZNAME:EST
DTSTART:20241103T060000
END:STANDARD
BEGIN:DAYLIGHT
TZOFFSETFROM:-0500
TZOFFSETTO:-0400
TZNAME:EDT
DTSTART:20250309T070000
END:DAYLIGHT
BEGIN:STANDARD
TZOFFSETFROM:-0400
TZOFFSETTO:-0500
TZNAME:EST
DTSTART:20251102T060000
END:STANDARD
BEGIN:DAYLIGHT
TZOFFSETFROM:-0500
TZOFFSETTO:-0400
TZNAME:EDT
DTSTART:20260308T070000
END:DAYLIGHT
BEGIN:STANDARD
TZOFFSETFROM:-0400
TZOFFSETTO:-0500
TZNAME:EST
DTSTART:20261101T060000
END:STANDARD
END:VTIMEZONE
BEGIN:VEVENT
DTSTART;VALUE=DATE:20250704
DTEND;VALUE=DATE:20250706
DTSTAMP:20260422T002911
CREATED:20250629T184632Z
LAST-MODIFIED:20250629T184632Z
UID:15407-1751598000-1751684399@www.nelliessportsbar.com
SUMMARY:July 4th @ Nellie's!
DESCRIPTION:🎆 Light Up the Night at Nellie’s! 🎆 \nTonight\, the fireworks aren’t just in the sky—Nellie’s is bringing the heat with cold slushie drinks\, patriotic beats\, and nonstop vibes! 🇺🇸🍧🎶 The DJ hits at 10PM\, so get here early and party with us all night long! \nIt’s the most explosive Friday of the year—let’s make it unforgettable. 🔥 \n#FourthOfJuly #NelliesSportsBar #DCNightlife #BeNellie
URL:https://www.nelliessportsbar.com/event/july-4th-nellies/
ATTACH;FMTTYPE=image/jpeg:https://cdn.nelliessportsbar.com/2025/06/Fourth-of-July_16x9.jpg
END:VEVENT
BEGIN:VEVENT
DTSTART;VALUE=DATE:20250705
DTEND;VALUE=DATE:20250708
DTSTAMP:20260422T002911
CREATED:20250629T184808Z
LAST-MODIFIED:20250629T184808Z
UID:15412-1751684400-1751857199@www.nelliessportsbar.com
SUMMARY:Independence Weekend Drag Brunch
DESCRIPTION:✨ Stars\, Stripes & Drag Delights! ✨ \nWe’re serving looks\, brunch\, and unapologetic fun all weekend long at Nellie’s Drag Brunch! Whether you’re coming for the queens or the all-you-can-eat buffet\, there’s no better way to kick off your holiday weekend than with a little extra sparkle. 💋🌈🍳 \nJoin us for Nellie’s Drag Brunch every Saturday & Sunday and see why we’re rated #1! Enjoy our All-You-Can-Eat Brunch Buffet and dazzling performances led by Sapphire Blue\, Deja Diamond and all our show-stopping queens. Plus\, your first Mimosa or Bloody Mary is FREE! 🍹🌟 \nLimited spots—don’t press your luck! Grab your tickets HERE!  \n#NelliesDragBrunch #FourthOfJulyWeekend #BeNellie #DCDrag
URL:https://www.nelliessportsbar.com/event/independence-weekend-drag-brunch/
ATTACH;FMTTYPE=image/jpeg:https://cdn.nelliessportsbar.com/2025/06/Drag-Brunch-Independence-Weekend_16x9.jpg
END:VEVENT
BEGIN:VEVENT
DTSTART;VALUE=DATE:20250724
DTEND;VALUE=DATE:20250726
DTSTAMP:20260422T002911
CREATED:20250629T184904Z
LAST-MODIFIED:20250629T184904Z
UID:15415-1753326000-1753412399@www.nelliessportsbar.com
SUMMARY:National Tequila Day
DESCRIPTION:National Tequila Day! Tonight’s Forecast: Salt\, Lime\, Repeat 💃🍋🍹🧊 \nFrom Patron and Casamigos to Espolon\, Don Julio\, and Teremana—we’ve got the labels you love and the drinks to match.🌈🎉 Frozen margaritas\, Palomas\, tequila sunrises\, or just a good ol’ shot… however you take your tequila\, we’ve got you covered. \nAnd since it’s Thursday\, the energy’s up with music and mood by @xavierentertainmentdc. 🎶 Let’s make it a night. \n#NelliesSportsBar #XavierEntertainment #NationalTequilaDay #ThirstyThursday #UStreetDC
URL:https://www.nelliessportsbar.com/event/national-tequila-day-3/
ATTACH;FMTTYPE=image/jpeg:https://cdn.nelliessportsbar.com/2025/06/National-Tequila-Day_16x9.jpg
END:VEVENT
END:VCALENDAR