BEGIN:VCALENDAR
VERSION:2.0
PRODID:-//Nellie&#039;s Sports Bar - ECPv6.15.20//NONSGML v1.0//EN
CALSCALE:GREGORIAN
METHOD:PUBLISH
X-WR-CALNAME:Nellie&#039;s Sports Bar
X-ORIGINAL-URL:https://www.nelliessportsbar.com
X-WR-CALDESC:Events for Nellie&#039;s Sports Bar
REFRESH-INTERVAL;VALUE=DURATION:PT1H
X-Robots-Tag:noindex
X-PUBLISHED-TTL:PT1H
BEGIN:VTIMEZONE
TZID:America/New_York
BEGIN:DAYLIGHT
TZOFFSETFROM:-0500
TZOFFSETTO:-0400
TZNAME:EDT
DTSTART:20240310T070000
END:DAYLIGHT
BEGIN:STANDARD
TZOFFSETFROM:-0400
TZOFFSETTO:-0500
TZNAME:EST
DTSTART:20241103T060000
END:STANDARD
BEGIN:DAYLIGHT
TZOFFSETFROM:-0500
TZOFFSETTO:-0400
TZNAME:EDT
DTSTART:20250309T070000
END:DAYLIGHT
BEGIN:STANDARD
TZOFFSETFROM:-0400
TZOFFSETTO:-0500
TZNAME:EST
DTSTART:20251102T060000
END:STANDARD
BEGIN:DAYLIGHT
TZOFFSETFROM:-0500
TZOFFSETTO:-0400
TZNAME:EDT
DTSTART:20260308T070000
END:DAYLIGHT
BEGIN:STANDARD
TZOFFSETFROM:-0400
TZOFFSETTO:-0500
TZNAME:EST
DTSTART:20261101T060000
END:STANDARD
END:VTIMEZONE
BEGIN:VEVENT
DTSTART;VALUE=DATE:20250811
DTEND;VALUE=DATE:20250820
DTSTAMP:20260421T224428
CREATED:20250811T171328Z
LAST-MODIFIED:20250811T171328Z
UID:15445-1754881200-1755572399@www.nelliessportsbar.com
SUMMARY:TNF Fall Darts League - Registration is OPEN!
DESCRIPTION:🎯 Welcome Darters! Registration is NOW OPEN for the Fall Tuesday Night Flights season at Nellie’s! \nSecure your spot today by visiting the TNF Fall Registration Page. \nThis Fall’s theme is Turn Back Time — celebrating DC’s legendary bars and clubs of the past that paved the way for today’s vibrant\, inclusive scene. Expect throwback tunes\, good vibes\, and a true sense of community. \n📅 Season kicks off September 16 and runs Tuesday nights from 7–9 PM at Nellie’s. Teams are 4 players (plus an optional 5th)\, and space is limited to 32 teams — so don’t wait!
URL:https://www.nelliessportsbar.com/event/tnf-fall-darts-league-registration-is-open/
ATTACH;FMTTYPE=image/jpeg:https://cdn.nelliessportsbar.com/2025/08/Rogue-Darts-Turn-Back-Time_16x9.jpg
END:VEVENT
BEGIN:VEVENT
DTSTART;VALUE=DATE:20250816
DTEND;VALUE=DATE:20250818
DTSTAMP:20260421T224428
CREATED:20250808T175127Z
LAST-MODIFIED:20250808T175127Z
UID:15432-1755313200-1755399599@www.nelliessportsbar.com
SUMMARY:National Rum Day Drink Speicals
DESCRIPTION:🍹 National Rum Day is coming in HOT—and we’re keeping it cool with $10 Rum Blasts & Piña Coladas all night long! 🌴🧊 \nJoin us tonight for an island-inspired celebration that tastes like vacation. Slushies will be flowing\, the energy will be high\, and Nellie’s DJ hits the booth at 10PM to keep the party going. Bring your crew and raise a glass to summer’s favorite spirit. \n#NelliesSportsBar #NationalRumDay #RumBlasts #FrozenDrinks #SaturdayVibes
URL:https://www.nelliessportsbar.com/event/national-rum-day-drink-speicals/
ATTACH;FMTTYPE=image/jpeg:https://cdn.nelliessportsbar.com/2025/08/National-Rum-Day_16x9.jpg
END:VEVENT
BEGIN:VEVENT
DTSTART;VALUE=DATE:20250830
DTEND;VALUE=DATE:20250901
DTSTAMP:20260421T224428
CREATED:20250808T182303Z
LAST-MODIFIED:20250808T182303Z
UID:15437-1756522800-1756609199@www.nelliessportsbar.com
SUMMARY:Taylor's Night
DESCRIPTION:🎤 Taylor’s Night at Nellie’s – Presented by Xavier Entertainment \nSwifties\, get ready! 💖 On Saturday\, August 30th from 5–10 PM\, Nellie’s is going All Taylor\, All Night! Sing\, dance\, and celebrate every era of Taylor Swift—from the early country hits to the latest chart-toppers. We’re talking wall-to-wall Taylor tunes\, a dance floor full of energy\, and all the friendship-bracelet-worthy vibes you can handle. \nWhen the Taylor set wraps up\, the night is far from over—because it’s still a Nellie’s Saturday night! Stick around for more music\, more drinks\, and more fun as we keep the party going until late. 🍹✨ \nMark your calendar\, grab your crew\, and come ready to sing your heart out—Taylor style! \n 
URL:https://www.nelliessportsbar.com/event/taylors-night-3/
ATTACH;FMTTYPE=image/jpeg:https://cdn.nelliessportsbar.com/2025/08/Taylors-Night-Aug25.jpg
END:VEVENT
BEGIN:VEVENT
DTSTART;VALUE=DATE:20250830
DTEND;VALUE=DATE:20250902
DTSTAMP:20260421T224428
CREATED:20250808T182621Z
LAST-MODIFIED:20250808T182621Z
UID:15441-1756522800-1756695599@www.nelliessportsbar.com
SUMMARY:Nellie's Drag Brunch - Labor Day Weekend!
DESCRIPTION:🌊 Long Weekend\, Big Brunch Energy—Come In\, The Water’s Great! 💃☀️ \nLabor Day Weekend is your last big splash of summer\, and Nellie’s Drag Brunch is bringing the heat and the chill. The queens are serving poolside fantasy\, the buffet’s loaded\, and we’re cooking up something special just for the holiday. \nIt’s a three-day weekend—make it count with drag\, drinks\, and deliciousness. \nJoin us for Nellie’s Drag Brunch every Saturday & Sunday and see why we’re rated #1! Enjoy our All-You-Can-Eat Brunch Buffet and dazzling performances led by Sapphire Blue\, Deja Diamond and all our show-stopping queens. Plus\, your first Mimosa or Bloody Mary is FREE! 🍹🌟 \nLimited spots—don’t press your luck! Grab your tickets HERE!  \n#NelliesDragBrunch #LaborDayWeekend #NelliesSportsBar #BrunchGoals #EndOfSummerVibes
URL:https://www.nelliessportsbar.com/event/nellies-drag-brunch-labor-day-weekend/
ATTACH;FMTTYPE=image/jpeg:https://cdn.nelliessportsbar.com/2025/08/Labor-Day-Drag-Brunch_16x9.jpg
END:VEVENT
END:VCALENDAR