BEGIN:VCALENDAR
VERSION:2.0
PRODID:-//Nellie&#039;s Sports Bar - ECPv6.15.20//NONSGML v1.0//EN
CALSCALE:GREGORIAN
METHOD:PUBLISH
X-WR-CALNAME:Nellie&#039;s Sports Bar
X-ORIGINAL-URL:https://www.nelliessportsbar.com
X-WR-CALDESC:Events for Nellie&#039;s Sports Bar
REFRESH-INTERVAL;VALUE=DURATION:PT1H
X-Robots-Tag:noindex
X-PUBLISHED-TTL:PT1H
BEGIN:VTIMEZONE
TZID:America/New_York
BEGIN:DAYLIGHT
TZOFFSETFROM:-0500
TZOFFSETTO:-0400
TZNAME:EDT
DTSTART:20240310T070000
END:DAYLIGHT
BEGIN:STANDARD
TZOFFSETFROM:-0400
TZOFFSETTO:-0500
TZNAME:EST
DTSTART:20241103T060000
END:STANDARD
BEGIN:DAYLIGHT
TZOFFSETFROM:-0500
TZOFFSETTO:-0400
TZNAME:EDT
DTSTART:20250309T070000
END:DAYLIGHT
BEGIN:STANDARD
TZOFFSETFROM:-0400
TZOFFSETTO:-0500
TZNAME:EST
DTSTART:20251102T060000
END:STANDARD
BEGIN:DAYLIGHT
TZOFFSETFROM:-0500
TZOFFSETTO:-0400
TZNAME:EDT
DTSTART:20260308T070000
END:DAYLIGHT
BEGIN:STANDARD
TZOFFSETFROM:-0400
TZOFFSETTO:-0500
TZNAME:EST
DTSTART:20261101T060000
END:STANDARD
END:VTIMEZONE
BEGIN:VEVENT
DTSTART;VALUE=DATE:20251011
DTEND;VALUE=DATE:20251013
DTSTAMP:20260421T124845
CREATED:20251003T165907Z
LAST-MODIFIED:20251003T165907Z
UID:15475-1760151600-1760237999@www.nelliessportsbar.com
SUMMARY:National Coming Out Day
DESCRIPTION:🌈✨ It’s National Coming Out Day! ✨🌈 \nToday we celebrate love\, pride\, and living authentically. 💖 Come raise a glass with us—$6 Drinks all day and $1 Wings until 9pm. 🍹🍗 Bring your friends\, share your stories\, and let’s make this National Coming Out Day one to remember together! 🎉🌈 \n#NationalComingOutDay #LoveIsLove #NelliesSportsBar #BeNellie #DCEvents
URL:https://www.nelliessportsbar.com/event/national-coming-out-day-2/
ATTACH;FMTTYPE=image/jpeg:https://cdn.nelliessportsbar.com/2025/10/National-Coming-Out-Day_16x9.jpg
END:VEVENT
BEGIN:VEVENT
DTSTART;VALUE=DATE:20251021
DTEND;VALUE=DATE:20251028
DTSTAMP:20260421T124845
CREATED:20251003T165806Z
LAST-MODIFIED:20251003T165806Z
UID:15472-1761015600-1761533999@www.nelliessportsbar.com
SUMMARY:Howard Homecoming!
DESCRIPTION:🐂🎉 Howard Homecoming Week is here! 🎶🍹 \nGet ready for one of the wildest weeks of the year at Nellie’s—it’s going to be non-stop fun from day to night. Start the party early with Drag Bingo on Tuesday (Oct 21\, 7pm)\, Beat the Clock Happy Hour and $1 Wings (Oct 21–24)\, and keep the energy going with our famous Drag Brunch all weekend long (Oct 25 & 26). 🍗🍸💃 \nThe dance-all-night weekends will be electric\, but don’t sleep on the weeknight events and happy hours—they’re the perfect way to soak up every bit of Howard Homecoming magic. ✨🐂 \n #HowardHomecoming #DCNightlife #NelliesSportsBar #BeNellie #HappyHourDC
URL:https://www.nelliessportsbar.com/event/howard-homecoming/
ATTACH;FMTTYPE=image/jpeg:https://cdn.nelliessportsbar.com/2025/10/Howard-Homecoming_16x9.jpg
END:VEVENT
BEGIN:VEVENT
DTSTART;VALUE=DATE:20251025
DTEND;VALUE=DATE:20251028
DTSTAMP:20260421T124845
CREATED:20251003T165711Z
LAST-MODIFIED:20251003T165711Z
UID:15470-1761361200-1761533999@www.nelliessportsbar.com
SUMMARY:Nellie's HALLOWEEN Drag Brunch
DESCRIPTION:🎃👑 Halloween takes over Nellie’s Drag Brunch! 👑🎃 \nJoin us October 25 & 26 for spooky-fabulous shows filled with queens\, costumes\, and all the Halloween magic you can handle. Costumes encouraged—bring your fiercest look and get ready for a brunch like no other! 🧙‍♀️✨🍹 \nJoin us for Nellie’s Drag Brunch every Saturday & Sunday and see why we’re rated #1! Enjoy our All-You-Can-Eat Brunch Buffet and dazzling performances led by Sapphire Blue\, Deja Diamond and all our show-stopping queens. Plus\, your first Mimosa or Bloody Mary is FREE! 🍹🌟 \nLimited spots—don’t press your luck! Grab your tickets now! 👉 https://tinyurl.com/5ayx5ndt \n#HalloweenBrunch #NelliesDragBrunch #BeNellie #SpookySeason #NelliesSportsBar
URL:https://www.nelliessportsbar.com/event/nellies-halloween-drag-brunch/
ATTACH;FMTTYPE=image/jpeg:https://cdn.nelliessportsbar.com/2025/10/Halloween-Drag-Brunch_16x9.jpg
END:VEVENT
BEGIN:VEVENT
DTSTART;VALUE=DATE:20251028
DTEND;VALUE=DATE:20251030
DTSTAMP:20260421T124845
CREATED:20251010T181848Z
LAST-MODIFIED:20251010T181848Z
UID:15478-1761620400-1761706799@www.nelliessportsbar.com
SUMMARY:Halloween Drag Bingo x Endless Yoga!
DESCRIPTION:🎃🧘‍♀️ Halloween Drag Bingo x Endless Yoga! 💃 \nJoin us Tuesday\, Oct 28 at 7PM for a night of laughs\, prizes\, and killer costumes! We’re teaming up with Endless Yoga for special giveaways—plus enjoy $8 Tito’s cocktails all night long. 🥂✨ \n#NelliesSportsBar #BeNellie #DragBingo #DCNights #HalloweenFun
URL:https://www.nelliessportsbar.com/event/halloween-drag-bingo-x-endless-yoga/
ATTACH;FMTTYPE=image/jpeg:https://cdn.nelliessportsbar.com/2025/10/EndlessOM-Yoga-Halloween_16x9.jpg
END:VEVENT
BEGIN:VEVENT
DTSTART;VALUE=DATE:20251031
DTEND;VALUE=DATE:20251102
DTSTAMP:20260421T124845
CREATED:20251003T165610Z
LAST-MODIFIED:20251017T175320Z
UID:15465-1761879600-1761965999@www.nelliessportsbar.com
SUMMARY:Halloween :: Scariest Costume Contest
DESCRIPTION:🎃💀 Fear Meets Fierce—Halloween Night at Nellie’s! 💀🎃Sponsored by Casamigos 🥃✨ \nWe’ve got your perfect Halloween sorted: DJs kick things off at 10 PM\, and our Scariest Costume Contest hits at midnight with big prizes on the line. 🕷️ \n🥇 $300 Grand Prize🥈 2 Tickets to the Famous Nellie’s Drag Brunch🥉 $50 Bar Tab \nBring your scariest\, creepiest\, most haunting look and join us for a Halloween night you won’t forget—fueled by Casamigos and Nellie’s signature spooky fun. 👻🍹 \n#HalloweenDC #CostumeContest #NelliesSportsBar #BeNellie #SpookySeason
URL:https://www.nelliessportsbar.com/event/halloween-scariest-costume-contest/
ATTACH;FMTTYPE=image/jpeg:https://cdn.nelliessportsbar.com/2025/10/Halloween-2025_CASAMIGOS.jpg
END:VEVENT
END:VCALENDAR