BEGIN:VCALENDAR
VERSION:2.0
PRODID:-//Nellie&#039;s Sports Bar - ECPv6.15.20//NONSGML v1.0//EN
CALSCALE:GREGORIAN
METHOD:PUBLISH
X-WR-CALNAME:Nellie&#039;s Sports Bar
X-ORIGINAL-URL:https://www.nelliessportsbar.com
X-WR-CALDESC:Events for Nellie&#039;s Sports Bar
REFRESH-INTERVAL;VALUE=DURATION:PT1H
X-Robots-Tag:noindex
X-PUBLISHED-TTL:PT1H
BEGIN:VTIMEZONE
TZID:America/New_York
BEGIN:DAYLIGHT
TZOFFSETFROM:-0500
TZOFFSETTO:-0400
TZNAME:EDT
DTSTART:20240310T070000
END:DAYLIGHT
BEGIN:STANDARD
TZOFFSETFROM:-0400
TZOFFSETTO:-0500
TZNAME:EST
DTSTART:20241103T060000
END:STANDARD
BEGIN:DAYLIGHT
TZOFFSETFROM:-0500
TZOFFSETTO:-0400
TZNAME:EDT
DTSTART:20250309T070000
END:DAYLIGHT
BEGIN:STANDARD
TZOFFSETFROM:-0400
TZOFFSETTO:-0500
TZNAME:EST
DTSTART:20251102T060000
END:STANDARD
BEGIN:DAYLIGHT
TZOFFSETFROM:-0500
TZOFFSETTO:-0400
TZNAME:EDT
DTSTART:20260308T070000
END:DAYLIGHT
BEGIN:STANDARD
TZOFFSETFROM:-0400
TZOFFSETTO:-0500
TZNAME:EST
DTSTART:20261101T060000
END:STANDARD
BEGIN:DAYLIGHT
TZOFFSETFROM:-0500
TZOFFSETTO:-0400
TZNAME:EDT
DTSTART:20270314T070000
END:DAYLIGHT
BEGIN:STANDARD
TZOFFSETFROM:-0400
TZOFFSETTO:-0500
TZNAME:EST
DTSTART:20271107T060000
END:STANDARD
END:VTIMEZONE
BEGIN:VEVENT
DTSTART;VALUE=DATE:20251202
DTEND;VALUE=DATE:20251204
DTSTAMP:20260421T113155
CREATED:20251128T164510Z
LAST-MODIFIED:20251128T164510Z
UID:15499-1764644400-1764730799@www.nelliessportsbar.com
SUMMARY:Giving Tuesday: $20 Drag Brunch Tickets!
DESCRIPTION:🎁✨ Giving Tuesday is here — and we’re celebrating by giving back.  \nToday only\, grab $20 Drag Brunch tickets valid for the December 13 & 14 brunches\, with 100% of proceeds supporting Peace for DC. 💛\n It’s the easiest way to do something good and lock in a joyful holiday weekend with the queens. 💃🍳 \nMake someone’s day (including your own!) with a brunch ticket that gives back to the community. 🎄🙌 \nJoin us for Nellie’s Drag Brunch every Saturday & Sunday and see why we’re rated #1! Enjoy our All-You-Can-Eat Brunch Buffet and dazzling performances led by Sapphire Blue\, Deja Diamond and all our show-stopping queens. Plus\, your first Mimosa or Bloody Mary is FREE! 🍹🌟\n Limited spots—don’t press your luck! Grab your tickets now! 👉 https://tinyurl.com/5ayx5ndt\n  \n#GivingTuesday #NelliesDragBrunch #PeaceForDC #NelliesSportsBar #BeNellie
URL:https://www.nelliessportsbar.com/event/giving-tuesday-20-drag-brunch-tickets/
ATTACH;FMTTYPE=image/jpeg:https://cdn.nelliessportsbar.com/2025/11/Giving-Tuesday_16x9.jpg
END:VEVENT
BEGIN:VEVENT
DTSTART;VALUE=DATE:20251202
DTEND;VALUE=DATE:20251204
DTSTAMP:20260421T113155
CREATED:20251128T165307Z
LAST-MODIFIED:20251128T165307Z
UID:15519-1764644400-1764730799@www.nelliessportsbar.com
SUMMARY:Cupid's Undie Run Drag Bingo Fundraiser
DESCRIPTION:🎉❤️Join us for a special Drag Bingo Fundraiser benefiting the Children’s Tumor Foundation and the Cupid’s Undie Run! \nSapphire Blue and Deja Diamond are hosting an unforgettable night of laughs\, numbers\, and doing good for the community. 💃✨ \nGrab your friends\, grab a card\, and help us support an amazing cause — all while having the most fun Tuesday night in DC. 🎲🌟 \nTuesday 12/2 at 7pm — see you at Nellie’s! \n#NelliesSportsBar #DragBingo #DCEvents #BeNellie #CupidsUndieRun #SupportTheCause
URL:https://www.nelliessportsbar.com/event/cupids-undie-run-drag-bingo-fundraiser/
ATTACH;FMTTYPE=image/jpeg:https://cdn.nelliessportsbar.com/2025/11/Fun-Run-Dec-2.jpg
END:VEVENT
BEGIN:VEVENT
DTSTART;VALUE=DATE:20251205
DTEND;VALUE=DATE:20251207
DTSTAMP:20260421T113155
CREATED:20251128T164611Z
LAST-MODIFIED:20251128T164611Z
UID:15506-1764903600-1764989999@www.nelliessportsbar.com
SUMMARY:National Bartender Day
DESCRIPTION:🍸✨ It’s National Bartender Day\, and we’re celebrating the incredible Nellie’s team that keeps the drinks flowing and the nights unforgettable. Swing by\, raise a glass\, and show some love to the folks behind the bar who make every weekend feel like a party. 🙌❤️ \nTonight we’ve got $1 Wings until 9pm\, Hennessy Strawberry Slushies\, and Nellie’s DJs at 10pm to keep the vibe going strong. 🎶🔥 \nYour favorite weekend starts with your favorite bartenders — see you tonight! \n#NationalBartenderDay #NellesSportsBar #BeNellie #DCNightlife #NelliesDJs
URL:https://www.nelliessportsbar.com/event/national-bartender-day/
ATTACH;FMTTYPE=image/jpeg:https://cdn.nelliessportsbar.com/2025/11/National-Bartender-Day_16x9.jpg
END:VEVENT
BEGIN:VEVENT
DTSTART;VALUE=DATE:20251210
DTEND;VALUE=DATE:20251212
DTSTAMP:20260421T113155
CREATED:20251128T165003Z
LAST-MODIFIED:20251128T165003Z
UID:15515-1765335600-1765421999@www.nelliessportsbar.com
SUMMARY:Holiday Trivia
DESCRIPTION:🎄🧠 Holiday season got you spinning? Out of Bounds Trivia is here to give your week a cozy reset.  \nGrab your crew\, settle in with $1 Wings until 9pm and $15 Beer Buckets\, and let Santa walk you straight into a Wednesday night win. 🍗🍺✨ \nIt’s the perfect mix of festive fun\, friendly competition\, and that classic Nellie’s energy. \nWhether you’re here for the laughs\, the snacks\, or the bragging rights\, holiday trivia nights hit different at Nellie’s. See you at 7:30pm! 🎅📣 \n#NelliesTrivia #Holiday2025 #NelliesSportsBar #BeNellie #DCEvents
URL:https://www.nelliessportsbar.com/event/holiday-trivia/
ATTACH;FMTTYPE=image/jpeg:https://cdn.nelliessportsbar.com/2025/11/Holiday-Trivia_16x9.jpg
END:VEVENT
BEGIN:VEVENT
DTSTART;VALUE=DATE:20251226
DTEND;VALUE=DATE:20251230
DTSTAMP:20260421T113155
CREATED:20251128T164842Z
LAST-MODIFIED:20251128T164842Z
UID:15512-1766718000-1766977199@www.nelliessportsbar.com
SUMMARY:"Home for the Holidays" Weekend!
DESCRIPTION:🎄✨ Home for the holidays and ready to get out of the house? Nellie’s is calling! \nThe weekend after Christmas is always one of the biggest and most joyful of the year — everyone’s back in town\, the energy is high\, and the nights get wild in the best way. 🍹🔥\n \nWe’ve got DJs all weekend\, Jell-O Shots\, Slushies & specialty cocktails\, plus $1 Wings (until 9pm) to kick off your night the right way. 🙌🎶 \nGrab your friends\, your siblings\, your cousins — whoever you’ve got in town — and meet us at Nellie’s tonight. Let’s keep the holiday celebrations going! \n #HomeForTheHolidays #NelliesSportsBar #BeNellie #DCNightlife
URL:https://www.nelliessportsbar.com/event/home-for-the-holidays-weekend/
ATTACH;FMTTYPE=image/jpeg:https://cdn.nelliessportsbar.com/2025/11/Home-for-the-Holidays_16x9.jpg
END:VEVENT
BEGIN:VEVENT
DTSTART;VALUE=DATE:20251231
DTEND;VALUE=DATE:20260102
DTSTAMP:20260421T113155
CREATED:20251128T164724Z
LAST-MODIFIED:20251128T164724Z
UID:15509-1767150000-1767236399@www.nelliessportsbar.com
SUMMARY:New Year's Eve
DESCRIPTION:🎆✨ It’s finally here — New Year’s Eve at Nellie’s! Join us as we ring in 2026 with dancing\, DJs\, festive drinks\, and that iconic Nellie’s champagne toast at midnight. 🍾🥂 \n Whether you’re stopping by with friends or making new ones on the dance floor\, tonight is all about big energy and even bigger celebration. \nArrive early\, grab a drink\, and let’s welcome the new year together. \n #NewYearsEve #NelliesSportsBar #BeNellie #NYE2026 #DCNightlife
URL:https://www.nelliessportsbar.com/event/new-years-eve/
ATTACH;FMTTYPE=image/jpeg:https://cdn.nelliessportsbar.com/2025/11/New-Years-Eve_16x9.jpg
END:VEVENT
END:VCALENDAR