BEGIN:VCALENDAR
VERSION:2.0
PRODID:-//Nellie&#039;s Sports Bar - ECPv6.15.20//NONSGML v1.0//EN
CALSCALE:GREGORIAN
METHOD:PUBLISH
X-WR-CALNAME:Nellie&#039;s Sports Bar
X-ORIGINAL-URL:https://www.nelliessportsbar.com
X-WR-CALDESC:Events for Nellie&#039;s Sports Bar
REFRESH-INTERVAL;VALUE=DURATION:PT1H
X-Robots-Tag:noindex
X-PUBLISHED-TTL:PT1H
BEGIN:VTIMEZONE
TZID:America/New_York
BEGIN:DAYLIGHT
TZOFFSETFROM:-0500
TZOFFSETTO:-0400
TZNAME:EDT
DTSTART:20250309T070000
END:DAYLIGHT
BEGIN:STANDARD
TZOFFSETFROM:-0400
TZOFFSETTO:-0500
TZNAME:EST
DTSTART:20251102T060000
END:STANDARD
BEGIN:DAYLIGHT
TZOFFSETFROM:-0500
TZOFFSETTO:-0400
TZNAME:EDT
DTSTART:20260308T070000
END:DAYLIGHT
BEGIN:STANDARD
TZOFFSETFROM:-0400
TZOFFSETTO:-0500
TZNAME:EST
DTSTART:20261101T060000
END:STANDARD
BEGIN:DAYLIGHT
TZOFFSETFROM:-0500
TZOFFSETTO:-0400
TZNAME:EDT
DTSTART:20270314T070000
END:DAYLIGHT
BEGIN:STANDARD
TZOFFSETFROM:-0400
TZOFFSETTO:-0500
TZNAME:EST
DTSTART:20271107T060000
END:STANDARD
END:VTIMEZONE
BEGIN:VEVENT
DTSTART;VALUE=DATE:20260102
DTEND;VALUE=DATE:20260329
DTSTAMP:20260421T094642
CREATED:20251230T183453Z
LAST-MODIFIED:20251230T183453Z
UID:15533-1767322800-1774666799@www.nelliessportsbar.com
SUMMARY:RuPaul's Drag Race Watch Party - FRIDAYS
DESCRIPTION:👑✨ RuPaul’s Drag Race is BACK at Nellie’s! ✨👑 \nJoin us for the season premiere on our big screen projector\, then keep the party going with $6 cocktails until 10pm and a Nellie’s DJ spinning right after the episode ends. 🍹🎶 \nCome for the runway\, stay for the drinks\, the dancing\, and all the Drag Race discourse you’ve been waiting for. This is how Fridays are done. 💃🔥 \n#DragRace #NelliesSportsBar #BeNellie #WatchWithUs #DCNightlife
URL:https://www.nelliessportsbar.com/event/rupauls-drag-race-watch-party-fridays/
ATTACH;FMTTYPE=image/jpeg:https://cdn.nelliessportsbar.com/2025/12/Rupaul-Season-18_16x9.jpg
END:VEVENT
BEGIN:VEVENT
DTSTART;VALUE=DATE:20260206
DTEND;VALUE=DATE:20260224
DTSTAMP:20260421T094642
CREATED:20260130T172654Z
LAST-MODIFIED:20260130T172654Z
UID:15573-1770346800-1771815599@www.nelliessportsbar.com
SUMMARY:The Winter Olympics @ Nellie's!
DESCRIPTION:🥇❄️ Let the Winter Games begin. ❄️🥇 \nFrom edge-of-your-seat finishes to blink-and-you-miss-it moments\, the Winter Olympics are here—one of those events that only comes around every four years\, and always worth watching together. Nellie’s will be showing highlights every night through the Closing Ceremony on February 22\, so you never miss the moments everyone’s talking about. ⛷️🏒 \nMake it a night with $15 buckets of beer all night and $1 wings until 9PM\, plus all the screens\, drinks\, and vibes you need to settle in and enjoy the action. \n#NelliesSportsBar #WinterOlympics #BeNellie #DCBars
URL:https://www.nelliessportsbar.com/event/the-winter-olympics-nellies/
ATTACH;FMTTYPE=image/jpeg:https://cdn.nelliessportsbar.com/2026/01/Winter-Olympics_16x9.jpg
END:VEVENT
BEGIN:VEVENT
DTSTART;VALUE=DATE:20260207
DTEND;VALUE=DATE:20260209
DTSTAMP:20260421T094642
CREATED:20260128T185508Z
LAST-MODIFIED:20260128T185508Z
UID:15560-1770433200-1770519599@www.nelliessportsbar.com
SUMMARY:Sex and the City Trivia
DESCRIPTION:🍸✨ A Very Sex and the City Trivia Night ✨🍸 \nIn case you can’t get enough of our weekly Out of Bounds Trivia every Wednesday\, we’re serving up a one-night-only special edition inspired by Sex and the City. 💕🗽 \nJoin us this Saturday 2/7 at 7PM to test your knowledge\, enjoy $8 Tito’s cocktails (including the signature Cosmo Cocktail)\, and snack on $1 wings while you play. Once trivia wraps\, keep the night going with everything that makes a Saturday at Nellie’s a party—from great music to a packed dance floor. 🍸✨ \n#BeNellie #SexAndTheTrivia #DCTrivia #NelliesSportsBar #CarrieBradshaw
URL:https://www.nelliessportsbar.com/event/sex-and-the-city-trivia/
ATTACH;FMTTYPE=image/jpeg:https://cdn.nelliessportsbar.com/2026/01/SATC-Trivia_edit_16x9.jpg
END:VEVENT
BEGIN:VEVENT
DTSTART;VALUE=DATE:20260208
DTEND;VALUE=DATE:20260210
DTSTAMP:20260421T094642
CREATED:20260112T173121Z
LAST-MODIFIED:20260112T173121Z
UID:15549-1770519600-1770605999@www.nelliessportsbar.com
SUMMARY:City Dogs & City Kitties Resue Drag Brunch FUNDRAISER!
DESCRIPTION:Join us for a special Drag Brunch fundraiser benefiting City Dogs & City Kitties Rescue (CDCK)! On Sunday\, February 8 at 1:00pm\, Nellie’s Sports Bar is hosting a high-energy Drag Brunch in support of CDCK’s lifesaving work. Expect fabulous performances\, a lively brunch atmosphere\, and plenty of reasons to celebrate—while giving back. 25% of ticket sales will be donated directly to City Dogs & City Kitties Rescue\, helping support animals in need throughout our community. It’s the perfect way to spend your Sunday brunching with purpose and supporting a great cause.
URL:https://www.nelliessportsbar.com/event/city-dogs-city-kitties-resue-drag-brunch-fundraiser/
ATTACH;FMTTYPE=image/jpeg:https://cdn.nelliessportsbar.com/2026/01/CDCK-Drag-BrunchC_16x9.jpg
END:VEVENT
BEGIN:VEVENT
DTSTART;VALUE=DATE:20260208
DTEND;VALUE=DATE:20260210
DTSTAMP:20260421T094642
CREATED:20260130T165927Z
LAST-MODIFIED:20260130T165927Z
UID:15565-1770519600-1770605999@www.nelliessportsbar.com
SUMMARY:Super Bowl Sunday
DESCRIPTION:🏈🎉 The Ultimate Sunday Funday starts here. 🎉🏈 \nGame on\, the drinks are flowing\, and the wings ready to go—Nellie’s is the place to post up for the big game on our big screen projector. Grab a bucket of beer\, load up on all your comfort food favs\, and settle in with your crew for a full-on Super Bowl Sunday. 🍻🍗 \nThe game gets started at 6:30PM\, so come early to snag the best spot and get comfortable before kickoff. Lock down your Sunday plans now and do the Super Bowl the Nellie’s way. 🏟️✨ \n#NelliesSportsBar #BeNellie #SundayFunday #SuperBowlSunday
URL:https://www.nelliessportsbar.com/event/super-bowl-sunday/
ATTACH;FMTTYPE=image/jpeg:https://cdn.nelliessportsbar.com/2026/01/Super-Bowl-Sunday_16x9.jpg
END:VEVENT
BEGIN:VEVENT
DTSTART;VALUE=DATE:20260213
DTEND;VALUE=DATE:20260217
DTSTAMP:20260421T094642
CREATED:20260130T172814Z
LAST-MODIFIED:20260130T172814Z
UID:15576-1770951600-1771210799@www.nelliessportsbar.com
SUMMARY:Presidents' Day Weekend
DESCRIPTION:🎉✨ February is short\, but the weekend is LONG. ✨🎉 \nA three-day weekend is ahead\, and Nellie’s is stacked from Friday through Sunday. Kick things off with RuPaul Fridays at 8PM\, roll into Saturday Happy Hour until 7PM\, and close it out with BOGO Sundays from 6–9PM. 💃🍹 \nAdd in Nellie’s best DJs all weekend long—Friday & Saturday starting at 10PM\, Sunday at 6PM—and you’ve got every reason to clear your calendar and go all in. The long weekend starts now… let’s go! 🔥 \n#NelliesSportsBar #LongWeekend #BeNellie #WeekendVibes #PresidentsDayWeekend
URL:https://www.nelliessportsbar.com/event/presidents-day-weekend/
ATTACH;FMTTYPE=image/jpeg:https://cdn.nelliessportsbar.com/2026/01/Presidents-Day_16x9.jpg
END:VEVENT
BEGIN:VEVENT
DTSTART;VALUE=DATE:20260214
DTEND;VALUE=DATE:20260216
DTSTAMP:20260421T094642
CREATED:20260130T170256Z
LAST-MODIFIED:20260130T170256Z
UID:15571-1771038000-1771124399@www.nelliessportsbar.com
SUMMARY:Lonely Hearts Disco - Valentine's Day
DESCRIPTION:💔🪩 Lonely Hearts Disco 🪩💔 \nValentine’s Day plans looking… flexible? Same. This Saturday night\, Nellie’s is turning heartbreak into a dance floor moment with Lonely Hearts Disco—a night for singles\, situationships\, and anyone who’d rather dance it out than sit at home. \nCome early for $6 cocktails until 7PM\, then stick around as the DJ kicks off at 10PM and the party takes over. No pressure – just good music\, good drinks\, and a room full of people on the same wavelength. 💃🕺 \n#NelliesSportsBar #LonelyHeartsDisco #ValentinesDay #SaturdayNight
URL:https://www.nelliessportsbar.com/event/lonely-hearts-disco-valentines-day/
ATTACH;FMTTYPE=image/jpeg:https://cdn.nelliessportsbar.com/2026/01/Valentines-Saturday_16x9.jpg
END:VEVENT
BEGIN:VEVENT
DTSTART;VALUE=DATE:20260217
DTEND;VALUE=DATE:20260219
DTSTAMP:20260421T094642
CREATED:20260130T172909Z
LAST-MODIFIED:20260130T172909Z
UID:15580-1771297200-1771383599@www.nelliessportsbar.com
SUMMARY:Mardi Gras Drag Bingo
DESCRIPTION:🎭💜 Mardi Gras Meets Drag Bingo 💚🎭 \nDrag Bingo already brings the energy every Tuesday—and Fat Tuesday is the perfect excuse to turn it up a notch. Join us for all the sass\, laughs\, and prizes you love\, plus $8 Tito’s cocktails all night and a special $8 Hurricane cocktail (a delicious\, fruity rum concoction) to celebrate the start of Mardi Gras. 🍹✨ \nIt’s colorful\, it’s chaotic (in the best way)\, and it’s exactly how Fat Tuesday should be spent. Grab a drink\, grab a card\, and let the good times roll at Nellie’s. 💃🎉 \n#NelliesSportsBar #DragBingo #FatTuesday #BeNellie
URL:https://www.nelliessportsbar.com/event/mardi-gras-drag-bingo/
ATTACH;FMTTYPE=image/jpeg:https://cdn.nelliessportsbar.com/2026/01/Fat-Tuesday-Drag-Bingo_16x9.jpg
END:VEVENT
END:VCALENDAR