BEGIN:VCALENDAR
VERSION:2.0
PRODID:-//Nellie&#039;s Sports Bar - ECPv6.15.20//NONSGML v1.0//EN
CALSCALE:GREGORIAN
METHOD:PUBLISH
X-WR-CALNAME:Nellie&#039;s Sports Bar
X-ORIGINAL-URL:https://www.nelliessportsbar.com
X-WR-CALDESC:Events for Nellie&#039;s Sports Bar
REFRESH-INTERVAL;VALUE=DURATION:PT1H
X-Robots-Tag:noindex
X-PUBLISHED-TTL:PT1H
BEGIN:VTIMEZONE
TZID:America/New_York
BEGIN:DAYLIGHT
TZOFFSETFROM:-0500
TZOFFSETTO:-0400
TZNAME:EDT
DTSTART:20250309T070000
END:DAYLIGHT
BEGIN:STANDARD
TZOFFSETFROM:-0400
TZOFFSETTO:-0500
TZNAME:EST
DTSTART:20251102T060000
END:STANDARD
BEGIN:DAYLIGHT
TZOFFSETFROM:-0500
TZOFFSETTO:-0400
TZNAME:EDT
DTSTART:20260308T070000
END:DAYLIGHT
BEGIN:STANDARD
TZOFFSETFROM:-0400
TZOFFSETTO:-0500
TZNAME:EST
DTSTART:20261101T060000
END:STANDARD
BEGIN:DAYLIGHT
TZOFFSETFROM:-0500
TZOFFSETTO:-0400
TZNAME:EDT
DTSTART:20270314T070000
END:DAYLIGHT
BEGIN:STANDARD
TZOFFSETFROM:-0400
TZOFFSETTO:-0500
TZNAME:EST
DTSTART:20271107T060000
END:STANDARD
END:VTIMEZONE
BEGIN:VEVENT
DTSTART;VALUE=DATE:20260102
DTEND;VALUE=DATE:20260329
DTSTAMP:20260421T084702
CREATED:20251230T183453Z
LAST-MODIFIED:20251230T183453Z
UID:15533-1767322800-1774666799@www.nelliessportsbar.com
SUMMARY:RuPaul's Drag Race Watch Party - FRIDAYS
DESCRIPTION:👑✨ RuPaul’s Drag Race is BACK at Nellie’s! ✨👑 \nJoin us for the season premiere on our big screen projector\, then keep the party going with $6 cocktails until 10pm and a Nellie’s DJ spinning right after the episode ends. 🍹🎶 \nCome for the runway\, stay for the drinks\, the dancing\, and all the Drag Race discourse you’ve been waiting for. This is how Fridays are done. 💃🔥 \n#DragRace #NelliesSportsBar #BeNellie #WatchWithUs #DCNightlife
URL:https://www.nelliessportsbar.com/event/rupauls-drag-race-watch-party-fridays/
ATTACH;FMTTYPE=image/jpeg:https://cdn.nelliessportsbar.com/2025/12/Rupaul-Season-18_16x9.jpg
END:VEVENT
BEGIN:VEVENT
DTSTART;VALUE=DATE:20260307
DTEND;VALUE=DATE:20260310
DTSTAMP:20260421T084702
CREATED:20260305T175315Z
LAST-MODIFIED:20260305T175315Z
UID:15586-1772852400-1773025199@www.nelliessportsbar.com
SUMMARY:Spring Forward Party!
DESCRIPTION:⏰🌸 Spring Forward at Nellie’s. \nSend winter off the right way tonight and get ready to celebrate an extra hour of daylight tomorrow. ☀️ \nJoin us Sunday for our Daylight Savings Party — DJ at 5PM\, $1 wings until 9PM\, and BOGO drinks from 6–9PM. \nLonger days. Better nights. See you at Nellie’s. \n#NelliesSportsBar #BeNellie #SpringForward #DaylightSavings #DCNightlife
URL:https://www.nelliessportsbar.com/event/spring-forward-party/
ATTACH;FMTTYPE=image/jpeg:https://cdn.nelliessportsbar.com/2026/03/Spring-Forward_16x9.jpg
END:VEVENT
BEGIN:VEVENT
DTSTART;TZID=America/New_York:20260310T080000
DTEND;TZID=America/New_York:20260310T170000
DTSTAMP:20260421T084702
CREATED:20260305T175521Z
LAST-MODIFIED:20260305T175521Z
UID:15594-1773129600-1773162000@www.nelliessportsbar.com
SUMMARY:FKA Twigs Ticket Giveaway :: Drag Bingo Event
DESCRIPTION:🎤 Win Tickets to See FKA twigs! 🎤\nDrag Bingo kicks off at 7PM — and we’re giving away a pair of tickets to see FKA twigs live at The Anthem on March 18.\nHosted by Sapphire Blue and Deja Diamond\, with $8 Tito’s cocktails all night. 🍸\nGrab your friends\, grab a drink\, and bring your best bingo energy — you might be leaving with tickets to one of the most talked-about shows of the season.\n#NelliesSportsBar #FKATwigs #DragBingo #NelliesGiveaway #DCEvents
URL:https://www.nelliessportsbar.com/event/fka-twigs-ticket-giveaway-drag-bingo-event/
ATTACH;FMTTYPE=image/jpeg:https://cdn.nelliessportsbar.com/2026/03/FKA-Twigs-Giveaway_16x9-Copy.jpg
END:VEVENT
BEGIN:VEVENT
DTSTART;TZID=America/New_York:20260313T080000
DTEND;TZID=America/New_York:20260317T170000
DTSTAMP:20260421T084702
CREATED:20260305T175612Z
LAST-MODIFIED:20260305T175612Z
UID:15596-1773388800-1773766800@www.nelliessportsbar.com
SUMMARY:Saint Patrick's Weekend
DESCRIPTION:🍀 St. Patrick’s Weekend at Nellie’s 🍀\nMarch 13–15\, we’re turning the volume up and the drinks green. Grab your crew\, throw on something festive\, and celebrate all weekend long. 🍻\n$3 Green Jell-O Shots\n$7 Guinness\n$12 Irish Mudslides\n$15 Shamrockaritas\nGood vibes. Loud cheers. Zero luck required.\n#NelliesSportsBar #BeNellie #StPatricksWeekend #DCNightlife #UStreet
URL:https://www.nelliessportsbar.com/event/saint-patricks-weekend/
ATTACH;FMTTYPE=image/jpeg:https://cdn.nelliessportsbar.com/2026/03/St-Patricks-_16x9.jpg
END:VEVENT
BEGIN:VEVENT
DTSTART;VALUE=DATE:20260315
DTEND;VALUE=DATE:20260317
DTSTAMP:20260421T084702
CREATED:20260305T175703Z
LAST-MODIFIED:20260305T175703Z
UID:15598-1773543600-1773629999@www.nelliessportsbar.com
SUMMARY:Oscar's Watch Party
DESCRIPTION:We come to this place… for magic. 💃✨ \nWe come to Nellie’s to laugh\, to gasp\, to argue about who should’ve won the Oscar. \nBecause we need that\, all of us\, that indescribable feeling we get when the lights begin to dim and the big screen projector comes to life. \nDazzling performances on a huge screen. Sound you can feel.\nSomehow\, dramatic speeches feel right in a place like this. \nOur BOGO drink special from 6–9PM feels like the best part of us\, and the wins feel perfect and powerful. \nBecause here\, they are. \nOscars Watch Party at Nellie’s.\nSee you tonight. 🍸✨ \n#NelliesSportsBar #OscarsWatchParty #BeNellie #DCEvents
URL:https://www.nelliessportsbar.com/event/oscars-watch-party-2/
ATTACH;FMTTYPE=image/jpeg:https://cdn.nelliessportsbar.com/2026/03/Oscars_16x9-Copy.jpg
END:VEVENT
BEGIN:VEVENT
DTSTART;VALUE=DATE:20260320
DTEND;VALUE=DATE:20260322
DTSTAMP:20260421T084702
CREATED:20260305T175752Z
LAST-MODIFIED:20260305T175752Z
UID:15601-1773975600-1774061999@www.nelliessportsbar.com
SUMMARY:SASHAY :: A New Friday Drag Experience
DESCRIPTION:✨ SASHAY Debuts at Nellie’s ✨ \nA brand new Friday night drag experience hits the stage on March 20. Hosted by Druex Sidora\, SASHAY is bringing high energy\, big performances\, and a fresh vibe to Nellie’s. \nJoin us at 9:30PM — and get here early for Drag Power Hour from 8:30–10PM with $1 wings and $6 rail cocktails. \nAnd this is just the beginning… your 1st and 3rd Fridays every month belong to SASHAY. 💃🔥 \n#NelliesSportsBar #BeNellie #Sashay #DCDrag #FridayNight
URL:https://www.nelliessportsbar.com/event/sashay-a-new-friday-drag-experience/
ATTACH;FMTTYPE=image/jpeg:https://cdn.nelliessportsbar.com/2026/03/Sashay_Social.jpg
END:VEVENT
BEGIN:VEVENT
DTSTART;VALUE=DATE:20260331
DTEND;VALUE=DATE:20260402
DTSTAMP:20260421T084702
CREATED:20260305T175914Z
LAST-MODIFIED:20260305T175914Z
UID:15603-1774926000-1775012399@www.nelliessportsbar.com
SUMMARY:Trans Day of Visibility
DESCRIPTION:Today Nellie’s celebrates Trans Day of Visibility. 💙🩷🤍 \nVisibility matters. Joy matters. Community matters. \nJoin Nellie’s tonight for Drag Bingo at 7PM and Karaoke at 9PM as we come together\, lift each other up\, and celebrate loudly. \n$8 Tito’s cocktails all night. \nSee you on the mic. 🌈 \n#TransDayOfVisibility #BeNellie #NelliesSportsBar #DragBingo #KaraokeNight
URL:https://www.nelliessportsbar.com/event/trans-day-of-visibility/
ATTACH;FMTTYPE=image/jpeg:https://cdn.nelliessportsbar.com/2026/03/Trans-Day-of-Visibility_16x9.jpg
END:VEVENT
END:VCALENDAR